BEGIN:VCALENDAR
VERSION:2.0
PRODID:-//SCEA - ECPv6.14.0//NONSGML v1.0//EN
CALSCALE:GREGORIAN
METHOD:PUBLISH
X-WR-CALNAME:SCEA
X-ORIGINAL-URL:https://scea.cat
X-WR-CALDESC:Esdeveniments per SCEA
REFRESH-INTERVAL;VALUE=DURATION:PT1H
X-Robots-Tag:noindex
X-PUBLISHED-TTL:PT1H
BEGIN:VTIMEZONE
TZID:Europe/Madrid
BEGIN:DAYLIGHT
TZOFFSETFROM:+0100
TZOFFSETTO:+0200
TZNAME:CEST
DTSTART:20230326T010000
END:DAYLIGHT
BEGIN:STANDARD
TZOFFSETFROM:+0200
TZOFFSETTO:+0100
TZNAME:CET
DTSTART:20231029T010000
END:STANDARD
END:VTIMEZONE
BEGIN:VEVENT
DTSTART;TZID=Europe/Madrid:20230320T190000
DTEND;TZID=Europe/Madrid:20230320T190000
DTSTAMP:20260421T185751
CREATED:20230317T102228Z
LAST-MODIFIED:20230317T102228Z
UID:8121-1679338800-1679338800@scea.cat
SUMMARY:Presentació llibre "Terra Cremada"
DESCRIPTION:“El debat sobre el canvi climàtic s’ja acabat. Només cal que vingueu a l’estat de Califòrnia. Obseveu-ho amb els vostres propis ulls. No es un debat intel.lectual. Ni tan sols és discutible. És una maleïda energència climâtica. Això és real.” Això deia el governador de Califòrnia\, mentre visitava les zones cremades durant el seyembre del 2020. El llibre explica els actors i factors que intervenen en el canvi climàtic i com fer-hi front. L’immobilisme ja no és una opció.
URL:https://scea.cat/agenda/presentacio-llibre-terra-cremada/
LOCATION:Ona llibres
ATTACH;FMTTYPE=image/jpeg:https://scea.cat/wp-content/uploads/ninja-forms/7/IMG-20230302-WA0001-1.jpg
END:VEVENT
END:VCALENDAR