BEGIN:VCALENDAR
VERSION:2.0
PRODID:-//SCEA - ECPv6.14.0//NONSGML v1.0//EN
CALSCALE:GREGORIAN
METHOD:PUBLISH
X-WR-CALNAME:SCEA
X-ORIGINAL-URL:https://scea.cat
X-WR-CALDESC:Esdeveniments per SCEA
REFRESH-INTERVAL;VALUE=DURATION:PT1H
X-Robots-Tag:noindex
X-PUBLISHED-TTL:PT1H
BEGIN:VTIMEZONE
TZID:Europe/Madrid
BEGIN:DAYLIGHT
TZOFFSETFROM:+0100
TZOFFSETTO:+0200
TZNAME:CEST
DTSTART:20230326T010000
END:DAYLIGHT
BEGIN:STANDARD
TZOFFSETFROM:+0200
TZOFFSETTO:+0100
TZNAME:CET
DTSTART:20231029T010000
END:STANDARD
END:VTIMEZONE
BEGIN:VEVENT
DTSTART;TZID=Europe/Madrid:20230321T110000
DTEND;TZID=Europe/Madrid:20230321T110000
DTSTAMP:20260421T185751
CREATED:20230208T132806Z
LAST-MODIFIED:20230208T132806Z
UID:7988-1679396400-1679396400@scea.cat
SUMMARY:CAMINS D’AIGUA: MUNTANYA DE MONTJUÏC
DESCRIPTION:Farem un itinerari per diversos racons de Montjuïc per conèixer el cicle de l’aigua i la història dels Jardins de Laribal. Parlarem de les fonts ornamentals i de les fonts de beure; passarem per l’estanyol del Roserar d’Amargós; i visitarem els espais llegendaris de la Font del Gat i la Cascada de les Escales del Generalife. \nA càrrec de la Xarxa d’Equipaments Ambientals de Barcelona – XEAB\nActivitat emmarcada amb el dia mundial de l’aigua.
URL:https://scea.cat/agenda/camins-daigua-muntanya-de-montjuic/
LOCATION:Plaça Neptú
ATTACH;FMTTYPE=image/jpeg:https://scea.cat/wp-content/uploads/ninja-forms/7/Cartell_camins-daigua_Montjuic-1.jpg
END:VEVENT
BEGIN:VEVENT
DTSTART;TZID=Europe/Madrid:20230321T110000
DTEND;TZID=Europe/Madrid:20230321T110000
DTSTAMP:20260421T185751
CREATED:20230208T132842Z
LAST-MODIFIED:20230208T132842Z
UID:7983-1679396400-1679396400@scea.cat
SUMMARY:CAMINS D’AIGUA: MUNTANYA DE MONTJUÏC
DESCRIPTION:Farem un itinerari per diversos racons de Montjuïc per conèixer el cicle de l’aigua i la història dels Jardins de Laribal. Parlarem de les fonts ornamentals i de les fonts de beure; passarem per l’estanyol del Roserar d’Amargós; i visitarem els espais llegendaris de la Font del Gat i la Cascada de les Escales del Generalife. \nA càrrec de la Xarxa d’Equipaments Ambientals de Barcelona – XEAB\nActivitat emmarcada amb el dia mundial de l’aigua.
URL:https://scea.cat/agenda/camins-daigua-muntanya-de-montjuic-2/
LOCATION:Aula Ambiental Bosc Turull
ATTACH;FMTTYPE=image/jpeg:https://scea.cat/wp-content/uploads/ninja-forms/7/Cartell_camins-daigua_Montjuic.jpg
END:VEVENT
END:VCALENDAR