BEGIN:VCALENDAR
VERSION:2.0
PRODID:-//SCEA - ECPv6.14.0//NONSGML v1.0//EN
CALSCALE:GREGORIAN
METHOD:PUBLISH
X-ORIGINAL-URL:https://scea.cat
X-WR-CALDESC:Esdeveniments per SCEA
REFRESH-INTERVAL;VALUE=DURATION:PT1H
X-Robots-Tag:noindex
X-PUBLISHED-TTL:PT1H
BEGIN:VTIMEZONE
TZID:Europe/Madrid
BEGIN:DAYLIGHT
TZOFFSETFROM:+0100
TZOFFSETTO:+0200
TZNAME:CEST
DTSTART:20210328T010000
END:DAYLIGHT
BEGIN:STANDARD
TZOFFSETFROM:+0200
TZOFFSETTO:+0100
TZNAME:CET
DTSTART:20211031T010000
END:STANDARD
END:VTIMEZONE
BEGIN:VEVENT
DTSTART;TZID=Europe/Madrid:20211020T180000
DTEND;TZID=Europe/Madrid:20211020T193000
DTSTAMP:20260425T042350
CREATED:20211011T111836Z
LAST-MODIFIED:20211123T163917Z
UID:3938-1634752800-1634758200@scea.cat
SUMMARY:L’economia social i solidària des de l’educació ambiental
DESCRIPTION:Segona edició del taller Què és l’ESS? Reptes i oportunitats per treballar en l’ESS des de l’Educació Ambiental. La formació serà dinamitzada per la SCEA en un format en línia\, i participen les entitats sòcies Gisfera\, L’Aresta (Cooperativa agroecològica) i Espai Ambiental Cooperativa. \nL’objectiu de l’activitat és conèixer l’Economia social i solidària com a model econòmic alternatiu i transformador i identificar els reptes i oportunitats que ofereix pel sector de l’Educació Ambiental. \nMés informació i inscripcions
URL:https://scea.cat/agenda/leconomia-social-i-solidaria-des-de-leducacio-ambiental/
LOCATION:Online
CATEGORIES:ONLINE
ATTACH;FMTTYPE=image/png:https://scea.cat/wp-content/uploads/2021/10/Mailing-DiesInnoBA-SCEA.png
ORGANIZER;CN="Societat Catalana d'Educaci%C3%B3 Ambiental i Barcelona Activa":MAILTO:scea@scea.cat
END:VEVENT
BEGIN:VEVENT
DTSTART;TZID=Europe/Madrid:20211021T180000
DTEND;TZID=Europe/Madrid:20211021T193000
DTSTAMP:20260425T042350
CREATED:20211014T092813Z
LAST-MODIFIED:20211123T163904Z
UID:3966-1634839200-1634844600@scea.cat
SUMMARY:L'educació ambiental per la transició eco-social
DESCRIPTION:Dins el projecte Estenem la sostenibilitat\, un programa formatiu per tal d’estendre la cultura de la sostenibilitat\, amb el suport de l’Ajuntament de Barcelona\, us oferim aquesta píndola en línia.  Hi coneixerem conceptes clau sobre la transició eco-social\, amb quines eines i recursos hi contribuïm actualment com a educadors i educadores ambientals\, i experiències d’organitzacions que treballen en aquesta línia. \nA càrec de Mercè Jané (El Garrofer)\, Pati Homs (L’Aresta. Cooperativa Agroecològica) i organitzacions del sector. \nDisposem de 50 places (segons ordre d’inscripció\, prioritzant socis i sòcies de la SCEA) (Fes-te soci\, fes-te sòcia!) \nMés informació i inscripcions \n 
URL:https://scea.cat/agenda/leducacio-ambiental-per-la-transicio-eco-social/
CATEGORIES:ONLINE
ATTACH;FMTTYPE=image/jpeg:https://scea.cat/wp-content/uploads/2021/10/FB-i-TW-ESTENEM-TARDOR-2021.jpg
ORGANIZER;CN="Societat Catalana d'Educaci%C3%B3 Ambiental":MAILTO:scea@scea.cat
END:VEVENT
BEGIN:VEVENT
DTSTART;TZID=Europe/Madrid:20211026T180000
DTEND;TZID=Europe/Madrid:20211130T193000
DTSTAMP:20260425T042350
CREATED:20211020T221630Z
LAST-MODIFIED:20211123T152104Z
UID:4015-1635271200-1638300600@scea.cat
SUMMARY:La gestió emocional per a l’educació ambiental
DESCRIPTION:Curs de 4 sessions en línia\, de 18 a 19’30h  (1h’30 min durada). Els dimarts 26 d’octubre\, 2\, 9 i 23 de novembre. \nEn aquest curs aprendrem a gestionar les nostres emocions de manera efectiva per a cuidar-nos i cuidar el nostre entorn i les persones que ens envolten\, tenint en compte els aspectes fonamentals per a tenir una vida saludable i en harmonia amb el món en el que vivim.\nA càrrec de Yolanda Vidal\, coach i formadora en habilitats socials\, especialitzada en el desenvolupament personal i professional de persones i equips\, en base a hàbits i actituds saludables per a nosaltres i el món en el que vivim.\nMés informació i inscripcions
URL:https://scea.cat/agenda/la-gestio-emocional-per-a-leducacio-ambiental/
CATEGORIES:Destacat,ONLINE
ATTACH;FMTTYPE=image/jpeg:https://scea.cat/wp-content/uploads/2021/10/FB-i-TW-gestio-emocions-2021.jpg
END:VEVENT
END:VCALENDAR