BEGIN:VCALENDAR
VERSION:2.0
PRODID:-//SCEA - ECPv6.14.0//NONSGML v1.0//EN
CALSCALE:GREGORIAN
METHOD:PUBLISH
X-WR-CALNAME:SCEA
X-ORIGINAL-URL:https://scea.cat
X-WR-CALDESC:Esdeveniments per SCEA
REFRESH-INTERVAL;VALUE=DURATION:PT1H
X-Robots-Tag:noindex
X-PUBLISHED-TTL:PT1H
BEGIN:VTIMEZONE
TZID:Europe/Madrid
BEGIN:DAYLIGHT
TZOFFSETFROM:+0100
TZOFFSETTO:+0200
TZNAME:CEST
DTSTART:20220327T010000
END:DAYLIGHT
BEGIN:STANDARD
TZOFFSETFROM:+0200
TZOFFSETTO:+0100
TZNAME:CET
DTSTART:20221030T010000
END:STANDARD
END:VTIMEZONE
BEGIN:VEVENT
DTSTART;TZID=Europe/Madrid:20221005T093000
DTEND;TZID=Europe/Madrid:20221007T113000
DTSTAMP:20260423T130316
CREATED:20220922T210358Z
LAST-MODIFIED:20220922T210359Z
UID:6554-1664962200-1665142200@scea.cat
SUMMARY:Gamificació als Parcs Naturals de Catalunya
DESCRIPTION:Educació Ambiental als Parcs Naturals\n\n\nEn aquest curs coneixerem que és la gamificació i si de tot en podem fer un joc\, fins i tot als Parcs Naturals. Compartirem eines i recursos per a poder crear jocs i coneixerem experiències reals d’entitats del sector. \nEn la primera sessió descobrirem una tècnica que\, aplicada a la sensibilització i l’educació ambiental\, pot oferir un ventall de possibilitats en el disseny d’activats i projectes. \nEn la segona analitzarem casos reals i compartirem experiències\, que ens ajudaran a crear futures activitats innovadores als Parcs Naturals. \n\nMés informació
URL:https://scea.cat/agenda/gamificacio-als-parcs-naturals-de-catalunya/
CATEGORIES:ONLINE
ATTACH;FMTTYPE=image/jpeg:https://scea.cat/wp-content/uploads/2022/09/GAMIFICACIÓ-PARCS-22_SCEA-.jpg
END:VEVENT
END:VCALENDAR