BEGIN:VCALENDAR
VERSION:2.0
PRODID:-//SCEA - ECPv6.14.0//NONSGML v1.0//EN
CALSCALE:GREGORIAN
METHOD:PUBLISH
X-ORIGINAL-URL:https://scea.cat
X-WR-CALDESC:Esdeveniments per SCEA
REFRESH-INTERVAL;VALUE=DURATION:PT1H
X-Robots-Tag:noindex
X-PUBLISHED-TTL:PT1H
BEGIN:VTIMEZONE
TZID:Europe/Madrid
BEGIN:DAYLIGHT
TZOFFSETFROM:+0100
TZOFFSETTO:+0200
TZNAME:CEST
DTSTART:20220327T010000
END:DAYLIGHT
BEGIN:STANDARD
TZOFFSETFROM:+0200
TZOFFSETTO:+0100
TZNAME:CET
DTSTART:20221030T010000
END:STANDARD
END:VTIMEZONE
BEGIN:VEVENT
DTSTART;TZID=Europe/Madrid:20221128T180000
DTEND;TZID=Europe/Madrid:20221128T200000
DTSTAMP:20260423T112505
CREATED:20221122T090736Z
LAST-MODIFIED:20221122T090736Z
UID:7464-1669658400-1669665600@scea.cat
SUMMARY:Com millorar la participació comunitària en els projectes d'Educació Ambiental
DESCRIPTION:Píndola formativa adreçada a professionals vinculats a l’EA on treballarem la implicació i participació de la comunitat dins de les entitats i entorns d’Educació Ambiental. En concret\, treballarem: \n– Com captar l’atenció de persones\, col·lectius i entitats per promoure la seva participació.\n– Com establir vincles amb col·lectius i entitats d’interès.\n– Com facilitar la implicació i la motivació de la comunitat a llarg termini. \nLa metodologia de la sessió es basa en el protagonisme de les persones participants\, la importància de com portem a terme el procés i la necessitat del sentit finalista del treball. A partir de la reflexió teòrica arribarem a l’acció executiva i la implementació. \n👥 A càrrec de Montse Lamata\, llicenciada en psicologia (UAB)\, màster coaching amb PNL\, mentora de projectes\, coach d’equips i consultora organitzacional en empreses d’economia social. Membre de la Cooperativa Ensó per a nous models de governança. \n🪙 Formació gratuïta. Subvencionada al 100% a través del programa Estenem la sostenibilitat de l’Ajuntament de Barcelona.
URL:https://scea.cat/agenda/com-millorar-la-participacio-comunitaria-en-els-projectes-deducacio-ambiental/
LOCATION:Online
CATEGORIES:ONLINE
ATTACH;FMTTYPE=image/png:https://scea.cat/wp-content/uploads/ninja-forms/7/Captura-de-pantalla-2022-11-21-a-las-16.32.09.png
END:VEVENT
END:VCALENDAR