BEGIN:VCALENDAR
VERSION:2.0
PRODID:-//SCEA - ECPv6.14.0//NONSGML v1.0//EN
CALSCALE:GREGORIAN
METHOD:PUBLISH
X-ORIGINAL-URL:https://scea.cat
X-WR-CALDESC:Esdeveniments per SCEA
REFRESH-INTERVAL;VALUE=DURATION:PT1H
X-Robots-Tag:noindex
X-PUBLISHED-TTL:PT1H
BEGIN:VTIMEZONE
TZID:Europe/Madrid
BEGIN:DAYLIGHT
TZOFFSETFROM:+0100
TZOFFSETTO:+0200
TZNAME:CEST
DTSTART:20230326T010000
END:DAYLIGHT
BEGIN:STANDARD
TZOFFSETFROM:+0200
TZOFFSETTO:+0100
TZNAME:CET
DTSTART:20231029T010000
END:STANDARD
END:VTIMEZONE
BEGIN:VEVENT
DTSTART;TZID=Europe/Madrid:20230306T100000
DTEND;TZID=Europe/Madrid:20230306T100000
DTSTAMP:20260422T212619
CREATED:20230224T093618Z
LAST-MODIFIED:20230224T093618Z
UID:8058-1678096800-1678096800@scea.cat
SUMMARY:CONVOCATÒRIA II EDICIÓ PREMI CONSELL SOCIAL: "LA PEDAGOGIA EN L’AGENDA 2030"
DESCRIPTION:PRESENTACIÓ DE CANDIDATURES: del 20/02/2023 al 31/03/2023\nEl Consell Social impulsa i promou aquest premi\, fent seu el compromís del Col·legi Oficial de Pedagogia de Catalunya (d’ara en endavant COPEC) en relació a tres aspectes d’especial rellevància en aquest segle XXI: \nLa necessitat de donar visibilitat a pràctiques de referència i compartir-les dins del món professional i\, en el nostre cas\, dins de la Pedagogia. \nLa motivació del COPEC i dels diferents òrgans[1] que hi formen part\, per tal de contribuir en la seva mesura i possibilitat a la consecució d’un món millor fent seus els Objectius de Desenvolupament Sostenible[2] (ODS)\, amb una tasca de comunicació d’aquests objectius a pedagogs/gues i psicopedagogs/gues\, en particular\, i a la societat en general. \nLa voluntat de que la Pedagogia segueixi creixent i mostrant la seva integració amb el territori\, oferint aquest equilibri en la II Premi del Consell Social “La Pedagogia en l’Agenda 2030” per fomentar la creació de vincles pedagògics amb la societat. \nLa II Edició del Premi del Consell Social s’alinea amb l’Agenda 2030 i promou aquest premi amb la voluntat de contribuir en l’assoliment de societats justes\, equitatives i igualitàries\, posant en valor la Pedagogia i als pedagogs\, pedagogues\, psicopedagogs i psicopedagogues\, mitjançant el reconeixement del treball d’entitats que estiguin o hagin desenvolupat pràctiques pedagògiques de referència al voltant dels ODS.
URL:https://scea.cat/agenda/convocatoria-ii-edicio-premi-consell-social-la-pedagogia-en-lagenda-2030/
LOCATION:Online
CATEGORIES:ONLINE
ATTACH;FMTTYPE=image/png:https://scea.cat/wp-content/uploads/ninja-forms/7/Premi_ConsellSocial_2023_insta.png
END:VEVENT
END:VCALENDAR