BEGIN:VCALENDAR
VERSION:2.0
PRODID:-//SCEA - ECPv6.14.0//NONSGML v1.0//EN
CALSCALE:GREGORIAN
METHOD:PUBLISH
X-WR-CALNAME:SCEA
X-ORIGINAL-URL:https://scea.cat
X-WR-CALDESC:Esdeveniments per SCEA
REFRESH-INTERVAL;VALUE=DURATION:PT1H
X-Robots-Tag:noindex
X-PUBLISHED-TTL:PT1H
BEGIN:VTIMEZONE
TZID:Europe/Madrid
BEGIN:DAYLIGHT
TZOFFSETFROM:+0100
TZOFFSETTO:+0200
TZNAME:CEST
DTSTART:20230326T010000
END:DAYLIGHT
BEGIN:STANDARD
TZOFFSETFROM:+0200
TZOFFSETTO:+0100
TZNAME:CET
DTSTART:20231029T010000
END:STANDARD
END:VTIMEZONE
BEGIN:VEVENT
DTSTART;TZID=Europe/Madrid:20230418T080000
DTEND;TZID=Europe/Madrid:20230418T080000
DTSTAMP:20260422T195307
CREATED:20230421T090852Z
LAST-MODIFIED:20230421T090852Z
UID:8449-1681804800-1681804800@scea.cat
SUMMARY:Teixint un pensament sostenible
DESCRIPTION:Guies molt completes per treballar la sensibilització i conscienciació sobre els residus generats per l’industria de la moda.\nA la pàgina web\, hi podeu entrar amb el link i\, fent scroll\, us trobareu un formulari de control intern. al omplir-lo i enviar\, en tindreu accés al material.
URL:https://scea.cat/agenda/teixint-un-pensament-sostenible/
LOCATION:Online
CATEGORIES:ONLINE
END:VEVENT
END:VCALENDAR