BEGIN:VCALENDAR
VERSION:2.0
PRODID:-//SCEA - ECPv6.14.0//NONSGML v1.0//EN
CALSCALE:GREGORIAN
METHOD:PUBLISH
X-WR-CALNAME:SCEA
X-ORIGINAL-URL:https://scea.cat
X-WR-CALDESC:Esdeveniments per SCEA
REFRESH-INTERVAL;VALUE=DURATION:PT1H
X-Robots-Tag:noindex
X-PUBLISHED-TTL:PT1H
BEGIN:VTIMEZONE
TZID:Europe/Madrid
BEGIN:DAYLIGHT
TZOFFSETFROM:+0100
TZOFFSETTO:+0200
TZNAME:CEST
DTSTART:20210328T010000
END:DAYLIGHT
BEGIN:STANDARD
TZOFFSETFROM:+0200
TZOFFSETTO:+0100
TZNAME:CET
DTSTART:20211031T010000
END:STANDARD
END:VTIMEZONE
BEGIN:VEVENT
DTSTART;TZID=Europe/Madrid:20210429T170000
DTEND;TZID=Europe/Madrid:20210429T190000
DTSTAMP:20260426T010100
CREATED:20210413T140052Z
LAST-MODIFIED:20210413T140052Z
UID:2752-1619715600-1619722800@scea.cat
SUMMARY:Estrategias educativas hacia la sostenibilidad. Caminos de futuro. Seminario web
DESCRIPTION:El seminari “Estrategias educativas hacia la sostenibilidad. Caminos de futuro”\, organitzat pel Ministerio de Educación y Formación Profesional (MEFP)\, es planteja com un espai de reflexió crítica\, debat i intercanvi d’idees entre els diferents agents implicats en la sostenibilitat. En particular\, des del Ministerio es reconeix el paper cabdal dels centres educatius com a agents transformadors de les realitats locals per esdevenir una societat més inclusiva\, solidària\, justa i sostenible tant socialment com ambient. \nEl seminari es durà a terme a través de la plataforma zoom\, els propers dies 22\, 27 i 29 d’abril\, de 17-19h\, i té com objectius:\n– Fer una anàlisi crítica i reflexiva sobre la problemàtica sociambiental actual i donar a conéixer els principis i conceptes clau de l’Educació per la Sostenibilitat (EDS\n– Mostrar exemples\, agents i projectes relacionats amb l’EDS i en sintonia amb l’Agenda 2030\, d’acord amb la proposta de la UNESCO i com recull la  en afirmar que els centres educatius han d’esdevenir espais de custòdia i cura del medi ambient \nEn cadascuna de les jornades es presentaran diverses experiències educatives\, i hi haurà  taules de debat d’experts en Educació per la Sostenibilitat i tècnics de les diferents xarxes estatal\, en les quals hi serà present el programa Escoles Verdes i la Xarxa d’Escoles per la Sostenibilitat de Catalunya (XESC). \nEnllaç al Programa i + informació i enllaç a la inscripció (termini: fins el 21 d’abril de 2021 a les 23:59)
URL:https://scea.cat/agenda/estrategias-educativas-hacia-la-sostenibilidad-caminos-de-futuro-seminario-web-2021-04-29/
LOCATION:Online
CATEGORIES:ONLINE
ATTACH;FMTTYPE=image/jpeg:https://scea.cat/wp-content/uploads/2021/04/estrategias-sostenibilidad-scaled.jpeg
ORGANIZER;CN="Ministerio%C2%A0de Educaci%C3%B3n y Formaci%C3%B3n Profesional (MEFP)":MAILTO:http://www.educacionyfp.gob.es
END:VEVENT
END:VCALENDAR