BEGIN:VCALENDAR
VERSION:2.0
PRODID:-//SCEA - ECPv6.14.0//NONSGML v1.0//EN
CALSCALE:GREGORIAN
METHOD:PUBLISH
X-WR-CALNAME:SCEA
X-ORIGINAL-URL:https://scea.cat
X-WR-CALDESC:Esdeveniments per SCEA
REFRESH-INTERVAL;VALUE=DURATION:PT1H
X-Robots-Tag:noindex
X-PUBLISHED-TTL:PT1H
BEGIN:VTIMEZONE
TZID:Europe/Madrid
BEGIN:DAYLIGHT
TZOFFSETFROM:+0100
TZOFFSETTO:+0200
TZNAME:CEST
DTSTART:20210328T010000
END:DAYLIGHT
BEGIN:STANDARD
TZOFFSETFROM:+0200
TZOFFSETTO:+0100
TZNAME:CET
DTSTART:20211031T010000
END:STANDARD
END:VTIMEZONE
BEGIN:VEVENT
DTSTART;TZID=Europe/Madrid:20210527T163000
DTEND;TZID=Europe/Madrid:20210527T183000
DTSTAMP:20260426T010622
CREATED:20210518T121202Z
LAST-MODIFIED:20210518T121202Z
UID:3183-1622133000-1622140200@scea.cat
SUMMARY:Trobada virtual ‘Avancem cap a una alimentació sostenible’
DESCRIPTION:Des de Desos Opció Solidària et convidem a sumar-te a la nova jornada virtual que celebrem sota el títol “Avancem cap a una alimentació sostenible”. La trobada tindrà lloc el proper dijous 27 de maig a partir de les 16.45 hores i es durà a terme de forma telemàtica a través de la plataforma Zoom. Si vols inscriure-t’hi\, només has d’enviar un correu a transalimenta.desos@pangea.org \nEn aquesta trobada\, repensarem l’actual sistema agroalimentari i educatiu per avançar cap al futur que volem d’aquí 10 anys. Explorarem quins són els rols socioeducatius que hem d’adoptar i quines aliances podem crear per a promoure el dret a l’alimentació a través de l’Aprenentatge Servei \nLa trobada posarà el punt final al cicle de seminaris que hem estat realitzant en el marc del projecte Transalimenta al Baix Llobregat per tal d’elaborar conjuntament una guia educativa. El conjunt de jornades ha comptat amb la voluntat de crear espais de reflexió conjunta i també ha buscat fer créixer una xarxa socioeducativa per a la promoció del dret a l’alimentació. \nEl programa del curs inclourà els següents punts: \n16.45- 17.00 Benvinguda i presentació \n17.00-17.25 Alimentació sostenible en temps d’emergències \n17.25-17.40 El poder transformador de l’Aprenentatge Servei per a la garantia de dret a l’alimentació \n17.45- 18.20 Repensem el futur del sistema agroalimentari i educatiu: rols i aliances \n18:20- 18:30 Conclusions i tancament
URL:https://scea.cat/agenda/trobada-virtual-avancem-cap-a-una-alimentacio-sostenible/
LOCATION:Online
CATEGORIES:ONLINE
ATTACH;FMTTYPE=image/png:https://scea.cat/wp-content/uploads/ninja-forms/7/1.png
END:VEVENT
END:VCALENDAR