BEGIN:VCALENDAR
VERSION:2.0
PRODID:-//SCEA - ECPv6.14.0//NONSGML v1.0//EN
CALSCALE:GREGORIAN
METHOD:PUBLISH
X-WR-CALNAME:SCEA
X-ORIGINAL-URL:https://scea.cat
X-WR-CALDESC:Esdeveniments per SCEA
REFRESH-INTERVAL;VALUE=DURATION:PT1H
X-Robots-Tag:noindex
X-PUBLISHED-TTL:PT1H
BEGIN:VTIMEZONE
TZID:Europe/Madrid
BEGIN:DAYLIGHT
TZOFFSETFROM:+0100
TZOFFSETTO:+0200
TZNAME:CEST
DTSTART:20210328T010000
END:DAYLIGHT
BEGIN:STANDARD
TZOFFSETFROM:+0200
TZOFFSETTO:+0100
TZNAME:CET
DTSTART:20211031T010000
END:STANDARD
END:VTIMEZONE
BEGIN:VEVENT
DTSTART;TZID=Europe/Madrid:20211020T180000
DTEND;TZID=Europe/Madrid:20211020T193000
DTSTAMP:20260425T043008
CREATED:20211011T111836Z
LAST-MODIFIED:20211123T163917Z
UID:3938-1634752800-1634758200@scea.cat
SUMMARY:L’economia social i solidària des de l’educació ambiental
DESCRIPTION:Segona edició del taller Què és l’ESS? Reptes i oportunitats per treballar en l’ESS des de l’Educació Ambiental. La formació serà dinamitzada per la SCEA en un format en línia\, i participen les entitats sòcies Gisfera\, L’Aresta (Cooperativa agroecològica) i Espai Ambiental Cooperativa. \nL’objectiu de l’activitat és conèixer l’Economia social i solidària com a model econòmic alternatiu i transformador i identificar els reptes i oportunitats que ofereix pel sector de l’Educació Ambiental. \nMés informació i inscripcions
URL:https://scea.cat/agenda/leconomia-social-i-solidaria-des-de-leducacio-ambiental/
LOCATION:Online
CATEGORIES:ONLINE
ATTACH;FMTTYPE=image/png:https://scea.cat/wp-content/uploads/2021/10/Mailing-DiesInnoBA-SCEA.png
ORGANIZER;CN="Societat Catalana d'Educaci%C3%B3 Ambiental i Barcelona Activa":MAILTO:scea@scea.cat
END:VEVENT
END:VCALENDAR