BEGIN:VCALENDAR
VERSION:2.0
PRODID:-//SCEA - ECPv6.14.0//NONSGML v1.0//EN
CALSCALE:GREGORIAN
METHOD:PUBLISH
X-ORIGINAL-URL:https://scea.cat
X-WR-CALDESC:Esdeveniments per SCEA
REFRESH-INTERVAL;VALUE=DURATION:PT1H
X-Robots-Tag:noindex
X-PUBLISHED-TTL:PT1H
BEGIN:VTIMEZONE
TZID:Europe/Madrid
BEGIN:DAYLIGHT
TZOFFSETFROM:+0100
TZOFFSETTO:+0200
TZNAME:CEST
DTSTART:20220327T010000
END:DAYLIGHT
BEGIN:STANDARD
TZOFFSETFROM:+0200
TZOFFSETTO:+0100
TZNAME:CET
DTSTART:20221030T010000
END:STANDARD
END:VTIMEZONE
BEGIN:VEVENT
DTSTART;TZID=Europe/Madrid:20220323T180000
DTEND;TZID=Europe/Madrid:20220323T190000
DTSTAMP:20260424T094846
CREATED:20220304T153017Z
LAST-MODIFIED:20220304T153017Z
UID:4828-1648058400-1648062000@scea.cat
SUMMARY:Ens endinsem al subsòl de la ciutat per conèixer-ne tots els secrets!
DESCRIPTION:Visita virtual al Dipòsit de regulació d’aigües pluvials del Parc de Joan Miró. \nT’agradaria saber com es gestionen les aigües pluvials de la ciutat? Com s’eviten les innundacions? Com es fa per cuidar l’aigua de les platges quan plou intensament? Acompanya’ns a conèixer el subsòl de la ciutat i trobaràs la resposta a totes les teves preguntes. El dimecres 23 de març entrarem virtualment al Dipòsit de regulació d’aigües pluvials del Parc Joan Miró i aprendrem per què els dipòsits són elements clau a les ciutats mediterrànies per fer front als efectes del canvi climàtic. També plantejarem la importància del cicle de l’aigua a les grans ciutats com Barcelona i tots els tipus d’aigua que hi ha. Ens endinsarem a les entranyes de la ciutat per a conèixer-ne tots els secrets! \nOrganitzat per la Xarxa d’Equipaments Ambientals de Barcelona (XEAB). \nEn el marc del Dia Mundial de l’Aigua. \nCal inscripció prèvia. \nL’activitat es realitzarà mitjançant la plataforma Zoom. L’enllaç per accedir a la sala s’enviarà per correu electrònic (en un recordatori) abans de l’activitat. \n*Les dates o dinàmiques de les activitats poden veure’s afectades a causa de la covid-19. Quan hi hagi canvis\, ens posarem en contacte amb vosaltres. Us agraïm la comprensió. \nObservacions:\nAconsellem utilitzar auriculars de bona qualitat.
URL:https://scea.cat/agenda/ens-endinsem-al-subsol-de-la-ciutat-per-coneixer-ne-tots-els-secrets/
LOCATION:Online
CATEGORIES:ONLINE
ATTACH;FMTTYPE=image/jpeg:https://scea.cat/wp-content/uploads/ninja-forms/7/diposit_aigues_pluvials_joan_miro_0.jpg
END:VEVENT
END:VCALENDAR