BEGIN:VCALENDAR
VERSION:2.0
PRODID:-//SCEA - ECPv6.14.0//NONSGML v1.0//EN
CALSCALE:GREGORIAN
METHOD:PUBLISH
X-ORIGINAL-URL:https://scea.cat
X-WR-CALDESC:Esdeveniments per SCEA
REFRESH-INTERVAL;VALUE=DURATION:PT1H
X-Robots-Tag:noindex
X-PUBLISHED-TTL:PT1H
BEGIN:VTIMEZONE
TZID:Europe/Madrid
BEGIN:DAYLIGHT
TZOFFSETFROM:+0100
TZOFFSETTO:+0200
TZNAME:CEST
DTSTART:20220327T010000
END:DAYLIGHT
BEGIN:STANDARD
TZOFFSETFROM:+0200
TZOFFSETTO:+0100
TZNAME:CET
DTSTART:20221030T010000
END:STANDARD
END:VTIMEZONE
BEGIN:VEVENT
DTSTART;TZID=Europe/Madrid:20220609T180000
DTEND;TZID=Europe/Madrid:20220707T200000
DTSTAMP:20260423T221728
CREATED:20220524T165745Z
LAST-MODIFIED:20220524T165745Z
UID:5615-1654797600-1657224000@scea.cat
SUMMARY:Hàbits emocionals saludables
DESCRIPTION:Formació en línia dirigida a les sòcies i socis de la Societat Catalana d’Educació Ambiental. \nInscripcions sense cost\, amb el suport del Departament d’Acció Climàtica\, Alimentació i Agenda Rural de la Generalitat de Catalunya
URL:https://scea.cat/agenda/habits-emocionals-saludables/
LOCATION:En línia
CATEGORIES:ONLINE
ATTACH;FMTTYPE=image/jpeg:https://scea.cat/wp-content/uploads/2022/05/FrmSCEA_Hàbits-saludables2022.jpg
END:VEVENT
END:VCALENDAR