BEGIN:VCALENDAR
VERSION:2.0
PRODID:-//SCEA - ECPv6.14.0//NONSGML v1.0//EN
CALSCALE:GREGORIAN
METHOD:PUBLISH
X-ORIGINAL-URL:https://scea.cat
X-WR-CALDESC:Esdeveniments per SCEA
REFRESH-INTERVAL;VALUE=DURATION:PT1H
X-Robots-Tag:noindex
X-PUBLISHED-TTL:PT1H
BEGIN:VTIMEZONE
TZID:Europe/Madrid
BEGIN:DAYLIGHT
TZOFFSETFROM:+0100
TZOFFSETTO:+0200
TZNAME:CEST
DTSTART:20240331T010000
END:DAYLIGHT
BEGIN:STANDARD
TZOFFSETFROM:+0200
TZOFFSETTO:+0100
TZNAME:CET
DTSTART:20241027T010000
END:STANDARD
END:VTIMEZONE
BEGIN:VEVENT
DTSTART;TZID=Europe/Madrid:20240203T103000
DTEND;TZID=Europe/Madrid:20240203T103000
DTSTAMP:20260423T143821
CREATED:20240103T105423Z
LAST-MODIFIED:20240103T105423Z
UID:10019-1706956200-1706956200@scea.cat
SUMMARY:Descoberta al riu Besòs
DESCRIPTION:Ens trobarem a la llosa del Bon Pastor\, per baixar a la llera del riu\, on començarem a caminar per arribar fins a la platja de Sant Adrià.\nDurant el recorregut\, anirem fent parades on parlarem de les particularitats d’aquest ecosistema de ribera. Descobrirem i observarem la biodiversitat de l’entorn\, parlarem sobre el cicle de l’aigua a la ciutat i l’evolució històrica del riu.\nCarregueu-vos d’energia i veniu a gaudir d’un matí de natura amb l’Aula Ambiental! \nInscripcions al Centre Cívic de Bon Pastor. \nCoorganitzat amb el Centre Cívic de Bon Pastor. https://ajuntament.barcelona.cat/ccivics/bonpastor
URL:https://scea.cat/agenda/descoberta-al-riu-besos/
LOCATION:Llosa del Bon Pastor
ATTACH;FMTTYPE=image/jpeg:https://scea.cat/wp-content/uploads/ninja-forms/7/240203_descoberta-al-riu-besos.jpg
END:VEVENT
BEGIN:VEVENT
DTSTART;TZID=Europe/Madrid:20240203T103000
DTEND;TZID=Europe/Madrid:20240203T103000
DTSTAMP:20260423T143821
CREATED:20240131T110810Z
LAST-MODIFIED:20240131T110810Z
UID:10279-1706956200-1706956200@scea.cat
SUMMARY:Cal Cabraric: pastors que creen paisatges
DESCRIPTION:Acompanyarem a en Francesc amb el seu ramat d’ovelles per l’encisador mosaic e pastures i bosquines del Pasteral. I viurem de primera mà\, en el seu dia a dia\, un d’aquells oficis en perill d’extinció..\nAprofitarem aquest entorn singular per a fer una descoberta naturalística de les ribes del Ter.
URL:https://scea.cat/agenda/cal-cabraric-pastors-que-creen-paisatges-2/
LOCATION:Les Ribes del Ter
ATTACH;FMTTYPE=image/png:https://scea.cat/wp-content/uploads/ninja-forms/7/Cal_Cabraric_MG-1.png
END:VEVENT
BEGIN:VEVENT
DTSTART;TZID=Europe/Madrid:20240204T100000
DTEND;TZID=Europe/Madrid:20240204T100000
DTSTAMP:20260423T143821
CREATED:20240131T110733Z
LAST-MODIFIED:20240131T110733Z
UID:10284-1707040800-1707040800@scea.cat
SUMMARY:Petits exploradors\, descobrim les ribes del Ter en família
DESCRIPTION:La natura ens ofereix recursos i experiències inesgotables durant tot l’any per a que la mainada aprengui jugant a ser….“Petits exploradors” …\nVisitarem l’espai de la Xarxa Natura 2000 “les Ribes del Ter” per deixar-nos sorprendre a cada passa pel que amaga el bosc…\nSortida familiar\, amb activitats per als infants.
URL:https://scea.cat/agenda/petits-exploradors-descobrim-les-ribes-del-ter-en-familia-5/
LOCATION:Les Ribes del Ter
ATTACH;FMTTYPE=image/png:https://scea.cat/wp-content/uploads/ninja-forms/7/Exploradors_MG.png
END:VEVENT
BEGIN:VEVENT
DTSTART;TZID=Europe/Madrid:20240207T180000
DTEND;TZID=Europe/Madrid:20240207T200000
DTSTAMP:20260423T143821
CREATED:20240105T133149Z
LAST-MODIFIED:20240105T133149Z
UID:10079-1707328800-1707336000@scea.cat
SUMMARY:Del Pirineu a l’aixeta de casa: el cicle de l’aigua
DESCRIPTION:Conferència sobre el cicle de l’aigua a casa nostra des del seu naixement\,\npassant pels embassaments i les plantes potabilitzadores\, fins arribar a\nl’aixeta de casa nostra. La xerrada posa especial èmfasi en el consum diari per\ncàpita\, en els usos que li donem i en el seu destí final (el mar o el riu)\, per acabar explorant les alternatives que tenim a l’abast per a reduir-ne el seu consum o rebaixar-ne la càrrega contaminant. \nA càrrec de Pere Alzina\, biòleg\, guia de natura\, educador i consultor ambientals.\nActivitat dirigida a públic adult. \nActivitats gratuïtes. Places limitades.\nFes la teva inscripció a través del formulari\, amb el codi QR o aquí
URL:https://scea.cat/agenda/del-pirineu-a-laixeta-de-casa-el-cicle-de-laigua/
LOCATION:Aula Ambiental Bosc Turull
CATEGORIES:Destacat
ATTACH;FMTTYPE=image/jpeg:https://scea.cat/wp-content/uploads/ninja-forms/7/4-240207_Del-Pirineu-a-laixeta_PERE-ALZINA.jpg
END:VEVENT
BEGIN:VEVENT
DTSTART;TZID=Europe/Madrid:20240209T090000
DTEND;TZID=Europe/Madrid:20240209T090000
DTSTAMP:20260423T143821
CREATED:20240119T162805Z
LAST-MODIFIED:20240119T162805Z
UID:10211-1707469200-1707469200@scea.cat
SUMMARY:El camí del gat salvatge
DESCRIPTION:Activitat autoguiada i interactiva a MónNatura Pirineus\nRuta autoguiada a través d’una aplicació mòbil que ens convida a descobrir un dels animals més misteriosos dels Pirineus i gaudir de la natura de l’entorn del centre: el gat salvatge. Mentre ens explica com trobar-lo esbrinarem els secrets més ben guardats del bosc. \nA través d’un mapa\, seguirem les petjades del gat salvatge i descobrirem 10 punts d’interpretació que ens ajudaran a conèixer el paisatge fantàstic de les Planes de Son\, altres animals que hi viuen com els talpons i les formigues\, la vegetació de l’alta muntanya i algunes curiositats que no us deixaran indiferents. \nDurant l’activitat se’ns plantejaran alguns reptes que haurem de superar per seguir el camí del gat salvatge.
URL:https://scea.cat/agenda/el-cami-del-gat-salvatge/
LOCATION:MónNatura Pirineus
ATTACH;FMTTYPE=image/jpeg:https://scea.cat/wp-content/uploads/ninja-forms/7/012-scaled.jpg
END:VEVENT
BEGIN:VEVENT
DTSTART;TZID=Europe/Madrid:20240210T100000
DTEND;TZID=Europe/Madrid:20240210T100000
DTSTAMP:20260423T143821
CREATED:20240206T154534Z
LAST-MODIFIED:20240206T154534Z
UID:10322-1707559200-1707559200@scea.cat
SUMMARY:Moixons: els nostres veïns alats
DESCRIPTION:“Tot-estiu\, tot-estiu\, tot-estiu” Quin és aquest moixó que canta als nostres parcs i jardins? I el popular pit-roig\, amb el seu pitet ataronjat\, per què és tan refiat i curiós? I aquelles caixes de fusta que pengen dels arbres\, qui les ha posat i amb quin objectiu? Podem desxifrar el cant dels ocells? El món dels ocells és un univers que ens fascina\, i hem creat aquesta activitat perquè el descobriu a la nostra aula. \nA la finca de can Busquetics hem volgut crear un punt calent de biodiversitat d’ocells\, gràcies a tot un mosaic d’hàbitats i microhàbitats\, caixes-niu\, punts d’aigua\, vegetació adient per l’aliment i el refugi… També els estudiem mitjançant censos\, càmeres de fototrampeig\, seguiment de la seva fenologia… \nUs proposem una passejada en família per descobrir les curiositats i secrets que amaguen la vida dels ocells que viuen a la nostra Aula de Natura: mallerengues\, picots\, bruels\, merles\, caderneres… i qui sap si algun astor!!! La visita es centrarà en activitats pels més menuts\, en les quals veurem com mengen\, crien\, es comuniquen o es renten (!) aquestes criatures alades.
URL:https://scea.cat/agenda/moixons-els-nostres-veins-alats-3/
LOCATION:Aula de Natura El Meandre
ATTACH;FMTTYPE=image/png:https://scea.cat/wp-content/uploads/ninja-forms/7/Moixons_MG-1.png
END:VEVENT
BEGIN:VEVENT
DTSTART;TZID=Europe/Madrid:20240210T113000
DTEND;TZID=Europe/Madrid:20240210T130000
DTSTAMP:20260423T143821
CREATED:20240105T133143Z
LAST-MODIFIED:20240105T133143Z
UID:10084-1707564600-1707570000@scea.cat
SUMMARY:Tapís amb materials de la natura
DESCRIPTION:Al taller\, els nens i nenes\, adults o famílies podran aprendre a fer un tapís amb materials de la natura\, com diferents tipus de fulles\, flors i altres materials vegetals del Bosc Turull\, en un teixit de tela d’arpillera. Podran escollir quina composició fer\, creant un equilibri de colors i textures. \nA càrrec de Susana Nettleton (Tallers art i natura).\nActivitat dirigida a tots els públics. Apta per infants a partir de 6 anys. \nActivitats gratuïtes. Places limitades.\nFes la teva inscripció a través del formulari\, amb el codi QR o aquí
URL:https://scea.cat/agenda/tapis-amb-materials-de-la-natura/
LOCATION:Aula Ambiental Bosc Turull
CATEGORIES:Destacat
ATTACH;FMTTYPE=image/bmp:https://scea.cat/wp-content/uploads/ninja-forms/7/5-240210_TALLERS-ART-I-NATURA.bmp
END:VEVENT
BEGIN:VEVENT
DTSTART;TZID=Europe/Madrid:20240210T190000
DTEND;TZID=Europe/Madrid:20240210T190000
DTSTAMP:20260423T143821
CREATED:20240119T162831Z
LAST-MODIFIED:20240119T162831Z
UID:10206-1707591600-1707591600@scea.cat
SUMMARY:Viatja per les galàxies
DESCRIPTION:Coneixeràs el millor cel dels Pirineus!\nEl cel nocturn de MónNatura Pirineus presenta unes característiques espectaculars per gaudir d’una sessió d’astronomia sense contaminació lumínica i atmosfèrica.\nDurant aquesta activitat\, coneixerem l’Univers i els seus secrets en una primera sessió interior de planetari i acabarem amb una visita l’observatori astronòmic quan es faci fosc.\nEn cas de pluja o poca visibilitat del cel\, l´activitat es realitzarà igualment amb normalitat adaptant-se a les condicions meteorològiques.
URL:https://scea.cat/agenda/viatja-per-les-galaxies-11/
LOCATION:MónNatura Pirineus
ATTACH;FMTTYPE=image/jpeg:https://scea.cat/wp-content/uploads/ninja-forms/7/182-scaled.jpg
END:VEVENT
BEGIN:VEVENT
DTSTART;TZID=Europe/Madrid:20240211T110000
DTEND;TZID=Europe/Madrid:20240211T110000
DTSTAMP:20260423T143821
CREATED:20240119T162744Z
LAST-MODIFIED:20240119T162744Z
UID:10216-1707649200-1707649200@scea.cat
SUMMARY:Experimentem amb la natura
DESCRIPTION:Passejada per l’entorn de MónNatura Pirineu\nRuta interpretativa pels voltants de les Planes de Son en què descobrirem els secrets que amaga la vida salvatge dels Pirineus segons l’estació de l’any. \nMitjançant diferents observacions i experiments\, descobrirem l’activitat frenètica dels insectes\, el festeig dels ocells\, perquè cauen les fulles dels arbres o la vida que hi ha sota terra. \nVine a conèixer la natura i els seus ritmes!
URL:https://scea.cat/agenda/experimentem-amb-la-natura/
LOCATION:MónNatura Pirineus
ATTACH;FMTTYPE=image/jpeg:https://scea.cat/wp-content/uploads/ninja-forms/7/254.jpg
END:VEVENT
BEGIN:VEVENT
DTSTART;TZID=Europe/Madrid:20240215T173000
DTEND;TZID=Europe/Madrid:20240215T173000
DTSTAMP:20260423T143821
CREATED:20240103T105442Z
LAST-MODIFIED:20240103T105442Z
UID:10005-1708018200-1708018200@scea.cat
SUMMARY:Visita a Back To Eco: la vida dels texans
DESCRIPTION:Ens trobarem totes al Centre Cívic de Navas\, per anar cap a la botiga: Infinit Denim del projecte Back To Eco\, una organització sense ànim de lucre que promou la circularitat del tèxtil del texà. Allà ens ensenyaran l’espai i explicaran tot el seu procés de treball\, des de la recepció i recollida de texans a la reutilització i reciclatge tant de texans com altres materials\, que utilitzen per fer nous productes. \nA càrrec de Back To Eco. Coorganitzat amb el Centre Cívic de Navas. \nInscripcions al Centre Cívic de Navas https://ajuntament.barcelona.cat/ccivics/navas
URL:https://scea.cat/agenda/visita-a-back-to-eco-la-vida-dels-texans/
LOCATION:Centre Cívic de Navas
ATTACH;FMTTYPE=image/jpeg:https://scea.cat/wp-content/uploads/ninja-forms/7/240215_visita-a-back-to-eco-1.jpg
END:VEVENT
BEGIN:VEVENT
DTSTART;TZID=Europe/Madrid:20240216T100000
DTEND;TZID=Europe/Madrid:20240216T100000
DTSTAMP:20260423T143821
CREATED:20240119T163115Z
LAST-MODIFIED:20240119T163115Z
UID:10181-1708077600-1708077600@scea.cat
SUMMARY:Visita lliure a MónNatura Delta de l'Ebre
DESCRIPTION:Visita que permet descobrir els diferents espais del centre per entendre i gaudir la màgia del Delta de l’Ebre. \nRecorregut on podràs visitar una recreació de les antigues salines de Sant Antoni\, un espai museogràfic per entendre la formació del Delta o com canvia al llarg de les estacions de l’any\, pujaràs al Mirador 360°\, un observatori únic amb telescopis per poder veure les aus i el paisatge de la bassa de la Tancada i també podràs navegar amb les barques de perxar\, activitat tradicional al Delta de l’Ebre. \nAquestes són només algunes de les experiències que pots viure! T’ho perdràs?
URL:https://scea.cat/agenda/visita-lliure-a-monnatura-delta-de-lebre/
LOCATION:MónNatura Delta de l’Ebre
ATTACH;FMTTYPE=image/jpeg:https://scea.cat/wp-content/uploads/ninja-forms/7/081-scaled.jpg
END:VEVENT
BEGIN:VEVENT
DTSTART;TZID=Europe/Madrid:20240216T110000
DTEND;TZID=Europe/Madrid:20240216T133000
DTSTAMP:20260423T143821
CREATED:20240105T115112Z
LAST-MODIFIED:20240105T132939Z
UID:10119-1708081200-1708090200@scea.cat
SUMMARY:Personalitza la teva bossa de cotó amb cianotípia
DESCRIPTION:Amb la tècnica de la cianotípia personalitzarem una bossa de cotó amb petjades de plantes i motius naturals del Bosc Turull. Farem una alternativa sostenible fent servir material orgànic\, això com desenvolupar la expressió\nplàstica i artesanal a la natura. \nA càrrec de Joan Morales. Projecte Mandràgora – Artesanies del Bosc.\nActivitat dirigida a tots els públics. Apta per a infants a partir de 6 anys. \nActivitats gratuïtes. Places limitades.\nFes la teva inscripció a través del formulari\, amb el codi QR o aquí
URL:https://scea.cat/agenda/personalitza-la-teva-bossa-de-coto-amb-cianotipia/
LOCATION:Aula Ambiental Bosc Turull
CATEGORIES:Destacat
ATTACH;FMTTYPE=image/jpeg:https://scea.cat/wp-content/uploads/ninja-forms/7/12-240316_Bossa-cianotipia-scaled.jpg
END:VEVENT
BEGIN:VEVENT
DTSTART;TZID=Europe/Madrid:20240217T103000
DTEND;TZID=Europe/Madrid:20240217T103000
DTSTAMP:20260423T143821
CREATED:20240119T163108Z
LAST-MODIFIED:20240119T163108Z
UID:10191-1708165800-1708165800@scea.cat
SUMMARY:Visita dels menuts
DESCRIPTION:Aquesta visita familiar està pensada per a que els més petits de la família puguin gaudir de l’entorn de MónNatura Delta\, i alhora descobrir la riquesa d’aquest espai. Coneixerem la història del pirata de les salines EicTu XicMano\, veurem aus fascinants com els flamencs i practicarem activitats tradicionals úniques del Delta de l’Ebre com tirar el rall o navegar amb pontona.
URL:https://scea.cat/agenda/visita-dels-menuts/
LOCATION:MónNatura Delta de l’Ebre
ATTACH;FMTTYPE=image/jpeg:https://scea.cat/wp-content/uploads/ninja-forms/7/Visita-dels-Menuts-MonNatura-Delta_01.jpg
END:VEVENT
BEGIN:VEVENT
DTSTART;TZID=Europe/Madrid:20240217T120000
DTEND;TZID=Europe/Madrid:20240217T120000
DTSTAMP:20260423T143821
CREATED:20240119T163111Z
LAST-MODIFIED:20240119T163111Z
UID:10186-1708171200-1708171200@scea.cat
SUMMARY:Visita guiada a MónNatura Delta de l'Ebre
DESCRIPTION:Visita guiada completa a MónNatura Delta de l’Ebre fent un circuit per tots els espais del centre. \nUn guia t’acompanyarà per conèixer de ben a prop el valor d’aquest territori\, amb una gran riquesa en fauna i flora i un paisatge únic i amb una gran personalitat. \nTambé podràs gaudir de la divertida experiència de les barques de perxar. Així com observar les aus de ben a prop amb els telescopis del Mirador 360º.
URL:https://scea.cat/agenda/visita-guiada-a-monnatura-delta-de-lebre-2/
LOCATION:MónNatura Delta de l’Ebre
ATTACH;FMTTYPE=image/jpeg:https://scea.cat/wp-content/uploads/ninja-forms/7/011-scaled.jpg
END:VEVENT
BEGIN:VEVENT
DTSTART;TZID=Europe/Madrid:20240218T100000
DTEND;TZID=Europe/Madrid:20240218T100000
DTSTAMP:20260423T143821
CREATED:20240206T154447Z
LAST-MODIFIED:20240206T154447Z
UID:10327-1708250400-1708250400@scea.cat
SUMMARY:Taller infantil de mini-duomo
DESCRIPTION:Qui no ha jugat a fer cabanes? Amb les companyes de l’Escola Orígens aprendrem les tècniques bàsiques construint tots plegats una petita cúpula geodèsica. Us apunteu?\nActivitat per a tota la família\, que no requereix coneixements previs i si de ganes de gaudir del treball manual. L’estructura passarà a formar part de la zona de joc de la nostra Aula de Natura.
URL:https://scea.cat/agenda/taller-infantil-de-mini-duomo/
LOCATION:Aula de Natura El Meandre
ATTACH;FMTTYPE=image/png:https://scea.cat/wp-content/uploads/ninja-forms/7/Miniduomo_MG.png
END:VEVENT
BEGIN:VEVENT
DTSTART;TZID=Europe/Madrid:20240220T180000
DTEND;TZID=Europe/Madrid:20240220T180000
DTSTAMP:20260423T143821
CREATED:20240103T105415Z
LAST-MODIFIED:20240103T105415Z
UID:10029-1708452000-1708452000@scea.cat
SUMMARY:Remeis naturals per l’hort
DESCRIPTION:Taller on parlarem de la importància de la salut del nostre hort ecològic. Esbrinarem què podem fer per prevenir les malalties i aprendrem un parell de remeis naturals i casolans\, per fer front a aquestes\, quan sigui necessari. \nCoorganitzat amb el Casal de barri Torre de la Sagrera. \nInscripcions al Casal de barri Torre de la Sagrera https://www.torrelasagrera.cat/
URL:https://scea.cat/agenda/remeis-naturals-per-lhort/
LOCATION:Casal de barri Torre de la Sagrera
ATTACH;FMTTYPE=image/jpeg:https://scea.cat/wp-content/uploads/ninja-forms/7/240220_remeis-naturals-per-hort.jpg
END:VEVENT
BEGIN:VEVENT
DTSTART;TZID=Europe/Madrid:20240221T180000
DTEND;TZID=Europe/Madrid:20240221T200000
DTSTAMP:20260423T143821
CREATED:20240105T133120Z
LAST-MODIFIED:20240105T133120Z
UID:10089-1708538400-1708545600@scea.cat
SUMMARY:Eco-print: experimentem amb cotó
DESCRIPTION:En aquest taller estamparem mocadors de cotó experimentant amb la tècnica\nd’eco-print o impressió botànica. Per estampar utilitzarem fulles\, fruits i flors que trobarem en aquesta època de l’any. \nIdioma: castellà. \nA càrrec de Solange Dalannais (Orbita Tinta).\nActivitat dirigida a públic adult. \nActivitats gratuïtes. Places limitades.\nFes la teva inscripció a través del formulari\, amb el codi QR o aquí
URL:https://scea.cat/agenda/eco-print-experimentem-amb-coto/
LOCATION:Aula Ambiental Bosc Turull
CATEGORIES:Destacat
ATTACH;FMTTYPE=image/png:https://scea.cat/wp-content/uploads/ninja-forms/7/6-240221-eco-print.png
END:VEVENT
BEGIN:VEVENT
DTSTART;TZID=Europe/Madrid:20240224T100000
DTEND;TZID=Europe/Madrid:20240224T130000
DTSTAMP:20260423T143821
CREATED:20240105T133113Z
LAST-MODIFIED:20240105T133113Z
UID:10094-1708768800-1708779600@scea.cat
SUMMARY:Projecte SEEDS: Bancs de llavors escolars
DESCRIPTION:Aquesta xerrada pretén donar a conèixer el projecte SEEDS a Portugal i quines contribucions es fan des de diverses entitats catalanes. Aquesta activitat també inclou una part pràctica a l’exterior. Quins recursos s’està portant a terme a dues escoles de Portugal\, i quina contribució es fa des d’entitats catalanes. \nA càrrec de la Isabel Alves\, en el marc d’un projecte ERASMUS+\, entre Portugal i Catalunya (Conveni KEEP-SCEA-Escoles de Góis i Sabugal) \nActivitat dirigida al públic adult i especialment per a docents. \nActivitats gratuïtes. Places limitades.\nFes la teva inscripció a través del formulari\, amb el codi QR o aquí
URL:https://scea.cat/agenda/projecte-seeds-bancs-de-llavors-escolars/
LOCATION:Aula Ambiental Bosc Turull
CATEGORIES:Destacat
ATTACH;FMTTYPE=image/jpeg:https://scea.cat/wp-content/uploads/ninja-forms/7/7-240224-SEEDS-logo-CMYK_ENG.jpg
END:VEVENT
BEGIN:VEVENT
DTSTART;TZID=Europe/Madrid:20240224T163000
DTEND;TZID=Europe/Madrid:20240224T163000
DTSTAMP:20260423T143821
CREATED:20240119T163101Z
LAST-MODIFIED:20240119T163101Z
UID:10201-1708792200-1708792200@scea.cat
SUMMARY:Coneix les aus del delta
DESCRIPTION:El Delta de l’Ebre és la zona humida més gran de Catalunya i una de les més importants d’Europa occidental. La seva particular formació ha creat un espai únic de gran riquesa natural i sobretot d’aus aquàtiques reconegudes internacionalment. \nAquesta activitat consta d’una passejada pels voltants de MónNatura Delta per aprendre a identificar i conèixer els ocells més comuns del Delta de l’Ebre. \nPodràs veure espècies com el bernat pescaire\, el martinet blanc\, la gamba roja\, el flamenc\, diferents espècies d’ànecs\, etc. \nAfina la vista\, i vine!
URL:https://scea.cat/agenda/coneix-les-aus-del-delta-9/
LOCATION:MónNatura Delta de l’Ebre
ATTACH;FMTTYPE=image/jpeg:https://scea.cat/wp-content/uploads/ninja-forms/7/170-scaled.jpg
END:VEVENT
BEGIN:VEVENT
DTSTART;TZID=Europe/Madrid:20240228T173000
DTEND;TZID=Europe/Madrid:20240228T200000
DTSTAMP:20260423T143821
CREATED:20240105T133104Z
LAST-MODIFIED:20240105T133104Z
UID:10099-1709141400-1709150400@scea.cat
SUMMARY:Fem bosses reciclant samarretes!
DESCRIPTION:Porta les samarretes que ja no utilitzis i aprendràs a crear-ne bosses que podràs utilitzar per fer la compra o com a un complement únic i original. \nA càrrec de Reparat als municipis (Àrea Metropolitana de Barcelona).\nActivitat dirigida a públic adult. \nActivitats gratuïtes. Places limitades.\nFes la teva inscripció a través del formulari\, amb el codi QR o aquí
URL:https://scea.cat/agenda/fem-bosses-reciclant-samarretes/
LOCATION:Aula Ambiental Bosc Turull
CATEGORIES:Destacat
ATTACH;FMTTYPE=image/jpeg:https://scea.cat/wp-content/uploads/ninja-forms/7/8-240228_Bosses-samarretes.jpg
END:VEVENT
END:VCALENDAR