BEGIN:VCALENDAR
VERSION:2.0
PRODID:-//SCEA - ECPv6.14.0//NONSGML v1.0//EN
CALSCALE:GREGORIAN
METHOD:PUBLISH
X-ORIGINAL-URL:https://scea.cat
X-WR-CALDESC:Esdeveniments per SCEA
REFRESH-INTERVAL;VALUE=DURATION:PT1H
X-Robots-Tag:noindex
X-PUBLISHED-TTL:PT1H
BEGIN:VTIMEZONE
TZID:Europe/Madrid
BEGIN:DAYLIGHT
TZOFFSETFROM:+0100
TZOFFSETTO:+0200
TZNAME:CEST
DTSTART:20240331T010000
END:DAYLIGHT
BEGIN:STANDARD
TZOFFSETFROM:+0200
TZOFFSETTO:+0100
TZNAME:CET
DTSTART:20241027T010000
END:STANDARD
END:VTIMEZONE
BEGIN:VEVENT
DTSTART;TZID=Europe/Madrid:20240504T103000
DTEND;TZID=Europe/Madrid:20240504T103000
DTSTAMP:20260423T190827
CREATED:20240819T094057Z
LAST-MODIFIED:20240819T094057Z
UID:10530-1714818600-1714818600@scea.cat
SUMMARY:Ciència ciutadana. uBMS: Mostreig de papallones
DESCRIPTION:Les papallones són biodindicadors: trobar-ne dona informació sobre l’estat de salut dels ecosistemes. Aquesta és la tasca de l’Observatori ciutadà de papallones urbanes (uBMS)\, un projecte de ciència ciutadana que estudia les papallones a la ciutat\, i en el qual la participació és oberta. Els científics que organitzen el projecte vindran a presentar-lo\, i sortirem al Parc Fluvial del Besòs per realitzar una sèrie de mostrejos i transectes. Una activitat perfecta per qui vulgui conèixer millor la biodiversitat a la ciutat\, qui tingui interès en biologia o vulgui descobrir de prop com es mostreja i com és un projecte de ciència ciutadana. \nCoorganitzat amb l’Observatori ciutadà de papallones urbanes (uBMS). \nInformació sobre les inscripcions a santandreuambiental@bcn.cat o trucant al 699 90 23 59.
URL:https://scea.cat/agenda/ciencia-ciutadana-ubms-mostreig-de-papallones/
LOCATION:Centre Cívic Bon Pastor i Parc fluvial del Besòs
ATTACH;FMTTYPE=image/jpeg:https://scea.cat/wp-content/uploads/ninja-forms/7/240504_uBMS_horitzontal.jpg
END:VEVENT
BEGIN:VEVENT
DTSTART;TZID=Europe/Madrid:20240509T173000
DTEND;TZID=Europe/Madrid:20240509T173000
DTSTAMP:20260423T190827
CREATED:20240506T100600Z
LAST-MODIFIED:20240506T100600Z
UID:10511-1715275800-1715275800@scea.cat
SUMMARY:Art i natura a Vallvidrera!
DESCRIPTION:Et pots apuntar a les sessions que vulguis! \nDesperta les emocions\, els sentits\, la creativitat\, desperta a través de la natura i processos creatius col·lectius. El jardí d’Aspasim es convertirà en el punt de trobada per a compartir una espai de calma i benestar on la natura serà el fil conductor dels nostres processos creatius. \nA càrrec de l’Associació Animal Latitude i amb la col·laboració d’Aspasim \nActivitat gratuïta amb inscripció prèvia a ccvazquezmontalban.inscripcionscc.com
URL:https://scea.cat/agenda/art-i-natura-a-vallvidrera/
LOCATION:Jardí de la Fundació Aspasim Vallvidrera
ATTACH;FMTTYPE=image/jpeg:https://scea.cat/wp-content/uploads/ninja-forms/7/Desperta-Vallvidrera.jpg
END:VEVENT
BEGIN:VEVENT
DTSTART;TZID=Europe/Madrid:20240511T090000
DTEND;TZID=Europe/Madrid:20240511T090000
DTSTAMP:20260423T190827
CREATED:20240506T095813Z
LAST-MODIFIED:20240506T095813Z
UID:10574-1715418000-1715418000@scea.cat
SUMMARY:Curs d'Iniciació a la Fotografia de fauna
DESCRIPTION:Si t’apassiona la natura i t’agradaria aprendre a fer bones fotografies de la fauna que observes\, aquesta és la teva oportunitat! \nEl dissabte 11 de maig la Júlia Ferrer\, biòloga i fotògrafa\, impartirà un curs d’iniciació a la fotografia de fauna on aprendràs tot allò que necessites saber per arribar a ser un expert fent fotografies! \nEl curs es dividirà en dues parts; primerament\, una part teòrica on s’adquiriran els coneixements necessaris per a\, seguidament\, posar-los en pràctica a l’Estany de Sils. En total\, seran 4 hores de curs on gaudireu i aprendreu d’allò més!
URL:https://scea.cat/agenda/curs-diniciacio-a-la-fotografia-de-fauna/
LOCATION:Estany de Sils
ATTACH;FMTTYPE=image/jpeg:https://scea.cat/wp-content/uploads/ninja-forms/7/Cartell-Curs-dIniciacio-a-la-Fotografia-de-fauna_JuliaFerrer.jpg
END:VEVENT
BEGIN:VEVENT
DTSTART;TZID=Europe/Madrid:20240512T100000
DTEND;TZID=Europe/Madrid:20240512T100000
DTSTAMP:20260423T190827
CREATED:20240506T095228Z
LAST-MODIFIED:20240506T095228Z
UID:10580-1715508000-1715508000@scea.cat
SUMMARY:A QUI TROBEM A L'ESTANY DE SILS?
DESCRIPTION:Es tracta d’un taller per a famílies\, enfocat a nens i nenes\, on l’objectiu és aprendre sobre la fauna i la flora de les zones humides i mostrar la importància de conservar entorns naturals com aquest. Per dur a terme el taller\, tots plegats farem la volta circular a l’Estany\, on anirem descobrint què s’amaga en aquest espai natural protegit i com entre tots podem ajudar a millorar-lo. \nActivitat apta per a tots els públics (recomanada per a nens i nenes de 8 a 14 anys\, però adaptable).
URL:https://scea.cat/agenda/a-qui-trobem-a-lestany-de-sils/
LOCATION:Estany de Sils
ATTACH;FMTTYPE=image/jpeg:https://scea.cat/wp-content/uploads/ninja-forms/7/WhatsApp-Image-2024-04-28-at-11.35.25.jpeg
END:VEVENT
BEGIN:VEVENT
DTSTART;TZID=Europe/Madrid:20240515T180000
DTEND;TZID=Europe/Madrid:20240515T200000
DTSTAMP:20260423T190827
CREATED:20240426T082745Z
LAST-MODIFIED:20240426T090811Z
UID:10547-1715796000-1715803200@scea.cat
SUMMARY:La caricatura del cant dels ocells
DESCRIPTION:Taller d’aproximació al meravellós i desconegut món dels cants dels ocells. A través d’una metodologia pròpia i particular\, es dibuixen les “caricatures” dels diversos cants\, que s’analitzen i s’estudien en un “crescendo” de dificultat. \nAquesta activitat també conté referències mitològiques\, literàries\, musicals\, cinematogràfiques\, conductuals i etimològiques de les espècies protagonistes\, així com un tast de materials pedagògics\, científics i literaris que hi ha a l’abast. \nA càrrec de Pere Alzina i Bilbeny\, biòleg\, guia de natura\, educador i consultor ambiental. \nActivitat dirigida a públic adult. \nEmmarcada en el Dia internacional de les Aus. \nMés informació i inscripcions
URL:https://scea.cat/agenda/la-caricatura-del-cant-dels-ocells/
LOCATION:Aula Ambiental Bosc Turull\, Passeig de Turull\, 2\, Barcelona\, Barcelona\, 08023\, Spain
CATEGORIES:Destacat
ATTACH;FMTTYPE=image/png:https://scea.cat/wp-content/uploads/2024/04/240515-caricatura-cant-ocells.png
END:VEVENT
BEGIN:VEVENT
DTSTART;TZID=Europe/Madrid:20240519T093000
DTEND;TZID=Europe/Madrid:20240519T093000
DTSTAMP:20260423T190827
CREATED:20240513T080811Z
LAST-MODIFIED:20240513T080811Z
UID:10601-1716111000-1716111000@scea.cat
SUMMARY:VISITA GUIADA A L'ESTANY DE SILS!
DESCRIPTION:Farem la volta circular a l’Estany de Sils on anirem parlant de temes molt diversos relacionats amb l’entorn i ens anirem parant als observatoris per veure quina fauna hi trobem durant aquesta època de l’any. Descobrirem la seva història\, biodiversitat\, projectes…d’entre moltes altres coses!
URL:https://scea.cat/agenda/visita-guiada-a-lestany-de-sils-8/
LOCATION:Estany de Sils
ATTACH;FMTTYPE=image/jpeg:https://scea.cat/wp-content/uploads/ninja-forms/7/WhatsApp-Image-2024-04-20-at-11.58.39-1.jpeg
END:VEVENT
BEGIN:VEVENT
DTSTART;TZID=Europe/Madrid:20240525T103000
DTEND;TZID=Europe/Madrid:20240525T103000
DTSTAMP:20260423T190827
CREATED:20240521T071859Z
LAST-MODIFIED:20240521T071859Z
UID:10611-1716633000-1716633000@scea.cat
SUMMARY:Presentació del Voluntariat d’El Meandre
DESCRIPTION:Us convidem a una breu presentació dels projectes de voluntariat ambiental i ciència ciutadana d’El Meandre. \nConeixerem els tipus de voluntariat que oferim\, i com us podeu implicar en la cura del nostre entorn. La millora del medi ambient comença per casa nostra! \nUs hi esperem\, és una activitat gratuïta\, i oberta a tothom\, naturalment!
URL:https://scea.cat/agenda/presentacio-del-voluntariat-del-meandre/
LOCATION:Aula de Natura El Meandre
ATTACH;FMTTYPE=image/png:https://scea.cat/wp-content/uploads/ninja-forms/7/Prese_Vol_Insta_post.png
END:VEVENT
BEGIN:VEVENT
DTSTART;TZID=Europe/Madrid:20240525T110000
DTEND;TZID=Europe/Madrid:20240525T130000
DTSTAMP:20260423T190827
CREATED:20240426T090739Z
LAST-MODIFIED:20240426T090739Z
UID:10550-1716634800-1716642000@scea.cat
SUMMARY:Passejada: fonts i brolladors del Coll
DESCRIPTION:Descobreix els camins de l’aigua i coneix la història del Coll a través de les fonts i els brolladors que travessen el barri. \nItinerari per descobrir els punts d’aigua característics de la zona\, amb parada al interior de l’Aula Ambiental Bosc Turull per conèixer la història de l’aqüeducte. \n  \nActivitat a càrrec del Grup d’Estudis El Coll – Vallcarca \nInscripcions des del web CC el Coll  – La Bruguera (enllaç) \nActivitat dirigida a públic adult. \nCoorganitzada amb el Centre Cívic El Coll – La Bruguera.
URL:https://scea.cat/agenda/passejada-fonts-i-brolladors-del-coll/
LOCATION:Aula Ambiental Bosc Turull\, Passeig de Turull\, 2\, Barcelona\, Barcelona\, 08023\, Spain
CATEGORIES:Destacat
ATTACH;FMTTYPE=image/png:https://scea.cat/wp-content/uploads/2024/04/Activitat-Art-Salut-i-Benestar.png
ORGANIZER;CN="Aula Ambiental Bosc Turull":MAILTO:aula@boscturull.cat
END:VEVENT
BEGIN:VEVENT
DTSTART;TZID=Europe/Madrid:20240529T180000
DTEND;TZID=Europe/Madrid:20240529T200000
DTSTAMP:20260423T190827
CREATED:20240426T092530Z
LAST-MODIFIED:20240426T092530Z
UID:10553-1717005600-1717012800@scea.cat
SUMMARY:Llegim al bosc: l'aigua\, un bé preuat i escàs
DESCRIPTION:En aquesta activitat\, reflexionarem entre totes sobre la importància de l’aigua\, el seu consum\, el paper que desenvolupen les multinacionals i el seu poder\, el malbaratament\, descobrirem recursos per estalviar aigua\, etc. a partir de la lectura relacionada\, comentarem\, analitzarem i debatrem entorn d’aquests valors. \nAnima’t i descobreix el poder de l’aigua! \n  \nA càrrec del Centre Cívic El Coll – La Bruguera i l’Aula Ambiental Bosc Turull. \nActivitat dirigida a públic adult. \nCal inscripció prèvia (enllaç). \nEmmarcada en el Cicle “Primavera Verda” i el Cicle “El Valor de l’Aigua” de la XEAB. \nCoorganitzada amb el Centre Cívic El Coll – La Bruguera i la Biblioteca del Carmel – Juan Marsé.
URL:https://scea.cat/agenda/llegim-al-bosc-laigua-un-be-preuat-i-escas/
LOCATION:Aula Ambiental Bosc Turull\, Passeig de Turull\, 2\, Barcelona\, Barcelona\, 08023\, Spain
CATEGORIES:Destacat
ATTACH;FMTTYPE=image/png:https://scea.cat/wp-content/uploads/2024/04/240529-llegim-al-bosc.png
ORGANIZER;CN="Aula Ambiental Bosc Turull":MAILTO:aula@boscturull.cat
END:VEVENT
END:VCALENDAR