BEGIN:VCALENDAR
VERSION:2.0
PRODID:-//SCEA - ECPv6.14.0//NONSGML v1.0//EN
CALSCALE:GREGORIAN
METHOD:PUBLISH
X-ORIGINAL-URL:https://scea.cat
X-WR-CALDESC:Esdeveniments per SCEA
REFRESH-INTERVAL;VALUE=DURATION:PT1H
X-Robots-Tag:noindex
X-PUBLISHED-TTL:PT1H
BEGIN:VTIMEZONE
TZID:Europe/Madrid
BEGIN:DAYLIGHT
TZOFFSETFROM:+0100
TZOFFSETTO:+0200
TZNAME:CEST
DTSTART:20240331T010000
END:DAYLIGHT
BEGIN:STANDARD
TZOFFSETFROM:+0200
TZOFFSETTO:+0100
TZNAME:CET
DTSTART:20241027T010000
END:STANDARD
END:VTIMEZONE
BEGIN:VEVENT
DTSTART;TZID=Europe/Madrid:20240607T100000
DTEND;TZID=Europe/Madrid:20240607T100000
DTSTAMP:20260423T205237
CREATED:20240529T081359Z
LAST-MODIFIED:20240529T081359Z
UID:10645-1717754400-1717754400@scea.cat
SUMMARY:Ruta dels 4 aqüeductes
DESCRIPTION:Inscripcions:\ncasadelaiguadt8@bcn.cat o trucar al 93 463 77 71
URL:https://scea.cat/agenda/ruta-dels-4-aqueductes/
LOCATION:Torre Baró
ATTACH;FMTTYPE=image/png:https://scea.cat/wp-content/uploads/2024/05/Els4_Aqueductes_7juny_png.png
END:VEVENT
BEGIN:VEVENT
DTSTART;TZID=Europe/Madrid:20240608T100000
DTEND;TZID=Europe/Madrid:20240608T100000
DTSTAMP:20260423T205237
CREATED:20240523T075733Z
LAST-MODIFIED:20240523T075733Z
UID:10632-1717840800-1717840800@scea.cat
SUMMARY:DIA DE LES PAPALLONES!
DESCRIPTION:Enguany és el dotzè any que celebrem el Dia de les Papallones! \nAquestes jornades ens ajuden a difondre el món de les papallones i diferents institucions de Catalunya que hi treballen\, i\, sobretot\, ens ajuda a donar a conèixer la feina que fan els/les col·laboradors/es voluntaris/es del projecte de seguiment de les poblacions de papallones diürnes: el Catalan Butterfly Monitoring Scheme (CBMS). \nPassejada guiada a càrrec d’Antoni Mariné\, voluntari del CBMS\, per conèixer les papallones del PEIN de l’Estany de Sils dins del marc de la Setmana de la Natura 2024.
URL:https://scea.cat/agenda/dia-de-les-papallones/
LOCATION:Estany de Sils
ATTACH;FMTTYPE=image/jpeg:https://scea.cat/wp-content/uploads/ninja-forms/7/Cartell_DiaPapallones_080624_min-scaled.jpg
END:VEVENT
BEGIN:VEVENT
DTSTART;TZID=Europe/Madrid:20240608T100000
DTEND;TZID=Europe/Madrid:20240608T120000
DTSTAMP:20260423T205237
CREATED:20240426T101025Z
LAST-MODIFIED:20240426T101025Z
UID:10561-1717840800-1717848000@scea.cat
SUMMARY:Patrimoni natural i ciutat: 2 turons\, La Creueta del Coll i El Carmel
DESCRIPTION:A vegades pot costar de veure\, però la ciutat té un patrimoni natural d’una riquesa extraordinària. Pujarem a dos dels cims de Barcelona (La Creueta del Coll i El Carmel) per descobrir-lo! \n  \nA càrrec de Víctor Quero\, d’Entre pinos y sembrados. \nActivitat dirigida a tots els públics. \nInscripcions des del web de l’Aula Ambiental Sagrada Família (enllaç). \nEmmarcada en el Dia Mundial del Medi Ambient. \nCoorganitzada amb l’Aula Ambiental Sagrada Família.
URL:https://scea.cat/agenda/patrimoni-natural-i-ciutat-2-turons-la-creueta-del-coll-i-el-carmel/
CATEGORIES:Destacat
ATTACH;FMTTYPE=image/png:https://scea.cat/wp-content/uploads/2024/04/240608-turons.png
ORGANIZER;CN="Aula Ambiental Bosc Turull":MAILTO:aula@boscturull.cat
END:VEVENT
BEGIN:VEVENT
DTSTART;TZID=Europe/Madrid:20240611T080000
DTEND;TZID=Europe/Madrid:20241015T210000
DTSTAMP:20260423T205237
CREATED:20240611T101246Z
LAST-MODIFIED:20240611T101246Z
UID:10687-1718092800-1729026000@scea.cat
SUMMARY:Participa en la BioMARató “Platges amb vida” i descobreix la biodiversitat marina de Catalunya
DESCRIPTION:L’Institut de Ciències del Mar (ICM-CSIC) t’anima a participar en la BioMARató “Platges amb vida”\, una iniciativa de ciència ciutadana per catalogar la biodiversitat marina i costanera de Catalunya. És una competició amistosa entre participants de les províncies de Girona\, Barcelona i Tarragona\, i es duu a terme de maig a l’octubre. Totes les observacions pujades a MINKA nodreixen un mapa col·laboratiu on es pot consultar de manera oberta aquesta informació de la biodiversitat. \nDiverses entitats ambientals\, com la Federació Catalana d’Activitats Subaquàtiques (FECDAS)\, l’Associació Oceánicos\, Plàncton Diving i Anèl·lides – Serveis Ambientals Marins\, organitzen sortides al medi marí per explorar la fauna i flora locals i registrar-les a la plataforma de ciència ciutadana MINKA. La BioMARató també anima qualsevol persona amb interès en el mar i les platges a participar en qualsevol modalitat: esnòrquel\, submarinisme o passejar per les platges i les dunes. \nPer què participar? \nLa BioMARató és un esdeveniment de ciència ciutadana que contribueix al coneixement científic: cada observació compta i ajuda a crear un inventari detallat de la biodiversitat marina. Amb la ciència ciutadana promovem la connexió amb la natura i la descoberta de la fauna i flora marina de la nostra costa. A més\, l’esdeveniment posarà el punt final amb una festa de cloenda on es premiaran les persones participants més actives i es repartiran premis i sortejos aleatoris. \nCom pots participar? \n1.Registra’t a MINKA des del web o des de l’app \n2.Apunta’t a una sortida organitzada del nostre calendari i comparteix la teva passió pel mar amb altres persones amb els mateixos interessos. \n3.També pots explorar el medi i participar pel teu compte \n4.Comparteix les teves fotos a MINKA \n5.Identifica les espècies o ajuda a la resta de comunitat a fer-ho \nLa BioMARató està organitzada pel grup de recerca EMBIMOS de l’Institut de Ciències del Mar (ICM-CSIC)\, amb la col·laboració del Galicia Supercomputing Center (CESGA)\, Cressi i el projecte BioPlatgesMet\, i el suport financer dels projectes europeus MINKE\, ANERIS\, ECS i GUARDEN. \nMés informació al web biomarato.com i a l’Instagram @biomarato. \nUneix-te a la BioMARató\, descobreix la riquesa de les nostres platges i contribueix a la conservació del patrimoni natural litoral. T’hi esperem!
URL:https://scea.cat/agenda/participa-en-la-biomarato-platges-amb-vida-i-descobreix-la-biodiversitat-marina-de-catalunya/
LOCATION:Costa de Catalunya
ATTACH;FMTTYPE=image/jpeg:https://scea.cat/wp-content/uploads/ninja-forms/7/Banner-BioMARato-cat_LOW-1-scaled.jpg
END:VEVENT
BEGIN:VEVENT
DTSTART;TZID=Europe/Madrid:20240616T100000
DTEND;TZID=Europe/Madrid:20240616T100000
DTSTAMP:20260423T205237
CREATED:20240612T075650Z
LAST-MODIFIED:20240612T075650Z
UID:10694-1718532000-1718532000@scea.cat
SUMMARY:Petits exploradors: descobrim les Ribes del Ter en família
DESCRIPTION:Espiadimonis de color blau metàl·lic\, arbres d’escorça blanca\, platges de sorra i còdols\, criatures alienígenes sota l’aigua…\nLes Ribes del Ter ens ofereixen experiències i recursos inesgotables perquè la canalla aprengui jugant a ser….“Petits exploradors” …\nSortida familiar\, amb activitats per als infants
URL:https://scea.cat/agenda/petits-exploradors-descobrim-les-ribes-del-ter-en-familia-6/
LOCATION:Les Ribes del Ter
ATTACH;FMTTYPE=image/png:https://scea.cat/wp-content/uploads/ninja-forms/7/Exploradors_MG-1.png
END:VEVENT
BEGIN:VEVENT
DTSTART;TZID=Europe/Madrid:20240626T090000
DTEND;TZID=Europe/Madrid:20240626T090000
DTSTAMP:20260423T205237
CREATED:20240506T100339Z
LAST-MODIFIED:20240506T100339Z
UID:10506-1719392400-1719392400@scea.cat
SUMMARY:Cursos de Maneig i clínica de rèptils
DESCRIPTION:En aquest 2024 es du a terme la 14a Edició dels cursos en el C.R.A.R.C.\, Centre de recuperació d’amfibis i rèptils de Catalunya. (descarrega el programa de 2024 a la web de l’associació: https://www.animallatitude.org/reptils-i-amfibis \nPer a realitzar la inscripció\, escriu a info@animallatitude.org. \nHi ha descompte per les inscripcions fetes fins el 28 d’abril! I si t’apuntes als dos cursos\, tens també descompte.\nTota la informació al programa.
URL:https://scea.cat/agenda/cursos-de-maneig-i-clinica-de-reptils/
LOCATION:Centre de Recuperació d’Amfibis i Rèptils de Catalunya\, Masquefa
ATTACH;FMTTYPE=image/jpeg:https://scea.cat/wp-content/uploads/ninja-forms/7/CAT_cursos-en-el-CRARC.jpg
END:VEVENT
END:VCALENDAR