BEGIN:VCALENDAR
VERSION:2.0
PRODID:-//SCEA - ECPv6.14.0//NONSGML v1.0//EN
CALSCALE:GREGORIAN
METHOD:PUBLISH
X-WR-CALNAME:SCEA
X-ORIGINAL-URL:https://scea.cat
X-WR-CALDESC:Esdeveniments per SCEA
REFRESH-INTERVAL;VALUE=DURATION:PT1H
X-Robots-Tag:noindex
X-PUBLISHED-TTL:PT1H
BEGIN:VTIMEZONE
TZID:Europe/Madrid
BEGIN:DAYLIGHT
TZOFFSETFROM:+0100
TZOFFSETTO:+0200
TZNAME:CEST
DTSTART:20240331T010000
END:DAYLIGHT
BEGIN:STANDARD
TZOFFSETFROM:+0200
TZOFFSETTO:+0100
TZNAME:CET
DTSTART:20241027T010000
END:STANDARD
END:VTIMEZONE
BEGIN:VEVENT
DTSTART;TZID=Europe/Madrid:20240611T080000
DTEND;TZID=Europe/Madrid:20241015T210000
DTSTAMP:20260423T221700
CREATED:20240611T101246Z
LAST-MODIFIED:20240611T101246Z
UID:10687-1718092800-1729026000@scea.cat
SUMMARY:Participa en la BioMARató “Platges amb vida” i descobreix la biodiversitat marina de Catalunya
DESCRIPTION:L’Institut de Ciències del Mar (ICM-CSIC) t’anima a participar en la BioMARató “Platges amb vida”\, una iniciativa de ciència ciutadana per catalogar la biodiversitat marina i costanera de Catalunya. És una competició amistosa entre participants de les províncies de Girona\, Barcelona i Tarragona\, i es duu a terme de maig a l’octubre. Totes les observacions pujades a MINKA nodreixen un mapa col·laboratiu on es pot consultar de manera oberta aquesta informació de la biodiversitat. \nDiverses entitats ambientals\, com la Federació Catalana d’Activitats Subaquàtiques (FECDAS)\, l’Associació Oceánicos\, Plàncton Diving i Anèl·lides – Serveis Ambientals Marins\, organitzen sortides al medi marí per explorar la fauna i flora locals i registrar-les a la plataforma de ciència ciutadana MINKA. La BioMARató també anima qualsevol persona amb interès en el mar i les platges a participar en qualsevol modalitat: esnòrquel\, submarinisme o passejar per les platges i les dunes. \nPer què participar? \nLa BioMARató és un esdeveniment de ciència ciutadana que contribueix al coneixement científic: cada observació compta i ajuda a crear un inventari detallat de la biodiversitat marina. Amb la ciència ciutadana promovem la connexió amb la natura i la descoberta de la fauna i flora marina de la nostra costa. A més\, l’esdeveniment posarà el punt final amb una festa de cloenda on es premiaran les persones participants més actives i es repartiran premis i sortejos aleatoris. \nCom pots participar? \n1.Registra’t a MINKA des del web o des de l’app \n2.Apunta’t a una sortida organitzada del nostre calendari i comparteix la teva passió pel mar amb altres persones amb els mateixos interessos. \n3.També pots explorar el medi i participar pel teu compte \n4.Comparteix les teves fotos a MINKA \n5.Identifica les espècies o ajuda a la resta de comunitat a fer-ho \nLa BioMARató està organitzada pel grup de recerca EMBIMOS de l’Institut de Ciències del Mar (ICM-CSIC)\, amb la col·laboració del Galicia Supercomputing Center (CESGA)\, Cressi i el projecte BioPlatgesMet\, i el suport financer dels projectes europeus MINKE\, ANERIS\, ECS i GUARDEN. \nMés informació al web biomarato.com i a l’Instagram @biomarato. \nUneix-te a la BioMARató\, descobreix la riquesa de les nostres platges i contribueix a la conservació del patrimoni natural litoral. T’hi esperem!
URL:https://scea.cat/agenda/participa-en-la-biomarato-platges-amb-vida-i-descobreix-la-biodiversitat-marina-de-catalunya/
LOCATION:Costa de Catalunya
ATTACH;FMTTYPE=image/jpeg:https://scea.cat/wp-content/uploads/ninja-forms/7/Banner-BioMARato-cat_LOW-1-scaled.jpg
END:VEVENT
BEGIN:VEVENT
DTSTART;TZID=Europe/Madrid:20240708T100000
DTEND;TZID=Europe/Madrid:20240708T100000
DTSTAMP:20260423T221700
CREATED:20240626T065759Z
LAST-MODIFIED:20240626T065759Z
UID:10740-1720432800-1720432800@scea.cat
SUMMARY:Com mantenir les nostres plantes d’exterior
DESCRIPTION:Les plantes són essencials en qualsevol habitatge\, però\, com tots sabem\, el seu manteniment requereix temps i dedicació. Us duem un taller per aprendre i adquirir coneixements i tècniques bàsiques per mantenir en bon estat de salut les plantes dels nostres balcons i terrats. \nCoorganitzat amb Casal de Gent Gran de Trinitat Vella.
URL:https://scea.cat/agenda/com-mantenir-les-nostres-plantes-dexterior/
LOCATION:Casal de Gent Gran de Trinitat Vella
ATTACH;FMTTYPE=image/jpeg:https://scea.cat/wp-content/uploads/ninja-forms/7/balco-plantes-1-scaled.jpg
END:VEVENT
BEGIN:VEVENT
DTSTART;TZID=Europe/Madrid:20240710T160000
DTEND;TZID=Europe/Madrid:20240710T160000
DTSTAMP:20260423T221700
CREATED:20240626T070107Z
LAST-MODIFIED:20240626T070107Z
UID:10755-1720627200-1720627200@scea.cat
SUMMARY:Fem paper reciclat amb llavors
DESCRIPTION:Farem un taller pràctic de reciclatge\, on aprendrem a estalviar els recursos que tenim al nostre abast i evitar generar deixalles. En aquesta activitat descobrirem d’on prové el paper i veurem els beneficis i maneres de poder reutilitzar-lo i reciclar-lo. La nostra finalitat? Poder crear el nostre propi paper\, de forma artesanal\, sense tallar cap arbre!\nA més a més\, introduirem llavors\, per poder plantar els nostres papers a la terra i que hi creixi una planta.
URL:https://scea.cat/agenda/fem-paper-reciclat-amb-llavors/
LOCATION:Centre Cívic i Espai de Gent Gran Baró de Viver
ATTACH;FMTTYPE=image/jpeg:https://scea.cat/wp-content/uploads/ninja-forms/7/paper-reciclat-scaled.jpg
END:VEVENT
BEGIN:VEVENT
DTSTART;TZID=Europe/Madrid:20240713T100000
DTEND;TZID=Europe/Madrid:20240713T100000
DTSTAMP:20260423T221700
CREATED:20240626T065859Z
LAST-MODIFIED:20240626T065859Z
UID:10745-1720864800-1720864800@scea.cat
SUMMARY:Fauna i flora de la desembocadura del Besòs
DESCRIPTION:Us proposem una activitat per donar a conèixer el gran valor ecològic de la desembocadura del\nBesòs\, espai sotmès a una gran antropització.\nAl llarg de la visita descobrirem l’avifauna de la desembocadura\, identificarem els arbustos i plantes pròpies dels rius\, així com\, la fauna tant autòctona com al·lòctona\, i reflexionarem sobre els impactes que pateix el riu i quines accions podem fer per millorar-lo\, entre d’altres.
URL:https://scea.cat/agenda/fauna-i-flora-de-la-desembocadura-del-besos/
LOCATION:Aula Ambiental del Parc del Litoral
ATTACH;FMTTYPE=image/jpeg:https://scea.cat/wp-content/uploads/ninja-forms/7/besos.jpg
END:VEVENT
BEGIN:VEVENT
DTSTART;TZID=Europe/Madrid:20240714T093000
DTEND;TZID=Europe/Madrid:20240714T093000
DTSTAMP:20260423T221700
CREATED:20240708T071427Z
LAST-MODIFIED:20240708T071427Z
UID:10802-1720949400-1720949400@scea.cat
SUMMARY:VISITA GUIADA A L'ESTANY DE SILS!
DESCRIPTION:Farem la ruta circular a l’estany per tal de parlar de les peculiaritats i històries arrelades a aquest entorn i conèixer la seva rica biodiversitat!
URL:https://scea.cat/agenda/visita-guiada-a-lestany-de-sils-9/
LOCATION:Estany de Sils
ATTACH;FMTTYPE=image/jpeg:https://scea.cat/wp-content/uploads/ninja-forms/7/Visita_guiada_140724-scaled.jpg
END:VEVENT
BEGIN:VEVENT
DTSTART;TZID=Europe/Madrid:20240717T173000
DTEND;TZID=Europe/Madrid:20240717T173000
DTSTAMP:20260423T221700
CREATED:20240626T070022Z
LAST-MODIFIED:20240626T070022Z
UID:10750-1721237400-1721237400@scea.cat
SUMMARY:Fem un “gespetes” i juguem en família
DESCRIPTION:Vine a passar una tarda en família a la Torre de la Sagrera. Hi tindrem jocs de taula i jocs gegants sobre medi ambient\, dels quals podreu gaudir tota la família. A més a més\, podreu participar d’un taller creatiu on mitjançant una mitja vella\, terra i llavors farem el nostre “gespetes”\, el ninot tant clàssic de la nostra infància amb el seu cabell verd que necessitarà ser regat per créixer.\nNo us ho perdeu!
URL:https://scea.cat/agenda/fem-un-gespetes-i-juguem-en-familia/
LOCATION:Casal de barri Torre de la Sagrera
ATTACH;FMTTYPE=image/jpeg:https://scea.cat/wp-content/uploads/ninja-forms/7/gespetes.jpg
END:VEVENT
END:VCALENDAR