BEGIN:VCALENDAR
VERSION:2.0
PRODID:-//SCEA - ECPv6.14.0//NONSGML v1.0//EN
CALSCALE:GREGORIAN
METHOD:PUBLISH
X-ORIGINAL-URL:https://scea.cat
X-WR-CALDESC:Esdeveniments per SCEA
REFRESH-INTERVAL;VALUE=DURATION:PT1H
X-Robots-Tag:noindex
X-PUBLISHED-TTL:PT1H
BEGIN:VTIMEZONE
TZID:Europe/Madrid
BEGIN:DAYLIGHT
TZOFFSETFROM:+0100
TZOFFSETTO:+0200
TZNAME:CEST
DTSTART:20240331T010000
END:DAYLIGHT
BEGIN:STANDARD
TZOFFSETFROM:+0200
TZOFFSETTO:+0100
TZNAME:CET
DTSTART:20241027T010000
END:STANDARD
END:VTIMEZONE
BEGIN:VEVENT
DTSTART;TZID=Europe/Madrid:20240611T080000
DTEND;TZID=Europe/Madrid:20241015T210000
DTSTAMP:20260424T175304
CREATED:20240611T101246Z
LAST-MODIFIED:20240611T101246Z
UID:10687-1718092800-1729026000@scea.cat
SUMMARY:Participa en la BioMARató “Platges amb vida” i descobreix la biodiversitat marina de Catalunya
DESCRIPTION:L’Institut de Ciències del Mar (ICM-CSIC) t’anima a participar en la BioMARató “Platges amb vida”\, una iniciativa de ciència ciutadana per catalogar la biodiversitat marina i costanera de Catalunya. És una competició amistosa entre participants de les províncies de Girona\, Barcelona i Tarragona\, i es duu a terme de maig a l’octubre. Totes les observacions pujades a MINKA nodreixen un mapa col·laboratiu on es pot consultar de manera oberta aquesta informació de la biodiversitat. \nDiverses entitats ambientals\, com la Federació Catalana d’Activitats Subaquàtiques (FECDAS)\, l’Associació Oceánicos\, Plàncton Diving i Anèl·lides – Serveis Ambientals Marins\, organitzen sortides al medi marí per explorar la fauna i flora locals i registrar-les a la plataforma de ciència ciutadana MINKA. La BioMARató també anima qualsevol persona amb interès en el mar i les platges a participar en qualsevol modalitat: esnòrquel\, submarinisme o passejar per les platges i les dunes. \nPer què participar? \nLa BioMARató és un esdeveniment de ciència ciutadana que contribueix al coneixement científic: cada observació compta i ajuda a crear un inventari detallat de la biodiversitat marina. Amb la ciència ciutadana promovem la connexió amb la natura i la descoberta de la fauna i flora marina de la nostra costa. A més\, l’esdeveniment posarà el punt final amb una festa de cloenda on es premiaran les persones participants més actives i es repartiran premis i sortejos aleatoris. \nCom pots participar? \n1.Registra’t a MINKA des del web o des de l’app \n2.Apunta’t a una sortida organitzada del nostre calendari i comparteix la teva passió pel mar amb altres persones amb els mateixos interessos. \n3.També pots explorar el medi i participar pel teu compte \n4.Comparteix les teves fotos a MINKA \n5.Identifica les espècies o ajuda a la resta de comunitat a fer-ho \nLa BioMARató està organitzada pel grup de recerca EMBIMOS de l’Institut de Ciències del Mar (ICM-CSIC)\, amb la col·laboració del Galicia Supercomputing Center (CESGA)\, Cressi i el projecte BioPlatgesMet\, i el suport financer dels projectes europeus MINKE\, ANERIS\, ECS i GUARDEN. \nMés informació al web biomarato.com i a l’Instagram @biomarato. \nUneix-te a la BioMARató\, descobreix la riquesa de les nostres platges i contribueix a la conservació del patrimoni natural litoral. T’hi esperem!
URL:https://scea.cat/agenda/participa-en-la-biomarato-platges-amb-vida-i-descobreix-la-biodiversitat-marina-de-catalunya/
LOCATION:Costa de Catalunya
ATTACH;FMTTYPE=image/jpeg:https://scea.cat/wp-content/uploads/ninja-forms/7/Banner-BioMARato-cat_LOW-1-scaled.jpg
END:VEVENT
BEGIN:VEVENT
DTSTART;TZID=Europe/Madrid:20240908T100000
DTEND;TZID=Europe/Madrid:20240908T100000
DTSTAMP:20260424T175304
CREATED:20240905T113827Z
LAST-MODIFIED:20240905T113827Z
UID:11043-1725789600-1725789600@scea.cat
SUMMARY:“Petits exploradors\, descobrim les ribes del Ter en família
DESCRIPTION:Ocells de plomatge blau metàl·lic\, escarabats fosforescents\, platges de sorra i còdols\, criatures alienígenes sota l’aigua… Les Ribes del Ter ens ofereixen experiències i recursos inesgotables perquè la canalla jugui a ser “Petits exploradors”…
URL:https://scea.cat/agenda/petits-exploradors-descobrim-les-ribes-del-ter-en-familia-7/
LOCATION:Les Ribes del Ter
END:VEVENT
BEGIN:VEVENT
DTSTART;TZID=Europe/Madrid:20240914T100000
DTEND;TZID=Europe/Madrid:20240914T100000
DTSTAMP:20260424T175304
CREATED:20240829T121336Z
LAST-MODIFIED:20240829T121336Z
UID:11018-1726308000-1726308000@scea.cat
SUMMARY:Passejada integrativa per la salut mental
DESCRIPTION:Aquest mes\, et proposem un itinerari tranquil i accessible per les zones més amagades i menys transitades de Vacarisses. Aquesta passejada està pensada per millorar el benestar tant físic com mental\, aprofitant els efectes revitalitzants de la natura. Caminarem per senders envoltats de calma i bellesa\, tot establint una connexió profunda amb l’entorn natural. \nAquesta activitat no només ens mantindrà actius\, sinó que també ens ajudarà a reduir l’estrès i l’ansietat\, proporcionant un moment ideal per relaxar la ment i desconnectar. A més\, aquesta experiència ens servirà per reflexionar sobre la importància de conservar els espais naturals\, fomentant una actitud respectuosa i conscient envers el medi ambient. \nUneix-te a aquesta passejada on la salut i la natura es fusionen\, i descobreix com un recorregut senzill pot millorar el teu benestar general. Una oportunitat per respirar profundament\, connectar amb la natura i amb tu mateix\, mentre gaudeixes de la serenitat i la riquesa natural de Vacarisses.
URL:https://scea.cat/agenda/passejada-integrativa-per-la-salut-mental-3/
LOCATION:Vacarisses
END:VEVENT
BEGIN:VEVENT
DTSTART;TZID=Europe/Madrid:20240915T103000
DTEND;TZID=Europe/Madrid:20240915T103000
DTSTAMP:20260424T175304
CREATED:20240910T073612Z
LAST-MODIFIED:20240913T083019Z
UID:11066-1726396200-1726396200@scea.cat
SUMMARY:Taller de Ciència Ciutadana
DESCRIPTION:Taller per explicar les eines bàsiques de la Ciència Ciutadana\, que ens poden servir per apropar-nos a la riquesa de la biodiversitat del nostre entorn\, tot contribuint a la ciència i a la conservació dels nostres espais naturals. \nLa Ciència Ciutadana es defineix com la recerca científica feta per persones no-especialistes o almenys no professionalment. \nRecentment\, hi ha hagut un boom\, mercè a la generalització dels aparells electrònics i aplicacions diverses a l’abast de tothom. També des del món acadèmic s’ha posat en valor aquesta aportació al coneixement que\, tot i no ser sempre estructurada (amb protocols\, tècniques\, etc.)\, el volum de dades és tan important\, que difícilment es podria aconseguir per part dels científics. Per tant resulta extremadament útil. \nAixí que ha esdevingut un tipus de voluntariat que podem compaginar amb les nostres passejades pel camp o fins i tot les vacances. \nÉs també una eina de conservació\, ja que posa de manifest la presència d’espècies sensibles o protegides\, afavorint que es puguin protegir els seus hàbitats. \nFem una presentació per explicar aquests projectes. Bàsicament hi ha de dos tipus: les més espontànies (simplement afegir informació a les bases de dades) o les més organitzades (amb mostrejos i protocols estandaritzats). \nUs hi esperem! Tothom podem recolzar la ciència i la protecció del medi ambient!
URL:https://scea.cat/agenda/taller-de-ciencia-ciutadana/
LOCATION:La Cellera de Ter (espai per confirmar)
ATTACH;FMTTYPE=image/png:https://scea.cat/wp-content/uploads/2024/09/Taller_CC_MG.png
END:VEVENT
BEGIN:VEVENT
DTSTART;TZID=Europe/Madrid:20240918T110000
DTEND;TZID=Europe/Madrid:20240918T110000
DTSTAMP:20260424T175304
CREATED:20240909T064810Z
LAST-MODIFIED:20240909T064810Z
UID:11048-1726657200-1726657200@scea.cat
SUMMARY:Connexió amb les abelles de la mel
DESCRIPTION:Taller: Connexió amb les abelles de la mel \nUn taller per explorar el món de les abelles desde una perspectiva centrada en l’ecologia de l’animal. Explorarem les necessitats de la colònia i aprendrem com entrar en el seu espai amb respecte mentre obrim un niu. \nPrograma \n11h – Benvinguda.\n11.30h – Cercle reflexiu sobre les abelles i la nostre connexió actual i ancestral.\n12h – Respiració i meditació. Joc grupal. Tècniques per entrar al món de les abelles.\n13h – Preparació per entrar al niu de les abelles i apertura del niu d’abelles. \nImportant \n•⁠ ⁠El programa és orientatiu i es seguirà el flow del grup i l’energia del dia.\n•⁠ ⁠No és necessari acostar-se a les abelles per obrir el niu\, cadascú triarà en quin punt es queda.\n•⁠ ⁠Hi haurà disponibles tratges d’apicultura convencional.\n•⁠ ⁠Si ets al•lèrgic a les abelles o no ho saps\, cal avisar-nos. \nCost \n•⁠ ⁠Sòcies i voluntàries de l’associació Silvestres – gratuit\n•⁠ ⁠⁠Externs – 25 euros.
URL:https://scea.cat/agenda/connexio-amb-les-abelles-de-la-mel/
LOCATION:Banyoles
END:VEVENT
BEGIN:VEVENT
DTSTART;TZID=Europe/Madrid:20240919T170000
DTEND;TZID=Europe/Madrid:20240919T170000
DTSTAMP:20260424T175304
CREATED:20240917T073439Z
LAST-MODIFIED:20240917T073439Z
UID:11095-1726765200-1726765200@scea.cat
SUMMARY:Grup de treball de docents: Educació ecosocial
DESCRIPTION:Grup de treball de docents per a crear i/o millorar activitats i projectes als centres educatius\, seguint els principis de l’educació ecosocial: una educació orientada a la resolució dels problemes socials\, econòmics i ecològics; enfocada en el benestar de qui habitem el planeta conscients dels límits i les interdependències que ens permeten viure; una educació que permet vincular-se al territori proper i a la comunitat\, que desenmascara l’actual model de desenvolupament i dóna pas a imaginar\, construir i experimentar alternatives. \n30 hores de formació reconeguda pel Departament.
URL:https://scea.cat/agenda/grup-de-treball-de-docents-educacio-ecosocial/
LOCATION:Terrassa
END:VEVENT
BEGIN:VEVENT
DTSTART;TZID=Europe/Madrid:20240921T100000
DTEND;TZID=Europe/Madrid:20240921T100000
DTSTAMP:20260424T175304
CREATED:20240916T090205Z
LAST-MODIFIED:20240916T090205Z
UID:11084-1726912800-1726912800@scea.cat
SUMMARY:NATURALISTES EN ACCIÓ!
DESCRIPTION:Es tracta d’un taller per a nens i nenes on l’objectiu és conèixer la biodiversitat de fauna i flora de l’Estany de Sils\, així com les accions que calen per conservar un entorn natural com aquest. \nActivitat apta per a tots els públics (recomanada per a nens i nenes de 8 a 14 anys\, però adaptable) i gratuïta amb places limitades. Inscripció al formulari adjuntat a la web.
URL:https://scea.cat/agenda/naturalistes-en-accio/
LOCATION:Estany de Sils
END:VEVENT
BEGIN:VEVENT
DTSTART;TZID=Europe/Madrid:20240921T110000
DTEND;TZID=Europe/Madrid:20240921T130000
DTSTAMP:20260424T175304
CREATED:20240827T081702Z
LAST-MODIFIED:20240827T081702Z
UID:10982-1726916400-1726923600@scea.cat
SUMMARY:Plantem pensaments... i “males” herbes!
DESCRIPTION:Diuen que a les flors els hi agrada que els parlin\, però… I als pensaments? Potser als pensaments els hi agrada més que els escoltin. \nVine a gaudir de la lectura de l’àlbum familiar il·lustrat\, “El jardí dels pensaments”\, de la veu de la seva autora per a descobrir que no només les plantes broten i necessiten atenció. \nCompartirem una tertúlia sobre la importància de tenir cura del nostre jardí interior\, però també de l’exterior\, que no hi ha “males” herbes igual que no hi ha emocions dolentes\, i d’altres temes tractats a l’àlbum\, i acabarem fent una plantada de llavors de plantes silvestres al Bosc Turull. \n \nA càrrec de Teresa Roig\, escriptora\, mare i activista. \nActivitat per a públic familiar\, a partir de 4 anys. \nEmmarcada en la Setmana del Llibre en Català\, Cicle de lectura ambiental. \nInscripcions a través d’aquest enllaç.
URL:https://scea.cat/agenda/plantem-pensaments-i-males-herbes/
LOCATION:Aula Ambiental Bosc Turull\, Passeig de Turull\, 2\, Barcelona\, Barcelona\, 08023\, Spain
CATEGORIES:Destacat
ATTACH;FMTTYPE=image/png:https://scea.cat/wp-content/uploads/2024/08/240921_Plantem-pensaments.png
ORGANIZER;CN="Aula Ambiental Bosc Turull":MAILTO:aula@boscturull.cat
END:VEVENT
BEGIN:VEVENT
DTSTART;TZID=Europe/Madrid:20240922T093000
DTEND;TZID=Europe/Madrid:20240922T093000
DTSTAMP:20260424T175304
CREATED:20240916T090117Z
LAST-MODIFIED:20240916T090117Z
UID:11088-1726997400-1726997400@scea.cat
SUMMARY:VISITA GUIADA A L'ESTANY DE SILS!
DESCRIPTION:Es farà la ruta per la zona dels aguaits al voltant de l’estany on parlarem sobre la història de la zona\, les espècies d’animals i plantes que s’hi troben durant aquesta època\, així com els projectes que s’hi estan duent a terme a l’estany per impulsar la seva conservació. \nActivitat apta per tots els públics i gratuïta amb places limitades i inscripció al formulari adjuntat a la web.
URL:https://scea.cat/agenda/visita-guiada-a-lestany-de-sils-11/
LOCATION:Estany de Sils.
END:VEVENT
BEGIN:VEVENT
DTSTART;TZID=Europe/Madrid:20240922T100000
DTEND;TZID=Europe/Madrid:20240922T100000
DTSTAMP:20260424T175304
CREATED:20240918T075813Z
LAST-MODIFIED:20240918T075813Z
UID:11108-1726999200-1726999200@scea.cat
SUMMARY:“La segona primavera: sortida etnobotànica”
DESCRIPTION:Rosetes que desperten\, plenes de fulles tendres i dolces\, flors que busquen una segona oportunitat\, fruits de tardor… Una senzilla passejada ens ofereix tot de recursos gratuïts\, que han caigut en l’oblit\, i que volem recuperar. \nFarem una passejada pels camps de la Cellera de Ter\, on trobarem herbes espontànies\, moltes considerades “males herbes”\, i parlarem de com identificar-les\, les seves aplicacions\, i com collir-les de manera segura i respectuosa. I\, per descomptat\, les tastarem! \nPreu: taquilla inversa (pagueu al final\, el que podeu\, si podeu\, i en funció del que us hagi agradat)\nData límit d’inscripció: 2 dies abans
URL:https://scea.cat/agenda/la-segona-primavera-sortida-etnobotanica/
LOCATION:La Cellera de Ter
END:VEVENT
BEGIN:VEVENT
DTSTART;TZID=Europe/Madrid:20240925T173000
DTEND;TZID=Europe/Madrid:20240925T190000
DTSTAMP:20260424T175304
CREATED:20240827T085118Z
LAST-MODIFIED:20240827T085118Z
UID:10990-1727285400-1727290800@scea.cat
SUMMARY:Explora la fauna urbana de Barcelona
DESCRIPTION:Aquí hi viu algú més… \n  \nLa “Guia de fauna urbana de Barcelona”\, recentment editada\, recull una vuitantena d’espècies de la fauna vertebrada i una quarantena de la invertebrada que es poden observar a Barcelona\, les més representatives d’una fauna\, en general\, desconeguda i sorprenent. \nDe la mà del seu autor\, parlarem d’organismes simples però fascinants\, com les esponges d’aigua dolça\, de grans mamífers\, com el senglar\, i de depredadors\, com el falcó pelegrí. \nAcabarem amb una passejada pel Bosc Turull i la seva bassa naturalitzada\, per observar i identificar les espècies que hi podem trobar. No t’ho perdis! \n  \nA càrrec de Sergi García\, autor i membre de Galanthus. \nActivitat dirigida a públic adult. \nEmmarcada en la Setmana del Llibre en Català\, Cicle de lectura ambiental. \nInscripcions a través d’aquest enllaç.
URL:https://scea.cat/agenda/explora-la-fauna-urbana-de-barcelona/
LOCATION:Aula Ambiental Bosc Turull\, Passeig de Turull\, 2\, Barcelona\, Barcelona\, 08023\, Spain
CATEGORIES:Destacat
ATTACH;FMTTYPE=image/jpeg:https://scea.cat/wp-content/uploads/2024/08/240925_Guia-fauna-urbana.jpg
ORGANIZER;CN="Aula Ambiental Bosc Turull":MAILTO:aula@boscturull.cat
END:VEVENT
BEGIN:VEVENT
DTSTART;TZID=Europe/Madrid:20240926T183000
DTEND;TZID=Europe/Madrid:20240926T200000
DTSTAMP:20260424T175304
CREATED:20240827T091957Z
LAST-MODIFIED:20240903T093602Z
UID:10995-1727375400-1727380800@scea.cat
SUMMARY:La SCEA presenta "Cambio climático y ecoansiedad. De la preocupación a la acción"
DESCRIPTION:Presentació de la darrera obra de l’autora Teresa Franquesa i debat posterior entre l’autora i Xavier Sabaté\, moderat per Oriol Porcel\, coordinador de la SCEA. \n\n\n\nAquest llibre explora de manera clara i comprensible la crisi climàtica i les emocions associades per ajudar-nos a entendre-les i enfrontar-les. \n\n\n\nDes d’estratègies personals fins a accions globals\, es suggereixen respostes pràctiques i es convida a cada persona a assumir la seva pròpia responsabilitat i a participar en la construcció del futur. \n\n \nTeresa Franquesa és Doctora en Ciències Biològiques i màster en Psicologia Social\, i en Xavier Sabaté és ambientòleg i comunicador\, Màster en Geografia i amb estudis ampliats en el camp del paisatge\, la sociologia i l’educació. Tots dos són membres de la SCEA. \nActivitat dirigida a públic jove i adult. \nCoorganitzada amb la Biblioteca Jaume Fuster. \nEmmarcada en el Cicle de lectura ambiental. \nInscripcions a través d’aquest enllaç.
URL:https://scea.cat/agenda/la-scea-presenta-cambio-climatico-y-ecoansiedad-de-la-preocupacion-a-la-accion/
LOCATION:Biblioteca Jaume Fuster\, Plaça de Lesseps\, 20\, Barcelona\, Barcelona\, 08023\, Spain
CATEGORIES:Destacat
ATTACH;FMTTYPE=image/png:https://scea.cat/wp-content/uploads/2024/08/SCEA_v2.png
ORGANIZER;CN="Aula Ambiental Bosc Turull":MAILTO:aula@boscturull.cat
END:VEVENT
BEGIN:VEVENT
DTSTART;TZID=Europe/Madrid:20240928T100000
DTEND;TZID=Europe/Madrid:20240928T100000
DTSTAMP:20260424T175304
CREATED:20240802T122410Z
LAST-MODIFIED:20240802T122410Z
UID:10866-1727517600-1727517600@scea.cat
SUMMARY:Fauna i flora de la desembocadura del Besòs
DESCRIPTION:Us proposem una activitat que dóna a conèixer el gran valor ecològic de la desembocadura del Besòs\, espai sotmès a una gran antropització.\nAl llarg de la visita descobrirem l’avifauna de la desembocadura\, identificarem els arbustos i plantes pròpies dels rius\, així com\, la fauna tant autòctona com al·lòctona\, i reflexionarem sobre els impactes que pateix el riu i quines accions podem fer per millorar-lo\, entre d’altres. \nInformació sobre les inscripcions a santandreuambiental@bcn.cat o trucant al 699902359.
URL:https://scea.cat/agenda/fauna-i-flora-de-la-desembocadura-del-besos-2/
LOCATION:Aula Ambiental del Parc del Litoral
ATTACH;FMTTYPE=image/png:https://scea.cat/wp-content/uploads/ninja-forms/7/besos-cartell.png
END:VEVENT
BEGIN:VEVENT
DTSTART;TZID=Europe/Madrid:20240928T110000
DTEND;TZID=Europe/Madrid:20240928T130000
DTSTAMP:20260424T175304
CREATED:20240827T095459Z
LAST-MODIFIED:20240827T095459Z
UID:11001-1727521200-1727528400@scea.cat
SUMMARY:Engeguem les taules d'hort del Bosc Turull
DESCRIPTION:Els beneficis de l’horticultura urbana ja no són cap secret. Gaudir del contacte amb la terra\, augmentar les zones verdes a nivell particular\, afavorir pol·linitzadors\, cultivar el propi aliment… \nEn aquesta xerrada-taller coneixerem l’essencial per començar el nostre hort urbà: recordarem el cicle vital de les plantes\, coneixerem diferents tipus d’horts urbans fets amb materials comercials i reciclats\, veurem els materials bàsics per tenir un hort en un pis\, balcó o terrassa\, identificarem les espècies més adequades per cultivar a casa i les millors associacions de cultius i aprendrem a aplicar tècniques ecològiques. \nAcabarem amb una part pràctica posant en marxa les taules d’hort urbà del Bosc Turull. \nAnima’t a posar mans a la terra i aprendràs tot el que et cal per a tenir un hort urbà amb èxit a casa teva! \n  \nA càrrec de Mireia Querol\, de Biologueando. \nActivitat dirigida a tots els públics. \nInscripcions a través d’aquest enllaç.
URL:https://scea.cat/agenda/engeguem-les-taules-dhort-del-bosc-turull/
LOCATION:Aula Ambiental Bosc Turull\, Passeig de Turull\, 2\, Barcelona\, Barcelona\, 08023\, Spain
CATEGORIES:Destacat
ATTACH;FMTTYPE=image/png:https://scea.cat/wp-content/uploads/2024/08/240928_Taules-hort.png
ORGANIZER;CN="Aula Ambiental Bosc Turull":MAILTO:aula@boscturull.cat
END:VEVENT
END:VCALENDAR