BEGIN:VCALENDAR
VERSION:2.0
PRODID:-//SCEA - ECPv6.14.0//NONSGML v1.0//EN
CALSCALE:GREGORIAN
METHOD:PUBLISH
X-WR-CALNAME:SCEA
X-ORIGINAL-URL:https://scea.cat
X-WR-CALDESC:Esdeveniments per SCEA
REFRESH-INTERVAL;VALUE=DURATION:PT1H
X-Robots-Tag:noindex
X-PUBLISHED-TTL:PT1H
BEGIN:VTIMEZONE
TZID:Europe/Madrid
BEGIN:DAYLIGHT
TZOFFSETFROM:+0100
TZOFFSETTO:+0200
TZNAME:CEST
DTSTART:20240331T010000
END:DAYLIGHT
BEGIN:STANDARD
TZOFFSETFROM:+0200
TZOFFSETTO:+0100
TZNAME:CET
DTSTART:20241027T010000
END:STANDARD
END:VTIMEZONE
BEGIN:VEVENT
DTSTART;TZID=Europe/Madrid:20240611T080000
DTEND;TZID=Europe/Madrid:20241015T210000
DTSTAMP:20260424T174900
CREATED:20240611T101246Z
LAST-MODIFIED:20240611T101246Z
UID:10687-1718092800-1729026000@scea.cat
SUMMARY:Participa en la BioMARató “Platges amb vida” i descobreix la biodiversitat marina de Catalunya
DESCRIPTION:L’Institut de Ciències del Mar (ICM-CSIC) t’anima a participar en la BioMARató “Platges amb vida”\, una iniciativa de ciència ciutadana per catalogar la biodiversitat marina i costanera de Catalunya. És una competició amistosa entre participants de les províncies de Girona\, Barcelona i Tarragona\, i es duu a terme de maig a l’octubre. Totes les observacions pujades a MINKA nodreixen un mapa col·laboratiu on es pot consultar de manera oberta aquesta informació de la biodiversitat. \nDiverses entitats ambientals\, com la Federació Catalana d’Activitats Subaquàtiques (FECDAS)\, l’Associació Oceánicos\, Plàncton Diving i Anèl·lides – Serveis Ambientals Marins\, organitzen sortides al medi marí per explorar la fauna i flora locals i registrar-les a la plataforma de ciència ciutadana MINKA. La BioMARató també anima qualsevol persona amb interès en el mar i les platges a participar en qualsevol modalitat: esnòrquel\, submarinisme o passejar per les platges i les dunes. \nPer què participar? \nLa BioMARató és un esdeveniment de ciència ciutadana que contribueix al coneixement científic: cada observació compta i ajuda a crear un inventari detallat de la biodiversitat marina. Amb la ciència ciutadana promovem la connexió amb la natura i la descoberta de la fauna i flora marina de la nostra costa. A més\, l’esdeveniment posarà el punt final amb una festa de cloenda on es premiaran les persones participants més actives i es repartiran premis i sortejos aleatoris. \nCom pots participar? \n1.Registra’t a MINKA des del web o des de l’app \n2.Apunta’t a una sortida organitzada del nostre calendari i comparteix la teva passió pel mar amb altres persones amb els mateixos interessos. \n3.També pots explorar el medi i participar pel teu compte \n4.Comparteix les teves fotos a MINKA \n5.Identifica les espècies o ajuda a la resta de comunitat a fer-ho \nLa BioMARató està organitzada pel grup de recerca EMBIMOS de l’Institut de Ciències del Mar (ICM-CSIC)\, amb la col·laboració del Galicia Supercomputing Center (CESGA)\, Cressi i el projecte BioPlatgesMet\, i el suport financer dels projectes europeus MINKE\, ANERIS\, ECS i GUARDEN. \nMés informació al web biomarato.com i a l’Instagram @biomarato. \nUneix-te a la BioMARató\, descobreix la riquesa de les nostres platges i contribueix a la conservació del patrimoni natural litoral. T’hi esperem!
URL:https://scea.cat/agenda/participa-en-la-biomarato-platges-amb-vida-i-descobreix-la-biodiversitat-marina-de-catalunya/
LOCATION:Costa de Catalunya
ATTACH;FMTTYPE=image/jpeg:https://scea.cat/wp-content/uploads/ninja-forms/7/Banner-BioMARato-cat_LOW-1-scaled.jpg
END:VEVENT
BEGIN:VEVENT
DTSTART;TZID=Europe/Madrid:20241005T093000
DTEND;TZID=Europe/Madrid:20241005T093000
DTSTAMP:20260424T174900
CREATED:20241003T073613Z
LAST-MODIFIED:20241003T073613Z
UID:11406-1728120600-1728120600@scea.cat
SUMMARY:Àguiles i falcons: nòmades cap a l’Àfrica”
DESCRIPTION:Lluny\, un estol de desenes de cigonyes planegen sense esforç… Sobre els nostres caps\, una silueta majestuosa retalla el cel\, dibuixant una espiral perfecta. Durant el setembre-octubre\, milers d’aus rapinyaires i cigonyes abandonen Europa per viatjar milers de quilòmetres cap a l’Àfrica\, on passaran l’hivern.\nAquest dissabte des d’El Meandre et convidem a viure\, en el marc incomparable del Far\, un dels fenòmens més fascinants de la natura: la migració de les aus planejadores.
URL:https://scea.cat/agenda/aguiles-i-falcons-nomades-cap-a-lafrica/
LOCATION:Santi Martí Sacalm
END:VEVENT
BEGIN:VEVENT
DTSTART;TZID=Europe/Madrid:20241009T113000
DTEND;TZID=Europe/Madrid:20241009T113000
DTSTAMP:20260424T174900
CREATED:20240819T093153Z
LAST-MODIFIED:20240819T093153Z
UID:10882-1728473400-1728473400@scea.cat
SUMMARY:Les entranyes de la ciutat: les clavegueres
DESCRIPTION:La xarxa de clavegueram garanteix la higiene i la salut pública\, evita possibles inundacions i facilita el sanejament de les aigües residuals de la ciutat. És\, per tant\, important tenir en compte tot el cicle de l’aigua dins de la planificació urbanística d’una ciutat. Visitarem un tram de les clavegueres de Barcelona.\nT’animes a descobrir-lo? \nNormativa: sabata tancada\, màniga i pantaló llarg (per seguretat). \nA càrrec de la XEAB (Xarxa d’Equipaments Ambientals de Barcelona).
URL:https://scea.cat/agenda/les-entranyes-de-la-ciutat-les-clavegueres-2/
LOCATION:Passeig Sant Joan\, 91
ATTACH;FMTTYPE=image/png:https://scea.cat/wp-content/uploads/ninja-forms/7/clavegueres_cataleg.png
END:VEVENT
BEGIN:VEVENT
DTSTART;TZID=Europe/Madrid:20241012T170000
DTEND;TZID=Europe/Madrid:20241012T170000
DTSTAMP:20260424T174900
CREATED:20241008T073959Z
LAST-MODIFIED:20241008T073959Z
UID:11424-1728752400-1728752400@scea.cat
SUMMARY:Taller: “Desconnectar per reconnectar”
DESCRIPTION:Aprèn a gestionar l’ús de les pantalles i reconnecta amb la natura per millorar el teu benestar. Descobreix com la desconnexió digital pot ajudar-te a trobar l’equilibri i a viure de manera més plena.\nAquest taller et donarà eines i idees per saber coinciliar la tecnologia amb la teva vida personal.\nT’hi esperem!\nDe la mà de Esther Poch\, d’@educassori\, presentant el projecte @tecnoayuno
URL:https://scea.cat/agenda/taller-desconnectar-per-reconnectar/
LOCATION:Aula de Natura El Meandre
ATTACH;FMTTYPE=image/png:https://scea.cat/wp-content/uploads/2024/10/Desconnectar_-Insta_post.png
END:VEVENT
BEGIN:VEVENT
DTSTART;TZID=Europe/Madrid:20241015T180000
DTEND;TZID=Europe/Madrid:20241015T180000
DTSTAMP:20260424T174900
CREATED:20241002T095623Z
LAST-MODIFIED:20241002T095623Z
UID:11352-1729015200-1729015200@scea.cat
SUMMARY:Curs d'iniciació en la identificació dels rèptils escatosos
DESCRIPTION:Curs teorico-pràctic amb l’objectiu de donar a conèixer les principals característiques dels rèptils escatosos i aprendre a identificar les diferents espècies de Catalunya.\nAquest curs es dividirà en tres sessions per facilitar una millor assimilació dels coneixements i assegurar que rebeu tota la informació necessària sobre els nostres rèptils escatosos incloent la seva biologia\, ecologia i tècniques de mostreig.
URL:https://scea.cat/agenda/curs-diniciacio-en-la-identificacio-dels-reptils-escatosos/
LOCATION:Can Lleonart Centre Cultural
END:VEVENT
BEGIN:VEVENT
DTSTART;TZID=Europe/Madrid:20241016T170000
DTEND;TZID=Europe/Madrid:20241016T170000
DTSTAMP:20260424T174900
CREATED:20240819T093128Z
LAST-MODIFIED:20240819T093128Z
UID:10887-1729098000-1729098000@scea.cat
SUMMARY:Què en sabem de les llavors?
DESCRIPTION:Tenim clar que la llavor és la part de les plantes mitjançant la qual moltes d’aquestes es reprodueixen. Sabem\, però\, com fan tota aquesta reproducció? Quins són els períodes de dormició? Com les hem de fer germinar? Quins tipus de llavors existeixen? Què vol dir que una llavor estigui modificada genèticament i quins impactes genera en els horts?\, etc.\nEn aquesta xerrada\, esbrinarem tot això de la mà de la doctora Roser Toldrà\, professora agregada de la UAB\, coordinadora del doctorat de Biologia i Biotecnologia Vegetal i Cap de la Unitat de Fisiologia Vegetal BABVE. \nCoorganitzat amb la Xarxa d’Horts dels equipaments del districte de Sant Andreu i el Casal de barri Torre de la Sagrera. A càrrec de la doctora Roser Toldrà.
URL:https://scea.cat/agenda/que-en-sabem-de-les-llavors/
LOCATION:Al Casal de barri Torre de la Sagrera
ATTACH;FMTTYPE=image/jpeg:https://scea.cat/wp-content/uploads/ninja-forms/7/llavor-1-scaled.jpg
END:VEVENT
BEGIN:VEVENT
DTSTART;TZID=Europe/Madrid:20241019T100000
DTEND;TZID=Europe/Madrid:20241019T100000
DTSTAMP:20260424T174900
CREATED:20240829T095314Z
LAST-MODIFIED:20240829T095314Z
UID:11010-1729332000-1729332000@scea.cat
SUMMARY:Passejada integrativa per la salut mental
DESCRIPTION:Aquest mes\, et proposem un itinerari planer i fàcil pels racons més tranquils i menys freqüentats de Rellinars. Aquesta excursió està dissenyada per promoure el benestar físic i mental\, aprofitant els beneficis que ens ofereix la natura. A mesura que avancem pels senders\, ens endinsarem en la tranquil·litat i la bellesa del nostre entorn\, establint una connexió sana amb el medi ambient. \nAquestes caminades no només contribueixen a millorar la nostra salut física\, sinó que també ens ajuden a reduir l’estrès i l’ansietat\, oferint un espai de calma i introspecció. A més\, aquestes experiències serveixen per conscienciar-nos sobre la importància de conservar el nostre entorn natural\, fomentant el respecte i la cura per la natura. \nUneix-te a aquesta caminada on la natura i la salut van de la mà\, i descobreix com pot canviar la teva perspectiva i benestar general. Una oportunitat per respirar profundament\, connectar amb l’entorn i amb tu mateix\, mentre gaudeixes de la riquesa natural que ens envolta.
URL:https://scea.cat/agenda/passejada-integrativa-per-la-salut-mental/
LOCATION:Rellinars
END:VEVENT
BEGIN:VEVENT
DTSTART;TZID=Europe/Madrid:20241020T103000
DTEND;TZID=Europe/Madrid:20241020T103000
DTSTAMP:20260424T174900
CREATED:20241015T074011Z
LAST-MODIFIED:20241015T074011Z
UID:11444-1729420200-1729420200@scea.cat
SUMMARY:Ruta sensorial per descobrir les plantes silvestres
DESCRIPTION:Passejada per conèixer les plantes silvestres a través dels sentits\, aprofitant la biodiversitat dels boscos mediterranis de les Guilleries\, en el marc incomparable del Pasteral. \nLa textura suau dels angelets\, el gust picant d’una flor d’all salvatge\, el color impossible d’una rosella… Les plantes ens ofereixen un munt de sensacions alhora que aprenem sobre la nostra biodiversitat propera\, i els seus usos.\nA vegades ens oblidem de que les plantes són la base de gairebé tot el que ens ha fet ser humans; les mengem\, ens curen\, ens guareixen\, ens escalfen\, ens vesteixen… Al menys fins fa ben poc.\nI tot això ho trobàvem al nostre abast\, al bosc. Per això era vital saber reconèixer les plantes\, per les seves formes\, colors\, olors\, textures i gustos.\nUs proposem aquest viatge a l’univers sensorial de la flora local\, mitjançant l’estimulació dels nostres sentits. Amb els petits de la casa podran jugar i els grans\, aprendre moltes curiositats i utilitats. Fins i tot\, avui en dia!\nAmb la col·laboració especial de l’Alba\, terapeuta holística.
URL:https://scea.cat/agenda/ruta-sensorial-per-descobrir-les-plantes-silvestres-2/
LOCATION:La Cellera de Ter
ATTACH;FMTTYPE=image/png:https://scea.cat/wp-content/uploads/2024/10/Ruta_sensorial_2_MG.png
END:VEVENT
BEGIN:VEVENT
DTSTART;TZID=Europe/Madrid:20241022T180000
DTEND;TZID=Europe/Madrid:20241022T193000
DTSTAMP:20260424T174900
CREATED:20240819T093640Z
LAST-MODIFIED:20241001T094826Z
UID:10877-1729620000-1729625400@scea.cat
SUMMARY:Taller de Wicking Bed
DESCRIPTION:Taller on aprendrem a dissenyar i confeccionar un sistema de regadiu molt innovador\, el wicking bed (testos autoregants). Es tracta d’un sistema que funciona per acció capil·lar amb un llit humit a la part inferior. Ens ajudarà a poder deixar les nostres plantes soles una temporada i evitar\nl’evapotranspiració\, entre altres beneficis! No t’ho perdis. \nA càrrec de Antonio Scotti\, consultor y formador de permacultura\, As. Cambium Permacultura en\nFormación. Coorganitzat amb el Casal de barri Torre de la Sagrera i la Xarxa d’Horts dels equipaments del districte de Sant Andreu.
URL:https://scea.cat/agenda/taller-de-wicking-bed/
LOCATION:Casal de barri Torre de la Sagrera
ATTACH;FMTTYPE=image/jpeg:https://scea.cat/wp-content/uploads/ninja-forms/7/wickingbed-1.jpeg
END:VEVENT
BEGIN:VEVENT
DTSTART;TZID=Europe/Madrid:20241023T180000
DTEND;TZID=Europe/Madrid:20241023T180000
DTSTAMP:20260424T174900
CREATED:20240819T093024Z
LAST-MODIFIED:20240819T093024Z
UID:10892-1729706400-1729706400@scea.cat
SUMMARY:Com recollir\, preservar i plantar llavors?
DESCRIPTION:Aquest taller va encaminat a oferir els coneixements necessaris per a aprendre a seleccionar les\nplantes i els fruits més adequats\, a extreure’n les llavors i alhora emmagatzemar-les correctament\nper a poder tenir les nostres pròpies varietats locals any rere any. També\, aprendrem els secrets\nbàsics per a realitzar planter. \nCoorganitzat amb la SCE La Lira. A càrrec de l’Ortiga Cooperativa.
URL:https://scea.cat/agenda/com-recollir-preservar-i-plantar-llavors/
LOCATION:SCE La Lira
ATTACH;FMTTYPE=image/jpeg:https://scea.cat/wp-content/uploads/ninja-forms/7/llavors-scaled.jpg
END:VEVENT
BEGIN:VEVENT
DTSTART;TZID=Europe/Madrid:20241026T100000
DTEND;TZID=Europe/Madrid:20241026T100000
DTSTAMP:20260424T174900
CREATED:20241018T092803Z
LAST-MODIFIED:20241021T093625Z
UID:11454-1729936800-1729936800@scea.cat
SUMMARY:Zero residus a les platges de Sitges!
DESCRIPTION:Recollida de deixalles marines a les platges de la Barra i Terramar de Sitges organitzada amb la col·laboració de Custòdia de platges. \nDonarem a conèixer els projectes de ciència ciutadana d’ Observadors del Mar on es comparteixen dades i observacions sobre el tipus i quantitat de residus\, plàstics i microplàstics que trobem a les platges del nostre litoral. \nActivitat familiar i per tots els públics.
URL:https://scea.cat/agenda/zero-residus-a-les-platges-de-sitges/
LOCATION:Centre d’Estudis del Mar (passeig Marítim\, 72. Sitges)
ATTACH;FMTTYPE=image/png:https://scea.cat/wp-content/uploads/2024/10/CLEAN-UP-DAY-WEB_pixiz.png
END:VEVENT
BEGIN:VEVENT
DTSTART;TZID=Europe/Madrid:20241026T103000
DTEND;TZID=Europe/Madrid:20241026T103000
DTSTAMP:20260424T174900
CREATED:20241022T074140Z
LAST-MODIFIED:20241022T074140Z
UID:11477-1729938600-1729938600@scea.cat
SUMMARY:ART\, ESCRIPTURA I NATURA
DESCRIPTION:Una activitat completa que combina la contemplació i l’apreciació de la natura amb l’art visual i l’escriptura creativa\, i que ofereix una experiència enriquidora i multidimensional. \nA càrrec de l’Associació Animal Latitude\, en el marc del projecte Desperta\, art i natura. \nInscripcions sense cost: ccvazquezmontalban.inscripcionscc.com\nCorreu: informacio@ccvazquezmontalban.com
URL:https://scea.cat/agenda/art-escriptura-i-natura/
LOCATION:Aula Ambiental del Centre Cívic Vallvidrera Vazquez Montalbán
END:VEVENT
END:VCALENDAR