BEGIN:VCALENDAR
VERSION:2.0
PRODID:-//SCEA - ECPv6.14.0//NONSGML v1.0//EN
CALSCALE:GREGORIAN
METHOD:PUBLISH
X-WR-CALNAME:SCEA
X-ORIGINAL-URL:https://scea.cat
X-WR-CALDESC:Esdeveniments per SCEA
REFRESH-INTERVAL;VALUE=DURATION:PT1H
X-Robots-Tag:noindex
X-PUBLISHED-TTL:PT1H
BEGIN:VTIMEZONE
TZID:Europe/Madrid
BEGIN:DAYLIGHT
TZOFFSETFROM:+0100
TZOFFSETTO:+0200
TZNAME:CEST
DTSTART:20240331T010000
END:DAYLIGHT
BEGIN:STANDARD
TZOFFSETFROM:+0200
TZOFFSETTO:+0100
TZNAME:CET
DTSTART:20241027T010000
END:STANDARD
END:VTIMEZONE
BEGIN:VEVENT
DTSTART;TZID=Europe/Madrid:20241201T100000
DTEND;TZID=Europe/Madrid:20241201T100000
DTSTAMP:20260424T222406
CREATED:20241126T082814Z
LAST-MODIFIED:20241126T082814Z
UID:11606-1733047200-1733047200@scea.cat
SUMMARY:Taller de menjadores d’ocells
DESCRIPTION:Els ocells migren fugint del fred? O perquè no troben prou aliment? Tots els ocells migratoris marxen a l’Àfrica? Podem ajudar a aquests ocells? Totes aquestes preguntes i moltes més les resoldrem en el taller de menjadores d’ocells!! I us emporteu la vostra pel balcó o jardí! \nLa part pràctica del taller consistirà a construir de manera casolana una menjadora\, que ens emportarem a casa. També us explicarem que aliments NO hem de posar mai a les menjadores\, on penjar-les per garantir la seguretat dels ocells\, el manteniment\, en quines dates la penjarem\, etc. \nPerò abans visitarem la menjadora de l’Aula de Natura El Meandre. Al mig del bosc\, tenim un aguait on ens amagarem en silenci. A pocs metres veurem un roure on hem penjat diverses menjadores amb diferents tipus de llavors i fruits. I amb l’ajuda dels prismàtics que posarà El Meandre\, podrem gaudir de la bellesa dels ocells que vénen a alimentar-se. Algunes espècies habituals són la mallerenga carbonera\, la mallerenga blava i el pica-soques blau. I alguna vegada ens ha visitat el picot garser gros i el durbec!!! \nActivitat educativa\, per a tota la família!
URL:https://scea.cat/agenda/taller-de-menjadores-docells-2/
LOCATION:Aula de Natura El Meandre
ATTACH;FMTTYPE=image/jpeg:https://scea.cat/wp-content/uploads/2024/11/2019-11-03_IMG_0084_menjadora_web-scaled.jpg
END:VEVENT
BEGIN:VEVENT
DTSTART;TZID=Europe/Madrid:20241203T170000
DTEND;TZID=Europe/Madrid:20241203T170000
DTSTAMP:20260424T222406
CREATED:20240819T092203Z
LAST-MODIFIED:20240819T092203Z
UID:10932-1733245200-1733245200@scea.cat
SUMMARY:Formació en organització d’esdeveniment social i ambientalment justos
DESCRIPTION:La finalitat d’aquesta formació és dotar d’eines les entitats i organitzacions dels barris per incorporar criteris de sostenibilitat així com una mirada intercultural\, feminista i inclusiva en l’organització dels seus esdeveniments públics. Així doncs\, si voleu tenir eines per apostar per uns\nactes més harmoniosos amb l’entorn i les persones\, no dubteu a inscriure-us. \nCoorganitzat amb el PDC Navas\, el Centre Cívic de Navas\, el Servei d’Interculturalitat del districte\, Feminismes\, LGTBI- Prevenció i Convivència del districte i el servei d’inclusió i accessibilitat del districte.
URL:https://scea.cat/agenda/formacio-en-organitzacio-desdeveniment-social-i-ambientalment-justos/
LOCATION:Centre Cívic de Navas
ATTACH;FMTTYPE=image/jpeg:https://scea.cat/wp-content/uploads/ninja-forms/7/formacio-esdeveniments.jpg
END:VEVENT
BEGIN:VEVENT
DTSTART;TZID=Europe/Madrid:20241207T093000
DTEND;TZID=Europe/Madrid:20241207T093000
DTSTAMP:20260424T222406
CREATED:20241204T072707Z
LAST-MODIFIED:20241204T072707Z
UID:11616-1733563800-1733563800@scea.cat
SUMMARY:Estanys\, canals i prats de dall\, Sils com a mosaic
DESCRIPTION:Més enllà de la imatge que tenim de la llacuna enmig de plantacions de pollancres\, l’estany de Sils és un espai natural que acull una interessant diversitat de fauna i flora\, amb un destacat ventall d’hàbitats.\nUs proposem una visita guiada pel nostre intèrpret ambiental per descobrir aquest refugi de fauna i flora: ànecs\, bernats pescaires\, blauets\, tortugues d’estany\, lliris grocs\, jonqueres i bogars\, prats de dall… Sils… és més que un estany.
URL:https://scea.cat/agenda/estanys-canals-i-prats-de-dall-sils-com-a-mosaic/
LOCATION:Sils\, Girona
ATTACH;FMTTYPE=image/png:https://scea.cat/wp-content/uploads/2024/12/Sils_Insta_post-1.png
END:VEVENT
BEGIN:VEVENT
DTSTART;TZID=Europe/Madrid:20241208T103000
DTEND;TZID=Europe/Madrid:20241208T103000
DTSTAMP:20260424T222406
CREATED:20241204T072618Z
LAST-MODIFIED:20241204T072618Z
UID:11620-1733653800-1733653800@scea.cat
SUMMARY:Bones herbes: les plantes útils dels camins
DESCRIPTION:Sortida d’etnobotànica per conèixer les plantes útils\, mengívoles\, remeieres\, entre altres usos\, que ens regala la natura a qualsevol racó. \nT’has quedat sense enciam i no saps que fer d’amanida? S’ha ortigat el menut de la casa i no tens Afterbite a mà? \nLes plantes silvestres\, moltes considerades “males herbes”\, tenen moltíssimes utilitats que ens ofereixen de manera gratuïta… Aquest coneixement\, gairebé atressorat només per la gent gran\, s’està perdent\, i amb ell\, una cultura. \nFarem una passetjada pels camps de la Cellera de Ter\, on trobarem herbes espontànies i parlarem de com identificar-les\, les seves aplicacions\, i com collir-les de manera segura i respectuosa.
URL:https://scea.cat/agenda/bones-herbes-les-plantes-utils-dels-camins/
LOCATION:La Cellera de Ter
ATTACH;FMTTYPE=image/png:https://scea.cat/wp-content/uploads/2024/12/Bones_herbes_Insta_post.png
END:VEVENT
BEGIN:VEVENT
DTSTART;TZID=Europe/Madrid:20241212T170000
DTEND;TZID=Europe/Madrid:20241212T170000
DTSTAMP:20260424T222406
CREATED:20240819T092051Z
LAST-MODIFIED:20240819T092139Z
UID:10947-1734022800-1734022800@scea.cat
SUMMARY:Reparació de bicicletes
DESCRIPTION:Fer un bon manteniment de la nostra bicicleta és una qüestió de seguretat i prevenció: podem evitar ensurts i detectar avaries abans que siguin massa greus. En aquest taller\, una persona especialista donarà a conèixer nocions bàsiques de mecànica i manteniment de la bicicleta (tipus de bicis\, aspectes ergonòmics\, accessoris\, funcionament\, neteja\, com oliar\, revisió de l’estat de les rodes\, frens\, etc.): una visió general acompanyada d’una demostració per adquirir coneixements i tècniques elementals per entendre i tenir cura de la nostra bicicleta. \nCoorganitzat amb la Nau Vila-Besòs. Dinamitzat per Biciclot.
URL:https://scea.cat/agenda/reparacio-de-bicicletes/
LOCATION:Nau Vila Besòs
ATTACH;FMTTYPE=image/jpeg:https://scea.cat/wp-content/uploads/ninja-forms/7/reparaciobici-1-scaled.jpg
END:VEVENT
BEGIN:VEVENT
DTSTART;TZID=Europe/Madrid:20241212T183000
DTEND;TZID=Europe/Madrid:20241212T183000
DTSTAMP:20260424T222407
CREATED:20241209T115139Z
LAST-MODIFIED:20241209T115139Z
UID:11634-1734028200-1734028200@scea.cat
SUMMARY:Mar d'Aral\, un mar d'interrogants
DESCRIPTION:En aquesta darrera sessió de l’any del cicle ConversesNAT es projectarà el documental Memòries d’un Mar de Laura Carrau sobre la dessecació del mar de l’Aral i les seves catastròfiques conseqüències. Posteriorment s’iniciarà un diàleg entre Núria Catalán\, membre de l’equip científic protagonista del documental\, i Annelies Broekman\, doctora agrònoma especialitzada en polítiques de gestió de l’aigua.\nEntre d’altres qüestions\, es parlarà de l’afectació que tenen les accions humanes en el territori i dels riscos que aquestes comporten a nivell ambiental i social. També es debatrà sobre la necessitat de dissenyar estratègies que garanteixin un ús òptim dels recursos hídrics\, al mateix temps que descobrirem si a Catalunya tenim algun cas que pugui ser equiparable al cas de l’Aral.
URL:https://scea.cat/agenda/mar-daral-un-mar-dinterrogants/
LOCATION:Museu de Ciències Naturals de Barcelona. parc del Fòrum
END:VEVENT
BEGIN:VEVENT
DTSTART;TZID=Europe/Madrid:20241214T090000
DTEND;TZID=Europe/Madrid:20241214T090000
DTSTAMP:20260424T222407
CREATED:20241211T072917Z
LAST-MODIFIED:20241211T072917Z
UID:11644-1734166800-1734166800@scea.cat
SUMMARY:El Far: pela-roques i altres ocells d’alta muntanya
DESCRIPTION:Les zones més habitades de Catalunya queden lluny de la serralada pirinenca\, on viuen espècies mítiques de l’avifauna europea. Però l’hivern ens ofereix una oportunitat per gaudir d’aquestes espècies molt més a prop. A les cingleres d’El Far podem observar espècies com el pela-roques i el cercavores.
URL:https://scea.cat/agenda/el-far-pela-roques-i-altres-ocells-dalta-muntanya/
LOCATION:El Santuari del Far
ATTACH;FMTTYPE=image/png:https://scea.cat/wp-content/uploads/2024/12/El_Far_Ocells_MG.png
END:VEVENT
BEGIN:VEVENT
DTSTART;TZID=Europe/Madrid:20241215T100000
DTEND;TZID=Europe/Madrid:20241215T100000
DTSTAMP:20260424T222407
CREATED:20241211T072836Z
LAST-MODIFIED:20241211T072836Z
UID:11640-1734256800-1734256800@scea.cat
SUMMARY:Petits naturalistes: descobrim el nostre entorn
DESCRIPTION:Com anar al bosc sense que els animals s’espantin? Quines eines fan servir els naturalistes per facilitar l’observació de la fauna i la flora? Com millorar els nostres sentits? Activitat de descoberta de la fauna de la mà dels professionals. \nSabíeu que aprox. el 90% de la fauna que hi ha al bosc no la veureu durant una passejada “normal”? Els naturalistes tenim moltes tècniques\, gadgets i trucs per a observar la natura més esquiva…
URL:https://scea.cat/agenda/petits-naturalistes-descobrim-el-nostre-entorn/
LOCATION:Les Ribes del Ter
ATTACH;FMTTYPE=image/png:https://scea.cat/wp-content/uploads/2024/12/Petits_naturalistes_MG.png
END:VEVENT
END:VCALENDAR