BEGIN:VCALENDAR
VERSION:2.0
PRODID:-//SCEA - ECPv6.14.0//NONSGML v1.0//EN
CALSCALE:GREGORIAN
METHOD:PUBLISH
X-ORIGINAL-URL:https://scea.cat
X-WR-CALDESC:Esdeveniments per SCEA
REFRESH-INTERVAL;VALUE=DURATION:PT1H
X-Robots-Tag:noindex
X-PUBLISHED-TTL:PT1H
BEGIN:VTIMEZONE
TZID:Europe/Madrid
BEGIN:DAYLIGHT
TZOFFSETFROM:+0100
TZOFFSETTO:+0200
TZNAME:CEST
DTSTART:20250330T010000
END:DAYLIGHT
BEGIN:STANDARD
TZOFFSETFROM:+0200
TZOFFSETTO:+0100
TZNAME:CET
DTSTART:20251026T010000
END:STANDARD
END:VTIMEZONE
BEGIN:VEVENT
DTSTART;TZID=Europe/Madrid:20250203T160000
DTEND;TZID=Europe/Madrid:20250203T160000
DTSTAMP:20260425T013238
CREATED:20241213T085441Z
LAST-MODIFIED:20241213T085441Z
UID:11686-1738598400-1738598400@scea.cat
SUMMARY:Taller: Elaboració de colònies naturals
DESCRIPTION:Les plantes tenen una infinitat de propietats\, i moltes ens són desconegudes. En aquest taller\, volem donar a conèixer les plantes aromàtiques per què serveixen a la natura\, quines propietats tenen i què podem fer amb elles. En aquesta activitat\, aprendrem a elaborar colònies amb elements naturals\, pel benestar de la salut i la bellesa i coneixerem la història de les trementinaires. \nA càrrec d’Amalur. Coorganitzat amb el Centre Cívic i Espai de Gent Gran de Baró de Viver.
URL:https://scea.cat/agenda/taller-elaboracio-de-colonies-naturals/
LOCATION:Centre Cívic i Espai de Gent Gran Baró de Viver
END:VEVENT
BEGIN:VEVENT
DTSTART;TZID=Europe/Madrid:20250204T120000
DTEND;TZID=Europe/Madrid:20250204T120000
DTSTAMP:20260425T013238
CREATED:20241213T085602Z
LAST-MODIFIED:20241213T085602Z
UID:11664-1738670400-1738670400@scea.cat
SUMMARY:Visita a l’Ateneu de fabricació digital del Parc Tecnològic!
DESCRIPTION:El Parc Tecnològic ofereix serveis avançats de suport a la innovació\, la consolidació i el creixement de les empreses\, especialment les tecnològiques i del sector de les enginyeries. A més\, inclou l’Ateneu de Fabricació Digital\, un espai obert i d’ús públic dotat de maquinària i adreçat tant a la ciutadania com a les persones emprenedores i empreses. Visitarem l’espai de l’Ateneu i ens explicaran tot el que hi fan.\nSortirem des de la plaça Ferran Reyes de Navas totes juntes per anar-hi\, si voleu arribar pel vostre compte\, cal que aviseu. \nSortida conjunta des de la Plaça Ferran Reyes a les 11 h \nCoorganitzat amb el PDC de Navas i T’acompanyem.
URL:https://scea.cat/agenda/visita-a-lateneu-de-fabricacio-digital-del-parc-tecnologic/
LOCATION:Parc Tecnològic
END:VEVENT
BEGIN:VEVENT
DTSTART;TZID=Europe/Madrid:20250211T180000
DTEND;TZID=Europe/Madrid:20250211T180000
DTSTAMP:20260425T013238
CREATED:20250210T105140Z
LAST-MODIFIED:20250210T105140Z
UID:11965-1739296800-1739296800@scea.cat
SUMMARY:Xerrada “Una ciència per a tothom. Allunyant estereotips des de l’aula de ciències” en el Dia Internacional de la Dona i a Nena en la Ciència
DESCRIPTION:La ciència és una activitat humana sovint associada a conceptes com dificultat\, sacrifici\, talent i competició\, entre d’altres i l’escola no és aliena a aquests estereotips socials. Promoure unes ciències properes\, compromeses\, humanes i amb valors és una tasca viable tant dins com fora de l’àmbit educatiu. \nEn el marc dels actes de celebració del Dia Internacional de la Dona i la Nena en la Ciència\, el proper dimarts 11 de febrer a les 18h Digna Couso farà una xerrada al Museu de Ciències Naturals de Barcelona on abordarà alguns dels principals estereotips i explorarà estratègies per fer-los front i contribuir a la seva superació. \nDigna Couso és llicenciada en física i doctora en didàctica de les ciències. Treballa com a professora a la Facultat de Ciències de l’Educació de la UAB\, i és la directora del CRECIM (Centre d’Investigació en Ciències i Educació Matemàtica) i cap de la Unitat d’Educació Científica del Departament de Didàctica de les Matemàtiques i les Ciències. Les seves línies d’investigació giren principalment al voltant del desenvolupament curricular i la capacitació docent en l’àmbit de les STEM\, l’ensenyament i aprenentatge de les ciències des de diverses mirades\, i l’equitat i l’equilibri de gènere en les STEM.
URL:https://scea.cat/agenda/xerrada-una-ciencia-per-a-tothom-allunyant-estereotips-des-de-laula-de-ciencies-en-el-dia-internacional-de-la-dona-i-a-nena-en-la-ciencia/
LOCATION:Museu de Ciències Naturals de Barcelona. Parc del Fòrum
END:VEVENT
BEGIN:VEVENT
DTSTART;TZID=Europe/Madrid:20250212T173000
DTEND;TZID=Europe/Madrid:20250212T173000
DTSTAMP:20260425T013238
CREATED:20241213T085600Z
LAST-MODIFIED:20241213T085600Z
UID:11670-1739381400-1739381400@scea.cat
SUMMARY:Per carnestoltes\, disfresses sostenibles
DESCRIPTION:Sabies que podem aprofitar les capses de cartó\, ampolles de plàstic\, oueres i altres materials que tinguem per casa i que normalment anirien a les escombraries\, per disfressar-nos aquest carnestoltes? Deixa volar la imaginació i vine a fer disfresses reciclades que sorprendran a tothom! \nTots els infants han de venir amb un adult. \nCoorganitzat amb el Centre Cívic de Navas i el PDC de Navas.
URL:https://scea.cat/agenda/per-carnestoltes-disfresses-sostenibles/
LOCATION:Centre Cívic de Navas
END:VEVENT
BEGIN:VEVENT
DTSTART;TZID=Europe/Madrid:20250212T183000
DTEND;TZID=Europe/Madrid:20250212T183000
DTSTAMP:20260425T013238
CREATED:20250207T105020Z
LAST-MODIFIED:20250207T105020Z
UID:11960-1739385000-1739385000@scea.cat
SUMMARY:Geopolítica de l’espai. La batalla pel cosmos
DESCRIPTION:L’exploració espacial ja no és només una cursa científica\, sinó també un escenari de rivalitats polítiques i econòmiques. Qui governarà l’espai? Tenim un marc legislatiu global que eviti les males praxis? Com seran les agències espacials del futur? Quines conseqüències tindrà per a l’òrbita baixa del nostre planeta l’increment exponencial de satèl•lits? Amb quina ètica explorarem l’espai? \nEn la ConversaNat “Geopolítica de l’espai. La batalla pel cosmos” es plantejaran aquestes i altres qüestions amb Joan Anton Català\, astrofísic\, químic quàntic i divulgador científic i conduirà la sessió Roger Escapa\, periodista i director del programa “El Suplement“ de Catalunya Ràdio i de “L’eclipsi” a 3.cat. \nAquesta conversa forma part de “Cartografies de l’Univers”\, un cicle d’astronomia que organitza el Museu de Ciències Naturals de Barcelona que inclou debats\, cinema i una visita de la mà d’un expert a l’Observatori Fabra.
URL:https://scea.cat/agenda/geopolitica-de-lespai-la-batalla-pel-cosmos/
LOCATION:Museu de Ciències Naturals de Barcelona. Parc del Fòrum
END:VEVENT
BEGIN:VEVENT
DTSTART;TZID=Europe/Madrid:20250215T100000
DTEND;TZID=Europe/Madrid:20250215T100000
DTSTAMP:20260425T013238
CREATED:20250205T083506Z
LAST-MODIFIED:20250205T083506Z
UID:11952-1739613600-1739613600@scea.cat
SUMMARY:Observació d'aus marines
DESCRIPTION:Coneixerem les aus marines més representatives del litoral mediterrani i observarem diverses espècies presents a la platja de Sitges i a la desembocadura de la riera de Ribes. \nDinamitzat per Biodiversitat Sitges. \nActivitat familiar i per a tots els públics. \nActivitat gratuïta amb inscripció prèvia: formulari d’inscripció. \nAforament limitat a 25 persones. \nA l’Espai marí Costes del Garraf trobem diferents espècies d’interès i conservació com les baldrigues balear i mediterrànies (Puffinus mauretanicus – yelkouan)\, el corb marí emplomallat (Gulosus aristotelis)\, la gavina corsa (Ichthyaetus audouinii)\, el xatrac becllarg (Thalasseus sandvicensis) entre d’altres que utilitzen aquesta àrea per alimentar-se i realitzar les seves migracions pels diferents espais naturals del territori. \nEl proper 15 de febrer de 10 a 12 h coneixerem el món apassionant d’aquest grup d’aus amenaçades aprenent les seves característiques principals. \nDes del Centre d’Estudis del Mar organitzem aquesta activitat amb la col·laboració de l’entitat Biodiversitat Sitges.
URL:https://scea.cat/agenda/observacio-daus-marines-2/
LOCATION:Centre d’Estudis del Mar
ATTACH;FMTTYPE=image/jpeg:https://scea.cat/wp-content/uploads/2025/02/aus-marines-scaled.jpg
END:VEVENT
BEGIN:VEVENT
DTSTART;TZID=Europe/Madrid:20250216T100000
DTEND;TZID=Europe/Madrid:20250216T100000
DTSTAMP:20260425T013238
CREATED:20250211T101906Z
LAST-MODIFIED:20250211T101906Z
UID:11978-1739700000-1739700000@scea.cat
SUMMARY:Taller de menjadores d’ocells
DESCRIPTION:Els ocells migren fugint del fred? O perquè no troben prou aliment? Tots els ocells migratoris marxen a l’Àfrica? Podem ajudar a aquests ocells? Totes aquestes preguntes i moltes més les resoldrem en el taller de menjadores d’ocells!! \nPodreu conèixer els diferents “models” de que disposem a El Meandre\, i veure els ocells que atrauen. I us emportareu la vostra pel balcó o jardí!
URL:https://scea.cat/agenda/taller-de-menjadores-docells-3/
LOCATION:Aula de Natura El Meandre
ATTACH;FMTTYPE=image/png:https://scea.cat/wp-content/uploads/2025/02/Menjadores_MG2.png
END:VEVENT
BEGIN:VEVENT
DTSTART;TZID=Europe/Madrid:20250220T180000
DTEND;TZID=Europe/Madrid:20250220T180000
DTSTAMP:20260425T013238
CREATED:20241213T085228Z
LAST-MODIFIED:20241213T085228Z
UID:11706-1740074400-1740074400@scea.cat
SUMMARY:Cinefòrum: UTAMA de Alejandro Loayza Grisi
DESCRIPTION:A l’altiplà bolivià\, una parella d’ancians quítxues viu la mateixa rutina des de fa anys. Quan una sequera inusualment llarga amenaça tota la seva forma de vida\, Virginio i Sisa afronten el dilema de resistir o ser derrotats pel pas del temps. Amb l’arribada del seu nét Clever\, tots tres s’enfrontaran\, cadascun a la seva manera\, a l’entorn\, a la necessitat de canvi i al sentit de la vida mateixa. \nEl film serà reproduït en versió original subtitulada al castellà. \nEn el marc del cicle Pantalla BDC de l’ICUB. Coorganitzat amb el Centre Cívic la Barraca.
URL:https://scea.cat/agenda/cineforum-utama-de-alejandro-loayza-grisi/
LOCATION:Centre Cívic de La Barraca (Sagrera)
END:VEVENT
BEGIN:VEVENT
DTSTART;TZID=Europe/Madrid:20250222T100000
DTEND;TZID=Europe/Madrid:20250222T100000
DTSTAMP:20260425T013238
CREATED:20241213T085132Z
LAST-MODIFIED:20241213T085132Z
UID:11710-1740218400-1740218400@scea.cat
SUMMARY:Itinerari: Coneixent Collserola
DESCRIPTION:Sortida a peu guiada i dinamitzada per la muntanya de Collserola. A través d’aquest recorregut es reconeixerà la biodiversitat de la zona endemés de visitar espais reconeguts com la font de la Budellera\, vil·la Joana i el Tibidabo. Una ruta pel bosc on poder conèixer la història i vida que es troba a Collserola. \nCoorganitzat amb el Centre Cívic Bon Pastor.
URL:https://scea.cat/agenda/itinerari-coneixent-collserola/
LOCATION:Punt de trobada: Estació de ferrocarrils catalans Baixador de Vallvidrera
END:VEVENT
BEGIN:VEVENT
DTSTART;TZID=Europe/Madrid:20250226T180000
DTEND;TZID=Europe/Madrid:20250226T180000
DTSTAMP:20260425T013238
CREATED:20241213T085258Z
LAST-MODIFIED:20241213T085258Z
UID:11702-1740592800-1740592800@scea.cat
SUMMARY:Cinefòrum: “Dos Ríos” de Laura Bermúdez y Anais Taracena
DESCRIPTION:Betty Vásquez\, viu en una comunitat a Hondures que va ser afectada pels huracans Eta i Lota\, al costat d’altres dones\, s’organitzen per a fer front als projectes extractius en el seu territori. María Caal\, defensora Maia Q’eqchi’\, es part de “La Resistència” on diverses famílies s’oposen a una hidroelèctrica que ha entubat els rius en les seves comunitats.Betty viu a Hondures\, María a Guatemala\, sense conèixer-se les uneix una claredat: la defensa dels rius en els seus territoris.\nProtagonistes: María Caal y Betty Vásquez\nDirecció: Laura Bermúdez y Anais Taracena\nDuració: 44 min \nInscripcions: Consultar a cada centre.
URL:https://scea.cat/agenda/cineforum-dos-rios-de-laura-bermudez-y-anais-taracena/
LOCATION:Centre Cívic Navas//Centre Cívic La Sagrera – La Barraca//Can Clariana Cultural
END:VEVENT
BEGIN:VEVENT
DTSTART;TZID=Europe/Madrid:20250227T180000
DTEND;TZID=Europe/Madrid:20250227T180000
DTSTAMP:20260425T013238
CREATED:20241213T085559Z
LAST-MODIFIED:20241213T085559Z
UID:11674-1740679200-1740679200@scea.cat
SUMMARY:Taller: No totes les petjades deixen rastre
DESCRIPTION:L’objectiu d’aquesta activitat és aprofundir en la comprensió dels impactes socials i ambientals dels dispositius mòbils a través d’un treball col·laboratiu. A través del mapeig visual\, explorarem les connexions entre la traçabilitat dels materials\, l’extracció i saqueig colonial dels recursos\, i el fenomen de l’obsolescència programada. \nA càrrec de Colectic. Coorganitzat amb el Canòdrom.
URL:https://scea.cat/agenda/taller-no-totes-les-petjades-deixen-rastre/
LOCATION:Canòdrom
END:VEVENT
BEGIN:VEVENT
DTSTART;TZID=Europe/Madrid:20250228T190000
DTEND;TZID=Europe/Madrid:20250228T190000
DTSTAMP:20260425T013238
CREATED:20241213T085108Z
LAST-MODIFIED:20241213T085108Z
UID:11714-1740769200-1740769200@scea.cat
SUMMARY:L’emergència climàtica\, que hi podem fer? Amb Francesc Mauri
DESCRIPTION:L’Emergència Climàtica està en boca de tothom\, però poques persones tenen clar l’abast del problema. En la xerrada repassarem d’on venim\, on som i cap a on anem pel que fa al clima. Però també parlarem de què ens està passant quant a població\, noves energies i canvis importants en l’agricultura i les platges o fronts marítims. El repte climàtic ens condiciona i condicionarà molt més els pròxims anys i dècades\, cal prendre consciència i fer-li front. \nA càrrec de Francesc Mauri. Un projecte de la Federació d’Ateneus de Catalunya. Coorganitzat amb la SCE La Lira.
URL:https://scea.cat/agenda/lemergencia-climatica-que-hi-podem-fer-amb-francesc-mauri/
LOCATION:SCE La Lira
END:VEVENT
END:VCALENDAR