BEGIN:VCALENDAR
VERSION:2.0
PRODID:-//SCEA - ECPv6.14.0//NONSGML v1.0//EN
CALSCALE:GREGORIAN
METHOD:PUBLISH
X-ORIGINAL-URL:https://scea.cat
X-WR-CALDESC:Esdeveniments per SCEA
REFRESH-INTERVAL;VALUE=DURATION:PT1H
X-Robots-Tag:noindex
X-PUBLISHED-TTL:PT1H
BEGIN:VTIMEZONE
TZID:Europe/Madrid
BEGIN:DAYLIGHT
TZOFFSETFROM:+0100
TZOFFSETTO:+0200
TZNAME:CEST
DTSTART:20250330T010000
END:DAYLIGHT
BEGIN:STANDARD
TZOFFSETFROM:+0200
TZOFFSETTO:+0100
TZNAME:CET
DTSTART:20251026T010000
END:STANDARD
END:VTIMEZONE
BEGIN:VEVENT
DTSTART;TZID=Europe/Madrid:20251003T190000
DTEND;TZID=Europe/Madrid:20251003T190000
DTSTAMP:20260426T053802
CREATED:20250724T062401Z
LAST-MODIFIED:20250724T062401Z
UID:12483-1759518000-1759518000@scea.cat
SUMMARY:Teatre documental:  Un assumpte elemental
DESCRIPTION:Què passaria si la Terra i l’Aigua es trobessin per a prendre un té? De què parlarien? Què els faria sentir angoixa? Què els faria sentir felicitat? Què pensarien de nosaltres\, els éssers humans? Estarien orgulloses o avergonyides? \n“Un assumpte elemental” és una peça de teatre inspirada en entrevistes realitzades a persones afectades per conflictes ambientals al voltant de l’aigua i l’energia a Catalunya\, i que militen en diversos col·lectius i moviments socials als seus territoris. Les veus\, silencis\, pors i esperances d’aquestes defensores i defensors del territori\, la justícia ambiental i la cura del planeta\, són el punt de partida d’aquesta creació. Interpretada per\ndues actrius que busquen apropar la problemàtica socioecològica actual a través de la comèdia\, la poesia\, la ironia i la reflexió. \nUna creació que té el seu punt de partida en una investigació doctoral sobre el canvi climàtic feta a la Universitat de Girona (UdG) i una exploració des de l’art sobre moviments de defensa del territori\, que busca portar i processar les reflexions de l’acadèmia i de la lluita social a través del teatre. \nA càrrec de Cia. Nomeolvides\, amb les actrius Maria Hera i Li Morenita. Coorganitzat amb ProperESS\, Comunalitat dels Barris Sant Andreu i el Centre Cívic Bon Pastor.
URL:https://scea.cat/agenda/teatre-documental-un-assumpte-elemental/
LOCATION:Centre Cívic del Bon Pastor
END:VEVENT
BEGIN:VEVENT
DTSTART;TZID=Europe/Madrid:20251016T173000
DTEND;TZID=Europe/Madrid:20251016T173000
DTSTAMP:20260426T053802
CREATED:20250724T062515Z
LAST-MODIFIED:20250724T062515Z
UID:12459-1760635800-1760635800@scea.cat
SUMMARY:Ruta pels horts  de la Sagrera
DESCRIPTION:Vols fer una ruta per alguns dels horts urbans del\nbarri de la Sagrera? Vine a conèixer l’hort de l’Hòrstik\, el de La Torre de la Sagrera i de La Ferroviària\, de la mà dels seus voluntaris. \nInscripcions al Centre Cívic de Bon Pastor. \nCoorganitzat amb ProperESS\, Comunalitat dels Barris Sant Andreu\, el l’hort de la Ferroviária\, el Casal de Barri Torre de la Sagrera i el Centre Cívic de Bon Pastor.
URL:https://scea.cat/agenda/ruta-pels-horts-de-la-sagrera/
LOCATION:Casal de Barri Torre de la Sagrera
END:VEVENT
BEGIN:VEVENT
DTSTART;TZID=Europe/Madrid:20251016T180000
DTEND;TZID=Europe/Madrid:20251016T180000
DTSTAMP:20260426T053802
CREATED:20250723T151429Z
LAST-MODIFIED:20250723T151429Z
UID:12467-1760637600-1760637600@scea.cat
SUMMARY:Projecció:  “Mariposas Negras” de David Baute
DESCRIPTION:Tres dones\, tres realitats: “Mariposas Negras” (2025)\, de David Baute\, viatja a diferents indrets del món per mostrar-nos què és haver de migrar per causes climàtiques. Inspirat en històries reals\, aquest documental animat mostra les peripècies de Tanit\, Valeria i Shaila\, les quals es veuen obligades a abandonar casa seva i buscar-se la vida per salvar-se i salvar les seves famílies. \nLa pel·lícula ha rebut prestigiosos reconeixements\ncom el Premi Goya i el Premi Gaudí a la millor pel·lícula d’animació l’any 2025.Podeu veure el tràiler aqu
URL:https://scea.cat/agenda/projeccio-mariposas-negras-de-david-baute/
LOCATION:Centre Cívic La Sagrera-La Barraca
END:VEVENT
BEGIN:VEVENT
DTSTART;TZID=Europe/Madrid:20251018T110000
DTEND;TZID=Europe/Madrid:20251018T130000
DTSTAMP:20260426T053802
CREATED:20250726T095147Z
LAST-MODIFIED:20250726T095147Z
UID:12520-1760785200-1760792400@scea.cat
SUMMARY:Cianotípia amb elements naturals
DESCRIPTION:Vine a conèixer i experimentar amb la cianotípia\, una tècnica fotogràfica que utilitza la llum solar\, a través de la representació d’elements naturals recollits al Bosc Turull. \nCada participant personalitzarà una bossa de cotó amb aquesta tècnica. \n  \nA càrrec de Joan Morales\, de Mandràgora – Artesanies del Bosc. \nActivitat apta a partir de 6 anys. \nInscripcions prement aquí.
URL:https://scea.cat/agenda/cianotipia-amb-elements-naturals/
LOCATION:Aula Ambiental Bosc Turull\, Passeig de Turull\, 2\, Barcelona\, Barcelona\, 08023\, Spain
CATEGORIES:Destacat
ORGANIZER;CN="Aula Ambiental Bosc Turull":MAILTO:aula@boscturull.cat
END:VEVENT
BEGIN:VEVENT
DTSTART;TZID=Europe/Madrid:20251022T170000
DTEND;TZID=Europe/Madrid:20251022T183000
DTSTAMP:20260426T053802
CREATED:20250726T100218Z
LAST-MODIFIED:20250726T100218Z
UID:12524-1761152400-1761157800@scea.cat
SUMMARY:Collim\, cuinem i tastem plantes silvestres!
DESCRIPTION:Descobreix en aquest taller les plantes silvestres comestibles que podem trobar al nostre entorn i les aromàtiques i culinàries que creixen a l’hort. \nAprendrem a identificar-les\, parlarem dels seus usos i propietats\, i acabarem el taller amb l’elaboració i tast d’un parell de receptes. \n  \nA càrrec de Nerea Iraragorri\, d’Amalur El jardí medicinal. \nActivitat dirigida a públic adult. \nCoorganitzada amb Espai Consum Responsable. \nEmmarcada en el Dia Mundial de l’Alimentació\, el Dia Internacional d’Acció pel Clima i el Cicle Alimentació sostenible. \nInscripcions prement aquí.
URL:https://scea.cat/agenda/collim-cuinem-i-tastem-plantes-silvestres/
LOCATION:Aula Ambiental Bosc Turull\, Passeig de Turull\, 2\, Barcelona\, Barcelona\, 08023\, Spain
CATEGORIES:Destacat
ORGANIZER;CN="Aula Ambiental Bosc Turull":MAILTO:aula@boscturull.cat
END:VEVENT
BEGIN:VEVENT
DTSTART;TZID=Europe/Madrid:20251022T180000
DTEND;TZID=Europe/Madrid:20251022T180000
DTSTAMP:20260426T053802
CREATED:20251008T095843Z
LAST-MODIFIED:20251008T095843Z
UID:12688-1761156000-1761156000@scea.cat
SUMMARY:"Creem amb Artteràpia ..El MÓN que VOLEM. El MÓN que HA D'EXISTIR"
DESCRIPTION:🌎Taller d’Artteràpia per adults on explorarem de forma creativa i per mitjà de diferents disciplines artístiques\, com iniciar una Transició Personal i Eco Social. \n🌿 Regeneren la Vida i posem en pràctica TOT ALLÒ que volem veure allà a fora. Restablim la relació entre l’ecosistema\, nosaltres mateix@s i la nostra xarxa comunitària. \nNo és necessari tenir cap coneixement de dibuix\, pintura\, dansa.. etc. Apte per qualsevol adult. \n📅 Dimecres 22 octubre 2025\n18h-20.30h\n📌Centre Cívic La Geltrú. Vilanova i la Geltrú.\n👉Programa Tallers Medi Ambientals. Medi Ambient als barris. Ajuntament de Vilanova i la Geltrú. \nAssociació ECOL3Vng \nhttps://www.instagram.com/circul_art_mjp?igsh=MTI3bW94ZGhlaTJxeg== \n👉🏽👉🏽 GRATUÏT! \nINSCRIPCIONS: 629 74 87 79
URL:https://scea.cat/agenda/creem-amb-artterapia-el-mon-que-volem-el-mon-que-ha-dexistir/
LOCATION:Centre Cívic La Geltrú. Vilanova i la Geltrú ( Barcelona)
END:VEVENT
BEGIN:VEVENT
DTSTART;TZID=Europe/Madrid:20251025T110000
DTEND;TZID=Europe/Madrid:20251025T130000
DTSTAMP:20260426T053802
CREATED:20250726T101126Z
LAST-MODIFIED:20250726T101126Z
UID:12527-1761390000-1761397200@scea.cat
SUMMARY:Reviscolem el biotronc
DESCRIPTION:Suma’t a aquesta jornada d’acció pel clima que dedicarem a fomentar la biodiversitat urbana. Coneixerem les espècies que poden acollir el tronc i la soca del plàtan comú convertits en hàbitat que tenim a l’Aula. \nRenovarem aquest element singular de l’esplanada del Bosc Turull per a què torni a ser la llar d’insectes\, ocells i sargantanes. Aprofita la jornada per aprendre a crear un biotronc i fes del teu jardí un baluard de biodiversitat! \n  \nA càrrec de Marc Martínez i Singla\, creador del concepte “rewilding gardening”. \nActivitat apta a partir de 8 anys. \nEmmarcada en el Dia Internacional d’Acció pel Clima. \nInscripcions prement aquí.
URL:https://scea.cat/agenda/reviscolem-el-biotronc/
LOCATION:Aula Ambiental Bosc Turull\, Passeig de Turull\, 2\, Barcelona\, Barcelona\, 08023\, Spain
CATEGORIES:Destacat
ORGANIZER;CN="Aula Ambiental Bosc Turull":MAILTO:aula@boscturull.cat
END:VEVENT
BEGIN:VEVENT
DTSTART;TZID=Europe/Madrid:20251030T110000
DTEND;TZID=Europe/Madrid:20251030T130000
DTSTAMP:20260426T053802
CREATED:20250726T102008Z
LAST-MODIFIED:20250726T102008Z
UID:12530-1761822000-1761829200@scea.cat
SUMMARY:Coneixes el hügelkultur?
DESCRIPTION:En aquest taller descobrirem aquesta antiga tècnica agrícola d’origen alemany\, ideal per a zones amb baixa pluviometria. Prepararem un bancal apilant troncs i matèria orgànica\, que retindran l’aigua per molt més temps i aportaran nutrients als nostres cultius. \nLa tècnica és simple i de baix cost\, i requereix poca aigua perquè el líquid es reté per l’acumulació de materia orgànica. Per a la seva implementació\, s’han de fer una espècie de llits elevats\, el centre dels quals s’omple de matèria orgànica i restes de troncs per afavorir la retenció d’aigua\, la proliferació de vida i una fertilització del sòl a llarg termini. \nVine a construir el hügelkultur de Turull! \n  \nA càrrec d’Edgar Peñas Farré\, dinamitzador hortícola. \nActivitat dirigida a tots els públics. \nEmmarcada en el Dia Mundial de les Ciutats. \nInscripcions prement aquí.
URL:https://scea.cat/agenda/coneixes-el-hugelkultur/
LOCATION:Aula Ambiental Bosc Turull\, Passeig de Turull\, 2\, Barcelona\, Barcelona\, 08023\, Spain
CATEGORIES:Destacat
ORGANIZER;CN="Aula Ambiental Bosc Turull":MAILTO:aula@boscturull.cat
END:VEVENT
END:VCALENDAR