BEGIN:VCALENDAR
VERSION:2.0
PRODID:-//SCEA - ECPv6.14.0//NONSGML v1.0//EN
CALSCALE:GREGORIAN
METHOD:PUBLISH
X-ORIGINAL-URL:https://scea.cat
X-WR-CALDESC:Esdeveniments per SCEA
REFRESH-INTERVAL;VALUE=DURATION:PT1H
X-Robots-Tag:noindex
X-PUBLISHED-TTL:PT1H
BEGIN:VTIMEZONE
TZID:Europe/Madrid
BEGIN:DAYLIGHT
TZOFFSETFROM:+0100
TZOFFSETTO:+0200
TZNAME:CEST
DTSTART:20230326T010000
END:DAYLIGHT
BEGIN:STANDARD
TZOFFSETFROM:+0200
TZOFFSETTO:+0100
TZNAME:CET
DTSTART:20231029T010000
END:STANDARD
END:VTIMEZONE
BEGIN:VEVENT
DTSTART;TZID=Europe/Madrid:20231014T090000
DTEND;TZID=Europe/Madrid:20231014T090000
DTSTAMP:20260423T082535
CREATED:20231002T071619Z
LAST-MODIFIED:20231002T071619Z
UID:9505-1697274000-1697274000@scea.cat
SUMMARY:SORTIDA ORNITOLÒGICA!
DESCRIPTION:Serà una sortida ornitològica bàsica per saber identificar les espècies que hi trobem a l’Estany de Sils segons l’època de l’any. A més\, s’explicaran característiques i curiositats de cada una d’elles que ens serviran per entendre els diferents tipus d’ocells que hi habiten. Serà un nivell força bàsic\, de manera que tothom hi té cabuda\, no et preocupis si no ets un entès del tema o si vens amb nens! \nActivitat apta per tots els públics i gratuïta amb places limitades i inscripció al formulari adjuntat.
URL:https://scea.cat/agenda/sortida-ornitologica/
LOCATION:Estany de Sils
ATTACH;FMTTYPE=image/jpeg:https://scea.cat/wp-content/uploads/ninja-forms/7/IMG_6278-scaled.jpg
END:VEVENT
END:VCALENDAR