BEGIN:VCALENDAR
VERSION:2.0
PRODID:-//SCEA - ECPv6.14.0//NONSGML v1.0//EN
CALSCALE:GREGORIAN
METHOD:PUBLISH
X-WR-CALNAME:SCEA
X-ORIGINAL-URL:https://scea.cat
X-WR-CALDESC:Esdeveniments per SCEA
REFRESH-INTERVAL;VALUE=DURATION:PT1H
X-Robots-Tag:noindex
X-PUBLISHED-TTL:PT1H
BEGIN:VTIMEZONE
TZID:Europe/Madrid
BEGIN:DAYLIGHT
TZOFFSETFROM:+0100
TZOFFSETTO:+0200
TZNAME:CEST
DTSTART:20230326T010000
END:DAYLIGHT
BEGIN:STANDARD
TZOFFSETFROM:+0200
TZOFFSETTO:+0100
TZNAME:CET
DTSTART:20231029T010000
END:STANDARD
END:VTIMEZONE
BEGIN:VEVENT
DTSTART;TZID=Europe/Madrid:20231119T093000
DTEND;TZID=Europe/Madrid:20231119T093000
DTSTAMP:20260423T100241
CREATED:20231113T081522Z
LAST-MODIFIED:20231113T081522Z
UID:9837-1700386200-1700386200@scea.cat
SUMMARY:VISITA GUIADA A L'ESTANY DE SILS!
DESCRIPTION:Recorrerem l’Estany de Sils per conèixer com ha canviat durant els anys aquest entorn\, quins projectes s’hi estan duent a terme i aprendre quines espècies hi trobem\, d’entre altres curiositats!
URL:https://scea.cat/agenda/visita-guiada-a-lestany-de-sils-6/
LOCATION:Estany de Sils
CATEGORIES:Destacat
ATTACH;FMTTYPE=image/jpeg:https://scea.cat/wp-content/uploads/ninja-forms/7/WhatsApp-Image-2023-10-14-at-12.31.12-2.jpg
END:VEVENT
BEGIN:VEVENT
DTSTART;TZID=Europe/Madrid:20231119T123000
DTEND;TZID=Europe/Madrid:20231119T123000
DTSTAMP:20260423T100241
CREATED:20231017T115739Z
LAST-MODIFIED:20231017T115739Z
UID:9669-1700397000-1700397000@scea.cat
SUMMARY:Laboratori d’històries
DESCRIPTION:“Una vegada hi havia…” és l’inici de molts contes\, però com continuen? \nCada conte és una fusió de personatges\, escenaris i un conflicte a resoldre… tres ingredients literarir que\, quan es barregen\, produeixen unes reaccions màgiques. \nAmb aquest taller un convidem a passar una bona estona de creativitat i literatura\, a conèixer els principals aspectes natrratius que componen un conte i\, de manera lúdica\, manipulativa i vivencial\, crear petits relats i plasmar-los a partir de la tècnica de la cianotípia (procediment de reproducció de fotografies que dona una impresió en color cian). Ens acompanyeu al laboratori? \n\nLaboratori d’històries \n\nObservacions \nLa reserva cal fer-la presencialment\, a taquilles del Museu\, el mateix dia de l’activitat\, a partir de les 10 h.
URL:https://scea.cat/agenda/laboratori-dhistories-2/
LOCATION:Museu de Ciències Naturals de Barcelona
ATTACH;FMTTYPE=image/jpeg:https://scea.cat/wp-content/uploads/ninja-forms/7/2022-10_laboratori_histories_the_artisan_photo_studio_interior_ample_11-1.jpg
END:VEVENT
END:VCALENDAR