BEGIN:VCALENDAR
VERSION:2.0
PRODID:-//SCEA - ECPv6.14.0//NONSGML v1.0//EN
CALSCALE:GREGORIAN
METHOD:PUBLISH
X-ORIGINAL-URL:https://scea.cat
X-WR-CALDESC:Esdeveniments per SCEA
REFRESH-INTERVAL;VALUE=DURATION:PT1H
X-Robots-Tag:noindex
X-PUBLISHED-TTL:PT1H
BEGIN:VTIMEZONE
TZID:Europe/Madrid
BEGIN:DAYLIGHT
TZOFFSETFROM:+0100
TZOFFSETTO:+0200
TZNAME:CEST
DTSTART:20230326T010000
END:DAYLIGHT
BEGIN:STANDARD
TZOFFSETFROM:+0200
TZOFFSETTO:+0100
TZNAME:CET
DTSTART:20231029T010000
END:STANDARD
END:VTIMEZONE
BEGIN:VEVENT
DTSTART;TZID=Europe/Madrid:20231129T173000
DTEND;TZID=Europe/Madrid:20231129T190000
DTSTAMP:20260423T100404
CREATED:20230915T074328Z
LAST-MODIFIED:20230915T074328Z
UID:9391-1701279000-1701284400@scea.cat
SUMMARY:MISSIÓ ESPACIAL RESIDU ZERO
DESCRIPTION:A través del joc “Missió Espacial Residu Zero: Un viatge galàctic a l’univers del reciclatge”\, tractarem la situació de crisi ambiental global en un ambient lúdic i familiar. Veurem quin paper tenim com a ciutadanes i ciutadans\, des de la infància\, davant la problemàtica dels residus i els hàbits de consum. A més\, comptarem amb altres recursos sobre aquesta temàtica\, de la mà de la nostra Biblioteca de proximitat. \nA càrrec de l’equip tècnic de l’Aula Ambiental Bosc Turull\,. \nAmb la col·laboració de la Biblioteca Vallcarca i els Penitents – M. Antonieta Cot. \nActivitat per a públic familiar i recomanada per a infants a partir de 6 anys. \nActivitat gratuïta. \nInscripció prèvia a aula@boscturull.cat (especificant noms\, adreça electrònica i telèfon de contacte) o al 932 133 945.
URL:https://scea.cat/agenda/missio-espacial-residu-zero/
LOCATION:Aula Ambiental Bosc Turull
ATTACH;FMTTYPE=image/jpeg:https://scea.cat/wp-content/uploads/ninja-forms/7/231129-RESIDU-ZERO.jpg
END:VEVENT
BEGIN:VEVENT
DTSTART;TZID=Europe/Madrid:20231129T183000
DTEND;TZID=Europe/Madrid:20231129T183000
DTSTAMP:20260423T100404
CREATED:20231011T113827Z
LAST-MODIFIED:20231011T113827Z
UID:9635-1701282600-1701282600@scea.cat
SUMMARY:ConversesNat: La caça a debat.
DESCRIPTION:Els humans hem caçat durant centenars de milers d’anys per obtenir aliment i pells\, per participar en rituals comunitaris\, per protegir-nos dels perills. L’entorn on vivim\, desproveït de grans predadors\, és en part el resultat de l’activitat cinegètica dels nostres avantpassats. Avui dia\, sovint es recorre a la caça amb la finalitat de regular els ecosistemes\, però també és el blanc de crítiques intenses que en posen en dubte l’eficàcia i el caràcter ètic. \nLa caça planteja preguntes profundes sobre la posició que volem ocupar al món. Som un animal més\, un predador dins la cadena tròfica que ens ha estat donada\, o bé hem d’aspirar a distanciar-nos d’aquesta posició? Passant a un pla més concret: la caça\, és necessària per regular la sobreabundància de determinades espècies? Cal servir-se’n per protegir els camps? És una font d’aliment saludable que hauríem d’aprofitar més? És una activitat incompatible amb el respecte pels animals i cal abandonar-la del tot? \nPer debatre aquestes qüestions\, comptarem amb tres persones que han reflexionat a fons sobre la caça des de perspectives molt diferents: Rosendo Castelló\, caçador i president del Consorci Forestal de Catalunya; Marta Tafalla\, professora de Filosofia a la UAB i defensora de l’ecoanimalisme; i Josep Vicent Jovani\, cap de la secció territorial d’Activitats Cinegètiques i Pesca Continental de Terres de l’Ebre i director tècnic de la Reserva Nacional de Caça del Ports. \nAquesta taula rodona serà conduïda per l’escriptor Raül Garrigasait\, que recentment ha publicat Profecia\, una novel·a ambientada en una Barcelona plena de senglars. \nLloc: Sala Margalef del Museu de Ciències Naturals de Barcelona (parc del Fòrum\, pl. Leonardo da Vinci\, 4-5). \nObservacions: \n\nEs permetrà l’accés a la sala a partir de les 18.15 h\nLa sessió serà enregistrada i es podrà visualitzar\, més endavant\, al nostre canal natTV.\n\n*Cal inscripció prèvia a través de l’enllaç superior de “Reserva d’entrades“\, que s’habilitarà a partir del divendres 6 d’octubre: \nMàxim una reserva per persona.\nAforament limitat.\nPreguem que arribeu amb 15 minuts d’antelació a l’inici de l’activitat.
URL:https://scea.cat/agenda/conversesnat-la-caca-a-debat/
LOCATION:Museu de Ciències Naturals de Barcelona
ATTACH;FMTTYPE=image/png:https://scea.cat/wp-content/uploads/ninja-forms/7/conersescaca.png
END:VEVENT
BEGIN:VEVENT
DTSTART;TZID=Europe/Madrid:20231129T183000
DTEND;TZID=Europe/Madrid:20231129T183000
DTSTAMP:20260423T100404
CREATED:20231122T122034Z
LAST-MODIFIED:20231122T122034Z
UID:9848-1701282600-1701282600@scea.cat
SUMMARY:ConversesNat: La caça a debat.
DESCRIPTION:Els humans hem caçat durant centenars de milers d’anys per obtenir aliment i pells\, per participar en rituals comunitaris\, per protegir-nos dels perills. L’entorn on vivim\, desproveït de grans predadors\, és en part el resultat de l’activitat cinegètica dels nostres avantpassats. Avui dia\, sovint es recorre a la caça amb la finalitat de regular els ecosistemes\, però també és el blanc de crítiques intenses que en posen en dubte l’eficàcia i el caràcter ètic. \nLa caça planteja preguntes profundes sobre la posició que volem ocupar al món. Som un animal més\, un predador dins la cadena tròfica que ens ha estat donada\, o bé hem d’aspirar a distanciar-nos d’aquesta posició? Passant a un pla més concret: la caça\, és necessària per regular la sobreabundància de determinades espècies? Cal servir-se’n per protegir els camps? És una font d’aliment saludable que hauríem d’aprofitar més? És una activitat incompatible amb el respecte pels animals i cal abandonar-la del tot? \nPer debatre aquestes qüestions\, comptarem amb tres persones que han reflexionat a fons sobre la caça des de perspectives molt diferents: Rosendo Castelló\, caçador i president del Consorci Forestal de Catalunya; Marta Tafalla\, professora de Filosofia a la UAB i defensora de l’ecoanimalisme; i Josep Vicent Jovaní\, cap de la secció territorial d’Activitats Cinegètiques i Pesca Continental de Terres de l’Ebre i director tècnic de la Reserva Nacional de Caça del Ports. \nAquesta taula rodona serà conduïda per l’escriptor Raül Garrigasait\, que recentment ha publicat Profecia\, una novel·a ambientada en una Barcelona plena de senglars. \nPonents: \n– Rosendo Castelló\, economista i empresari del sector agrícola i forestal. \n– Marta Tafalla\, doctora en Filosofia i professora de la UAB.\n– Josep Vicent Jovaní\, funcionari expert en gestió i control cinegètic. \nConductor:\n– Raül Garrigasait\, escriptor i hel·lenista. \n___________________ \nLloc: Sala Margalef del Museu de Ciències Naturals de Barcelona (parc del Fòrum\, pl. Leonardo da Vinci\, 4-5). \nObservacions: \n. Es permetrà l’accés a la sala a partir de les 18.15 h \n. La sessió serà enregistrada i es podrà visualitzar\, més endavant\, al nostre canal natTV.
URL:https://scea.cat/agenda/conversesnat-la-caca-a-debat-2/
LOCATION:Museu de Ciències Naturals de Barcelona
ATTACH;FMTTYPE=image/png:https://scea.cat/wp-content/uploads/ninja-forms/7/vanguardia-2.png
END:VEVENT
END:VCALENDAR