BEGIN:VCALENDAR
VERSION:2.0
PRODID:-//SCEA - ECPv6.14.0//NONSGML v1.0//EN
CALSCALE:GREGORIAN
METHOD:PUBLISH
X-ORIGINAL-URL:https://scea.cat
X-WR-CALDESC:Esdeveniments per SCEA
REFRESH-INTERVAL;VALUE=DURATION:PT1H
X-Robots-Tag:noindex
X-PUBLISHED-TTL:PT1H
BEGIN:VTIMEZONE
TZID:Europe/Madrid
BEGIN:DAYLIGHT
TZOFFSETFROM:+0100
TZOFFSETTO:+0200
TZNAME:CEST
DTSTART:20230326T010000
END:DAYLIGHT
BEGIN:STANDARD
TZOFFSETFROM:+0200
TZOFFSETTO:+0100
TZNAME:CET
DTSTART:20231029T010000
END:STANDARD
END:VTIMEZONE
BEGIN:VEVENT
DTSTART;TZID=Europe/Madrid:20231203T093000
DTEND;TZID=Europe/Madrid:20231203T130000
DTSTAMP:20260423T100438
CREATED:20221109T090347Z
LAST-MODIFIED:20221109T090347Z
UID:7378-1701595800-1701608400@scea.cat
SUMMARY:Excursió al Parc Nacional d’Aigüestortes i Estany de Sant Maurici
DESCRIPTION:Sortida interpretativa en ple cor del Parc Nacional d’Aigüestortes i Estany de Sant Maurici\, l’únic parc nacional de Catalunya. Anirem fins a la Cascada de Ratera. Si es necessari\, anirem amb raquetes de neu.
URL:https://scea.cat/agenda/excursio-al-parc-nacional-daiguestortes-i-estany-de-sant-maurici-3/
LOCATION:MónNatura Pirineus
ATTACH;FMTTYPE=image/jpeg:https://scea.cat/wp-content/uploads/ninja-forms/7/IMG-20220923-WA0006.jpg
END:VEVENT
BEGIN:VEVENT
DTSTART;TZID=Europe/Madrid:20231203T100000
DTEND;TZID=Europe/Madrid:20231203T100000
DTSTAMP:20260423T100438
CREATED:20231130T081615Z
LAST-MODIFIED:20231130T081615Z
UID:9871-1701597600-1701597600@scea.cat
SUMMARY:Petits exploradors: descobrim les Ribes del Ter en família
DESCRIPTION:Ocells de plomatge blau metàl·lic\, escarabats fosforescents\, platges de sorra i còdols\, criatures alienígenes sota l’aigua… Les Ribes del Ter ens ofereixen experiències i recursos inesgotables per que la canalla jugui a ser… “Petits exploradors”.
URL:https://scea.cat/agenda/petits-exploradors-descobrim-les-ribes-del-ter-en-familia-4/
LOCATION:Les Ribes del Ter (la Cellera de Ter)
ATTACH;FMTTYPE=image/jpeg:https://scea.cat/wp-content/uploads/ninja-forms/7/Petits_exploradors_2-1.jpg
END:VEVENT
BEGIN:VEVENT
DTSTART;TZID=Europe/Madrid:20231203T153000
DTEND;TZID=Europe/Madrid:20231203T170000
DTSTAMP:20260423T100438
CREATED:20221109T090410Z
LAST-MODIFIED:20221109T090410Z
UID:7383-1701617400-1701622800@scea.cat
SUMMARY:Mussols de la nit
DESCRIPTION:Els rapinyaires nocturns són animals difícils de veure però sovint ens deixen alguns rastres que ens permeten coneixe’ls millor. Durant aquesta activitat analitzarem una egagròpila\, una bola que l’ocell regurgita amb els ossos i el pèl de les seves presses que no ha digerit. Així descobrirem quin mussol és el nostre protagonista i què ha menjat durant la nit.
URL:https://scea.cat/agenda/mussols-de-la-nit-5/
LOCATION:MónNatura Pirineus
ATTACH;FMTTYPE=image/jpeg:https://scea.cat/wp-content/uploads/ninja-forms/7/Planesdeson-94.jpg
END:VEVENT
END:VCALENDAR