BEGIN:VCALENDAR
VERSION:2.0
PRODID:-//SCEA - ECPv6.14.0//NONSGML v1.0//EN
CALSCALE:GREGORIAN
METHOD:PUBLISH
X-WR-CALNAME:SCEA
X-ORIGINAL-URL:https://scea.cat
X-WR-CALDESC:Esdeveniments per SCEA
REFRESH-INTERVAL;VALUE=DURATION:PT1H
X-Robots-Tag:noindex
X-PUBLISHED-TTL:PT1H
BEGIN:VTIMEZONE
TZID:Europe/Madrid
BEGIN:DAYLIGHT
TZOFFSETFROM:+0100
TZOFFSETTO:+0200
TZNAME:CEST
DTSTART:20230326T010000
END:DAYLIGHT
BEGIN:STANDARD
TZOFFSETFROM:+0200
TZOFFSETTO:+0100
TZNAME:CET
DTSTART:20231029T010000
END:STANDARD
END:VTIMEZONE
BEGIN:VEVENT
DTSTART;TZID=Europe/Madrid:20231210T100000
DTEND;TZID=Europe/Madrid:20231210T100000
DTSTAMP:20260423T113157
CREATED:20231212T131508Z
LAST-MODIFIED:20231212T131508Z
UID:9901-1702202400-1702202400@scea.cat
SUMMARY:Sorra\, fulles\, aigua… Taller en família a les Ribes del Ter
DESCRIPTION:Sorra\, pedres\, fulles\, branques\, flors\, aigua… La natura i tots els seus elements són font d’inspiració i creativitat per les criatures. \n“La creativitat és l’essència del que significa ser humà” (Ken Robinson). \nA través de l’art\, els infants poden aprendre a expressar les seves emocions i donar vol a la seva creativitat\, tot desenvolupant els seus talents i habilitats. L’art amb elements naturals\, o “land-art”\, és una manera de crear pintures i escultures amb elements naturals. La idea és poder fer servir el paisatge com a “marc”\, però creant obres sense impacte\, efímeres\, que es puguin desfer fàcilment. \nDes d’El Meandre us proposem apropar-nos a les Ribes del Ter per jugar amb els vostres fills i filles mitjançant tot un seguit d’activitats artístiques. Les seves mans i la seva imaginació seran les protagonistes de les activitats.
URL:https://scea.cat/agenda/sorra-fulles-aigua-taller-en-familia-a-les-ribes-del-ter/
LOCATION:Les Ribes del Ter
ATTACH;FMTTYPE=image/jpeg:https://scea.cat/wp-content/uploads/ninja-forms/7/Sorra-fulles-aigua.jpg
END:VEVENT
END:VCALENDAR