BEGIN:VCALENDAR
VERSION:2.0
PRODID:-//SCEA - ECPv6.14.0//NONSGML v1.0//EN
CALSCALE:GREGORIAN
METHOD:PUBLISH
X-ORIGINAL-URL:https://scea.cat
X-WR-CALDESC:Esdeveniments per SCEA
REFRESH-INTERVAL;VALUE=DURATION:PT1H
X-Robots-Tag:noindex
X-PUBLISHED-TTL:PT1H
BEGIN:VTIMEZONE
TZID:Europe/Madrid
BEGIN:DAYLIGHT
TZOFFSETFROM:+0100
TZOFFSETTO:+0200
TZNAME:CEST
DTSTART:20230326T010000
END:DAYLIGHT
BEGIN:STANDARD
TZOFFSETFROM:+0200
TZOFFSETTO:+0100
TZNAME:CET
DTSTART:20231029T010000
END:STANDARD
END:VTIMEZONE
BEGIN:VEVENT
DTSTART;TZID=Europe/Madrid:20231220T173000
DTEND;TZID=Europe/Madrid:20231220T173000
DTSTAMP:20260423T131110
CREATED:20230728T075213Z
LAST-MODIFIED:20230728T075213Z
UID:9183-1703093400-1703093400@scea.cat
SUMMARY:Les cultures del reaprofitament
DESCRIPTION:L’objectiu d’aquest taller és no llençar ni una mica de menjar. Per això\, us animem a venir per aprendre receptes fàcils d’aprofitament alimentari d’arreu del món. Quins mètodes podem utilitzar? Quins són els plats més senzills per fer reaprofitament alimentari? Podem fer servir les pells per no llençar res? Quina és la clau per no malbaratar? Tot això i molt més en els tallers de reaprofitament d’aquesta tardor. \nPorteu carmanyola! \nA càrrec del Grup de Cuina del Centre de Vida Comunitària de Trinitat Vella. Inscripcions al Centre Cívic de Trinitat Vella https://ajuntament.barcelona.cat/ccivics/trinitatvella
URL:https://scea.cat/agenda/les-cultures-del-reaprofitament/
LOCATION:Centre Cívic Trinitat Vella
ATTACH;FMTTYPE=image/jpeg:https://scea.cat/wp-content/uploads/ninja-forms/7/231220_cultures-reaprofitament.jpg
END:VEVENT
END:VCALENDAR