BEGIN:VCALENDAR
VERSION:2.0
PRODID:-//SCEA - ECPv6.14.0//NONSGML v1.0//EN
CALSCALE:GREGORIAN
METHOD:PUBLISH
X-WR-CALNAME:SCEA
X-ORIGINAL-URL:https://scea.cat
X-WR-CALDESC:Esdeveniments per SCEA
REFRESH-INTERVAL;VALUE=DURATION:PT1H
X-Robots-Tag:noindex
X-PUBLISHED-TTL:PT1H
BEGIN:VTIMEZONE
TZID:Europe/Madrid
BEGIN:DAYLIGHT
TZOFFSETFROM:+0100
TZOFFSETTO:+0200
TZNAME:CEST
DTSTART:20230326T010000
END:DAYLIGHT
BEGIN:STANDARD
TZOFFSETFROM:+0200
TZOFFSETTO:+0100
TZNAME:CET
DTSTART:20231029T010000
END:STANDARD
END:VTIMEZONE
BEGIN:VEVENT
DTSTART;TZID=Europe/Madrid:20231227T173000
DTEND;TZID=Europe/Madrid:20231227T173000
DTSTAMP:20260423T114359
CREATED:20231212T131615Z
LAST-MODIFIED:20231212T131615Z
UID:9891-1703698200-1703698200@scea.cat
SUMMARY:Museum Quiz Familiar
DESCRIPTION:El Museu Marítim de Barcelona (MMB) i el Museu de Ciències Naturals de Barcelona (MCNB) tornen a unir forces aquest Nadal per presentar una nova edició d’aquest joc de trivial familiar per equips. En aquesta ocasió\, s’afegeixen a la partida el Museu Arqueològic de Catalunya (MAC) i el Museu Olímpic i de l’Esport de Barcelona (MOE). \nUn joc de preguntes i respostes\, relacionades amb el context de cada un dels museus\, on les famílies juguen en equip per tal de posar a prova els seus coneixements. Les sessions comptaran amb la dinamització de l’actor Alberte Montes\, que se’encarregarà de conduir-les i fer passar una bona estona a totes les famílies participants. \nLes sessions estan recomanades per a famílies amb infants d’entre 5 i 12 anys. \nAnimeu-vos! \nOrganitzen: MMB\, MCNB\, MAC i MOE
URL:https://scea.cat/agenda/museum-quiz-familiar/
LOCATION:Museu de Ciències Naturals de Barcelona
ATTACH;FMTTYPE=image/jpeg:https://scea.cat/wp-content/uploads/ninja-forms/7/1200x1200-px.jpg
END:VEVENT
END:VCALENDAR