BEGIN:VCALENDAR
VERSION:2.0
PRODID:-//SCEA - ECPv6.14.0//NONSGML v1.0//EN
CALSCALE:GREGORIAN
METHOD:PUBLISH
X-ORIGINAL-URL:https://scea.cat
X-WR-CALDESC:Esdeveniments per SCEA
REFRESH-INTERVAL;VALUE=DURATION:PT1H
X-Robots-Tag:noindex
X-PUBLISHED-TTL:PT1H
BEGIN:VTIMEZONE
TZID:Europe/Madrid
BEGIN:DAYLIGHT
TZOFFSETFROM:+0100
TZOFFSETTO:+0200
TZNAME:CEST
DTSTART:20240331T010000
END:DAYLIGHT
BEGIN:STANDARD
TZOFFSETFROM:+0200
TZOFFSETTO:+0100
TZNAME:CET
DTSTART:20241027T010000
END:STANDARD
END:VTIMEZONE
BEGIN:VEVENT
DTSTART;TZID=Europe/Madrid:20240218T100000
DTEND;TZID=Europe/Madrid:20240218T100000
DTSTAMP:20260423T144003
CREATED:20240206T154447Z
LAST-MODIFIED:20240206T154447Z
UID:10327-1708250400-1708250400@scea.cat
SUMMARY:Taller infantil de mini-duomo
DESCRIPTION:Qui no ha jugat a fer cabanes? Amb les companyes de l’Escola Orígens aprendrem les tècniques bàsiques construint tots plegats una petita cúpula geodèsica. Us apunteu?\nActivitat per a tota la família\, que no requereix coneixements previs i si de ganes de gaudir del treball manual. L’estructura passarà a formar part de la zona de joc de la nostra Aula de Natura.
URL:https://scea.cat/agenda/taller-infantil-de-mini-duomo/
LOCATION:Aula de Natura El Meandre
ATTACH;FMTTYPE=image/png:https://scea.cat/wp-content/uploads/ninja-forms/7/Miniduomo_MG.png
END:VEVENT
END:VCALENDAR