BEGIN:VCALENDAR
VERSION:2.0
PRODID:-//SCEA - ECPv6.14.0//NONSGML v1.0//EN
CALSCALE:GREGORIAN
METHOD:PUBLISH
X-WR-CALNAME:SCEA
X-ORIGINAL-URL:https://scea.cat
X-WR-CALDESC:Esdeveniments per SCEA
REFRESH-INTERVAL;VALUE=DURATION:PT1H
X-Robots-Tag:noindex
X-PUBLISHED-TTL:PT1H
BEGIN:VTIMEZONE
TZID:Europe/Madrid
BEGIN:DAYLIGHT
TZOFFSETFROM:+0100
TZOFFSETTO:+0200
TZNAME:CEST
DTSTART:20240331T010000
END:DAYLIGHT
BEGIN:STANDARD
TZOFFSETFROM:+0200
TZOFFSETTO:+0100
TZNAME:CET
DTSTART:20241027T010000
END:STANDARD
END:VTIMEZONE
BEGIN:VEVENT
DTSTART;TZID=Europe/Madrid:20240220T180000
DTEND;TZID=Europe/Madrid:20240220T180000
DTSTAMP:20260423T143848
CREATED:20240103T105415Z
LAST-MODIFIED:20240103T105415Z
UID:10029-1708452000-1708452000@scea.cat
SUMMARY:Remeis naturals per l’hort
DESCRIPTION:Taller on parlarem de la importància de la salut del nostre hort ecològic. Esbrinarem què podem fer per prevenir les malalties i aprendrem un parell de remeis naturals i casolans\, per fer front a aquestes\, quan sigui necessari. \nCoorganitzat amb el Casal de barri Torre de la Sagrera. \nInscripcions al Casal de barri Torre de la Sagrera https://www.torrelasagrera.cat/
URL:https://scea.cat/agenda/remeis-naturals-per-lhort/
LOCATION:Casal de barri Torre de la Sagrera
ATTACH;FMTTYPE=image/jpeg:https://scea.cat/wp-content/uploads/ninja-forms/7/240220_remeis-naturals-per-hort.jpg
END:VEVENT
END:VCALENDAR