BEGIN:VCALENDAR
VERSION:2.0
PRODID:-//SCEA - ECPv6.14.0//NONSGML v1.0//EN
CALSCALE:GREGORIAN
METHOD:PUBLISH
X-WR-CALNAME:SCEA
X-ORIGINAL-URL:https://scea.cat
X-WR-CALDESC:Esdeveniments per SCEA
REFRESH-INTERVAL;VALUE=DURATION:PT1H
X-Robots-Tag:noindex
X-PUBLISHED-TTL:PT1H
BEGIN:VTIMEZONE
TZID:Europe/Madrid
BEGIN:DAYLIGHT
TZOFFSETFROM:+0100
TZOFFSETTO:+0200
TZNAME:CEST
DTSTART:20240331T010000
END:DAYLIGHT
BEGIN:STANDARD
TZOFFSETFROM:+0200
TZOFFSETTO:+0100
TZNAME:CET
DTSTART:20241027T010000
END:STANDARD
END:VTIMEZONE
BEGIN:VEVENT
DTSTART;TZID=Europe/Madrid:20240425T180000
DTEND;TZID=Europe/Madrid:20240425T180000
DTSTAMP:20260423T190824
CREATED:20240819T094003Z
LAST-MODIFIED:20240819T094003Z
UID:10535-1714068000-1714068000@scea.cat
SUMMARY:Trobades per escriur -  ciutat i natura
DESCRIPTION:Nova proposta que fem des del projecte “Desperta\, art i natura”\, i de nou ens acull l’entitat amiga del Jardí del Silenci al barri de Gràcia de Barcelona. \nMariana Pellegrini\, una escritora originaria de la Patagonia Argentina\, profesora de literatura y orientadora en procesos creativos literarios\, está de paso por Barcelona\, y hemos organizado este encuentro con ella. Os invitamos a participar en un espacio donde las letras y las palabras se entrelazarán con las emociones y la naturaleza. Le acompañara Irene Cervera. \nLengua vehicular del taller: castellano \nEncuentro abierto y sin coste\, pero es necesaria la inscripción previa para gestionar el espacio!\nOs esperamos\, us esperem!
URL:https://scea.cat/agenda/trobades-per-escriur-ciutat-i-natura/
LOCATION:Jardi del Silenci
ATTACH;FMTTYPE=image/jpeg:https://scea.cat/wp-content/uploads/ninja-forms/7/Desperta_animallatitude_TallerEscripturaabril24.jpg
END:VEVENT
END:VCALENDAR