BEGIN:VCALENDAR
VERSION:2.0
PRODID:-//SCEA - ECPv6.14.0//NONSGML v1.0//EN
CALSCALE:GREGORIAN
METHOD:PUBLISH
X-WR-CALNAME:SCEA
X-ORIGINAL-URL:https://scea.cat
X-WR-CALDESC:Esdeveniments per SCEA
REFRESH-INTERVAL;VALUE=DURATION:PT1H
X-Robots-Tag:noindex
X-PUBLISHED-TTL:PT1H
BEGIN:VTIMEZONE
TZID:Europe/Madrid
BEGIN:DAYLIGHT
TZOFFSETFROM:+0100
TZOFFSETTO:+0200
TZNAME:CEST
DTSTART:20240331T010000
END:DAYLIGHT
BEGIN:STANDARD
TZOFFSETFROM:+0200
TZOFFSETTO:+0100
TZNAME:CET
DTSTART:20241027T010000
END:STANDARD
END:VTIMEZONE
BEGIN:VEVENT
DTSTART;TZID=Europe/Madrid:20241106T180000
DTEND;TZID=Europe/Madrid:20241106T180000
DTSTAMP:20260424T223427
CREATED:20240819T093005Z
LAST-MODIFIED:20240819T093005Z
UID:10897-1730916000-1730916000@scea.cat
SUMMARY:Documental: Seeds of freedom
DESCRIPTION:Les llavors són la base de la nostra alimentació: font de vida\, sense elles no es poden reproduir\nels cultius. S’han convertit\, però\, en una poderosa mercaderia utilitzada per monopolitzar el sistema agrícola industrial a escala mundial\, amb profundes conseqüències ambientals i socials. Les llavors modificades genèticament en són un cas paradigmàtic. En què consisteix aquest negoci? Perquè és tan important la biodiversitat i la conservació de les llavors?\nSi no havies sentit a parlar d’aquest tema i encara no has vist aquest documental\, no te’l perdis! \nCoorganitzat amb la Xarxa d’Horts dels equipaments del districte de Sant Andreu i Can Fontanet
URL:https://scea.cat/agenda/documental-seeds-of-freedom/
LOCATION:Can Fontanet – Centre d’Interpretació dels Tres Tombs de Sant Andreu
ATTACH;FMTTYPE=image/jpeg:https://scea.cat/wp-content/uploads/ninja-forms/7/seedsofreedom-1.jpeg
END:VEVENT
END:VCALENDAR