BEGIN:VCALENDAR
VERSION:2.0
PRODID:-//SCEA - ECPv6.14.0//NONSGML v1.0//EN
CALSCALE:GREGORIAN
METHOD:PUBLISH
X-ORIGINAL-URL:https://scea.cat
X-WR-CALDESC:Esdeveniments per SCEA
REFRESH-INTERVAL;VALUE=DURATION:PT1H
X-Robots-Tag:noindex
X-PUBLISHED-TTL:PT1H
BEGIN:VTIMEZONE
TZID:Europe/Madrid
BEGIN:DAYLIGHT
TZOFFSETFROM:+0100
TZOFFSETTO:+0200
TZNAME:CEST
DTSTART:20240331T010000
END:DAYLIGHT
BEGIN:STANDARD
TZOFFSETFROM:+0200
TZOFFSETTO:+0100
TZNAME:CET
DTSTART:20241027T010000
END:STANDARD
END:VTIMEZONE
BEGIN:VEVENT
DTSTART;TZID=Europe/Madrid:20241107T183000
DTEND;TZID=Europe/Madrid:20241107T183000
DTSTAMP:20260424T223417
CREATED:20241104T083431Z
LAST-MODIFIED:20241104T083431Z
UID:11545-1731004200-1731004200@scea.cat
SUMMARY:Un recorregut per la vida i obra del cèlebre botànic Francis Hallé explicada per ell mateix al Museu de Ciències Naturals de Barcelona
DESCRIPTION:El reconegut biòleg i botànic francès Francis Hallé parlarà de la seva vida i obra en una conversa amb Ana Fraga Ríos\, traductora i especialista en jardineria. El diàleg recorrerà la carrera de l’il•lustre científic\, des del moment en que va decidir dedicar-se al món de les plantes\, seguint pels motius que el van dur a especialitzar-se en els boscos tropicals i l’arquitectura dels arbres fins a les qüestions que l’ocupen actualment que amb 86 anys segueix en actiu amb projectes relacionats amb el bosc primari europeu.
URL:https://scea.cat/agenda/un-recorregut-per-la-vida-i-obra-del-celebre-botanic-francis-halle-explicada-per-ell-mateix-al-museu-de-ciencies-naturals-de-barcelona/
LOCATION:Museu de Ciències Naturals de Barcelona
END:VEVENT
END:VCALENDAR