BEGIN:VCALENDAR
VERSION:2.0
PRODID:-//SCEA - ECPv6.14.0//NONSGML v1.0//EN
CALSCALE:GREGORIAN
METHOD:PUBLISH
X-WR-CALNAME:SCEA
X-ORIGINAL-URL:https://scea.cat
X-WR-CALDESC:Esdeveniments per SCEA
REFRESH-INTERVAL;VALUE=DURATION:PT1H
X-Robots-Tag:noindex
X-PUBLISHED-TTL:PT1H
BEGIN:VTIMEZONE
TZID:Europe/Madrid
BEGIN:DAYLIGHT
TZOFFSETFROM:+0100
TZOFFSETTO:+0200
TZNAME:CEST
DTSTART:20240331T010000
END:DAYLIGHT
BEGIN:STANDARD
TZOFFSETFROM:+0200
TZOFFSETTO:+0100
TZNAME:CET
DTSTART:20241027T010000
END:STANDARD
END:VTIMEZONE
BEGIN:VEVENT
DTSTART;TZID=Europe/Madrid:20241110T093000
DTEND;TZID=Europe/Madrid:20241110T093000
DTSTAMP:20260425T013555
CREATED:20240819T092946Z
LAST-MODIFIED:20240819T092946Z
UID:10902-1731231000-1731231000@scea.cat
SUMMARY:La pedalada de la mobilitat sostenible
DESCRIPTION:Fem de la nostra ciutat\, una ciutat lliure de fum. Vine amb la teva bicicleta\, patinet o patins i participa en la pedalada per una mobilitat sostenible i saludable! Ens veurem a la plaça Ferran Reyes per anar totes juntes fins a la Clariana de Glòries\, on hi haurà preparada una activitat de geocaching per divertir-se en família i saber una mica més sobre l’ecosistema de la Clariana. Preparem-nos per fer sonar el timbre del nostre transport no motoritzat i reivindicar una ciutat més neta i més vivible per les ciutadanes davant la crisi climàtica! \nCoorganitzat amb la XEAB (Xarxa d’Equipaments Ambientals de Barcelona).
URL:https://scea.cat/agenda/la-pedalada-de-la-mobilitat-sostenible-3/
LOCATION:Plaça Ferran Reyes
ATTACH;FMTTYPE=image/jpeg:https://scea.cat/wp-content/uploads/ninja-forms/7/pedalada-scaled.jpg
END:VEVENT
BEGIN:VEVENT
DTSTART;TZID=Europe/Madrid:20241110T093000
DTEND;TZID=Europe/Madrid:20241110T093000
DTSTAMP:20260425T013555
CREATED:20241031T121220Z
LAST-MODIFIED:20241031T121220Z
UID:11523-1731231000-1731231000@scea.cat
SUMMARY:Postals del mar. Cianotípies i algues
DESCRIPTION:La cianotípia és una tècnica fotogràfica que permet crear imatges sense necessitat d’una càmera. Aplicant una emulsió fotosensible sobre paper o altres superficies i gràcies a la llum solar s’obtenen imatges en un blau profund i característic. \nAmb aquest taller es donaran a conèixer les principals caractarístiques de l’ecologia i biologia de les algues del mediterrani i es posarà en pràctica la tècnica fotogràfica de les cianotipies amb algues recollides de la platja i els espigons de Terramar. \nA més\, volem posar en valor el treball de l’Anna Atkins\, una dona científica del segle XIX que ens ajudarà a trencar estereotips de gènere. \nAquesta activitat està organitzada amb la col·laboració de Biosfera Associació d’Educació Ambiental \, que ens introduirà el món de les algues\, i Clara Gassull que ens donarà a conèixer la tècnica de les cianotipies i ens guiarà sobre com dur-la a la pràctica. \nClara Gassul treballa en diversos projectes educatius-artístics vinculats a museus\, espais d’art\, festivals\, escoles\, instituts i altres centres. Coordina el projecte de mediació a escoles i instituts de Can Manyé\, espai d’art i creació contemporània d’Alella\, dissenyant i realitzant les propostes relacionades amb les exposicions. És co-fundadora de LaBabuch (Mérigny\, França)\, un espai cultural en el que tenen lloc trobades\, tallers i residències al voltant de la fotografia.
URL:https://scea.cat/agenda/postals-del-mar-cianotipies-i-algues/
LOCATION:Centre d’Estudis del Mar
END:VEVENT
BEGIN:VEVENT
DTSTART;TZID=Europe/Madrid:20241110T103000
DTEND;TZID=Europe/Madrid:20241110T103000
DTSTAMP:20260425T013555
CREATED:20241105T083023Z
LAST-MODIFIED:20241105T083023Z
UID:11559-1731234600-1731234600@scea.cat
SUMMARY:Plantàstic! Juguem amb les plantes
DESCRIPTION:Us proposem una sortida a la natura diferent: ens divertirem de mil maneres amb les plantes que trobem al nostre entorn. Qui ha dit que les plantes són avorrides? \nQui no ha jugat a bufar angelets? O a fer cabanes? Des d’El Meandre us convidem a una passejada per les Ribes del Ter per descobrir les múltiples propostes de joc que ens ofereix el món vegetal\, tant les més clàssiques (la fulla d’una canya que esdevé un vaixell) o més modernes\, que ens hem inventat. Un apropament lúdic al coneixement de la nostra flora.
URL:https://scea.cat/agenda/plantastic-juguem-amb-les-plantes-2/
LOCATION:La Cellera de Ter
ATTACH;FMTTYPE=image/png:https://scea.cat/wp-content/uploads/2024/11/Plantastic_2_MG.png
END:VEVENT
END:VCALENDAR