BEGIN:VCALENDAR
VERSION:2.0
PRODID:-//SCEA - ECPv6.14.0//NONSGML v1.0//EN
CALSCALE:GREGORIAN
METHOD:PUBLISH
X-ORIGINAL-URL:https://scea.cat
X-WR-CALDESC:Esdeveniments per SCEA
REFRESH-INTERVAL;VALUE=DURATION:PT1H
X-Robots-Tag:noindex
X-PUBLISHED-TTL:PT1H
BEGIN:VTIMEZONE
TZID:Europe/Madrid
BEGIN:DAYLIGHT
TZOFFSETFROM:+0100
TZOFFSETTO:+0200
TZNAME:CEST
DTSTART:20240331T010000
END:DAYLIGHT
BEGIN:STANDARD
TZOFFSETFROM:+0200
TZOFFSETTO:+0100
TZNAME:CET
DTSTART:20241027T010000
END:STANDARD
END:VTIMEZONE
BEGIN:VEVENT
DTSTART;TZID=Europe/Madrid:20241112T170000
DTEND;TZID=Europe/Madrid:20241112T170000
DTSTAMP:20260425T001823
CREATED:20240819T092923Z
LAST-MODIFIED:20240819T092923Z
UID:10907-1731430800-1731430800@scea.cat
SUMMARY:Taller d’upcycling de texans
DESCRIPTION:Porta el texà vell que no et poses i transforma’l. En aquest taller\, aprendrem com allargar la vida dels texans abandonats en el teu armari: fent-ne una nova peça de roba\, decorant-los perquè et tornin a agradar i els puguis tornar a lluir\, o bé convertint-los en un altre producte.\nDe la mà de BackToEco\, aprendrem la importància de la circularitat dins la indústria de la moda i com elles l’apliquen en el seu projecte dia a dia. \nCoorganitzat amb el Centre Cívic Trinitat Vella\, el Centre de Vida Comunitària i el Banc del Temps\nde Trinitat Vella. A càrrec de BackToEco.
URL:https://scea.cat/agenda/taller-dupcycling-de-texans/
LOCATION:Centre Cívic Trinitat Vella
ATTACH;FMTTYPE=image/jpeg:https://scea.cat/wp-content/uploads/ninja-forms/7/backtoeco-1-scaled.jpg
END:VEVENT
END:VCALENDAR