BEGIN:VCALENDAR
VERSION:2.0
PRODID:-//SCEA - ECPv6.14.0//NONSGML v1.0//EN
CALSCALE:GREGORIAN
METHOD:PUBLISH
X-WR-CALNAME:SCEA
X-ORIGINAL-URL:https://scea.cat
X-WR-CALDESC:Esdeveniments per SCEA
REFRESH-INTERVAL;VALUE=DURATION:PT1H
X-Robots-Tag:noindex
X-PUBLISHED-TTL:PT1H
BEGIN:VTIMEZONE
TZID:Europe/Madrid
BEGIN:DAYLIGHT
TZOFFSETFROM:+0100
TZOFFSETTO:+0200
TZNAME:CEST
DTSTART:20250330T010000
END:DAYLIGHT
BEGIN:STANDARD
TZOFFSETFROM:+0200
TZOFFSETTO:+0100
TZNAME:CET
DTSTART:20251026T010000
END:STANDARD
END:VTIMEZONE
BEGIN:VEVENT
DTSTART;TZID=Europe/Madrid:20250118T110000
DTEND;TZID=Europe/Madrid:20250118T110000
DTSTAMP:20260425T013431
CREATED:20241213T085550Z
LAST-MODIFIED:20241213T085550Z
UID:11682-1737198000-1737198000@scea.cat
SUMMARY:Fem Compost
DESCRIPTION:En aquest taller\, aprendrem els conceptes bàsics del compostatge comunitari i farem observació de les caixes compostadores. Us convidem a venir amb matèria orgànica. Seran benvinguts: les restes vegetals\, closques d’ous\, el marro del cafè\, les oueres i els tubs de cartró de cuina i WC. Tot seguit farem entre tots i totes el cribratge del compost madur i us endureu una mostra de compost a casa! \nA càrrec de Dèlia Laurent.
URL:https://scea.cat/agenda/fem-compost/
LOCATION:Casal de barri Torre de la Sagrera
END:VEVENT
END:VCALENDAR