BEGIN:VCALENDAR
VERSION:2.0
PRODID:-//SCEA - ECPv6.14.0//NONSGML v1.0//EN
CALSCALE:GREGORIAN
METHOD:PUBLISH
X-WR-CALNAME:SCEA
X-ORIGINAL-URL:https://scea.cat
X-WR-CALDESC:Esdeveniments per SCEA
REFRESH-INTERVAL;VALUE=DURATION:PT1H
X-Robots-Tag:noindex
X-PUBLISHED-TTL:PT1H
BEGIN:VTIMEZONE
TZID:Europe/Madrid
BEGIN:DAYLIGHT
TZOFFSETFROM:+0100
TZOFFSETTO:+0200
TZNAME:CEST
DTSTART:20250330T010000
END:DAYLIGHT
BEGIN:STANDARD
TZOFFSETFROM:+0200
TZOFFSETTO:+0100
TZNAME:CET
DTSTART:20251026T010000
END:STANDARD
END:VTIMEZONE
BEGIN:VEVENT
DTSTART;TZID=Europe/Madrid:20250212T173000
DTEND;TZID=Europe/Madrid:20250212T173000
DTSTAMP:20260425T030903
CREATED:20241213T085600Z
LAST-MODIFIED:20241213T085600Z
UID:11670-1739381400-1739381400@scea.cat
SUMMARY:Per carnestoltes\, disfresses sostenibles
DESCRIPTION:Sabies que podem aprofitar les capses de cartó\, ampolles de plàstic\, oueres i altres materials que tinguem per casa i que normalment anirien a les escombraries\, per disfressar-nos aquest carnestoltes? Deixa volar la imaginació i vine a fer disfresses reciclades que sorprendran a tothom! \nTots els infants han de venir amb un adult. \nCoorganitzat amb el Centre Cívic de Navas i el PDC de Navas.
URL:https://scea.cat/agenda/per-carnestoltes-disfresses-sostenibles/
LOCATION:Centre Cívic de Navas
END:VEVENT
BEGIN:VEVENT
DTSTART;TZID=Europe/Madrid:20250212T183000
DTEND;TZID=Europe/Madrid:20250212T183000
DTSTAMP:20260425T030903
CREATED:20250207T105020Z
LAST-MODIFIED:20250207T105020Z
UID:11960-1739385000-1739385000@scea.cat
SUMMARY:Geopolítica de l’espai. La batalla pel cosmos
DESCRIPTION:L’exploració espacial ja no és només una cursa científica\, sinó també un escenari de rivalitats polítiques i econòmiques. Qui governarà l’espai? Tenim un marc legislatiu global que eviti les males praxis? Com seran les agències espacials del futur? Quines conseqüències tindrà per a l’òrbita baixa del nostre planeta l’increment exponencial de satèl•lits? Amb quina ètica explorarem l’espai? \nEn la ConversaNat “Geopolítica de l’espai. La batalla pel cosmos” es plantejaran aquestes i altres qüestions amb Joan Anton Català\, astrofísic\, químic quàntic i divulgador científic i conduirà la sessió Roger Escapa\, periodista i director del programa “El Suplement“ de Catalunya Ràdio i de “L’eclipsi” a 3.cat. \nAquesta conversa forma part de “Cartografies de l’Univers”\, un cicle d’astronomia que organitza el Museu de Ciències Naturals de Barcelona que inclou debats\, cinema i una visita de la mà d’un expert a l’Observatori Fabra.
URL:https://scea.cat/agenda/geopolitica-de-lespai-la-batalla-pel-cosmos/
LOCATION:Museu de Ciències Naturals de Barcelona. Parc del Fòrum
END:VEVENT
END:VCALENDAR