BEGIN:VCALENDAR
VERSION:2.0
PRODID:-//SCEA - ECPv6.14.0//NONSGML v1.0//EN
CALSCALE:GREGORIAN
METHOD:PUBLISH
X-ORIGINAL-URL:https://scea.cat
X-WR-CALDESC:Esdeveniments per SCEA
REFRESH-INTERVAL;VALUE=DURATION:PT1H
X-Robots-Tag:noindex
X-PUBLISHED-TTL:PT1H
BEGIN:VTIMEZONE
TZID:Europe/Madrid
BEGIN:DAYLIGHT
TZOFFSETFROM:+0100
TZOFFSETTO:+0200
TZNAME:CEST
DTSTART:20250330T010000
END:DAYLIGHT
BEGIN:STANDARD
TZOFFSETFROM:+0200
TZOFFSETTO:+0100
TZNAME:CET
DTSTART:20251026T010000
END:STANDARD
END:VTIMEZONE
BEGIN:VEVENT
DTSTART;TZID=Europe/Madrid:20250226T180000
DTEND;TZID=Europe/Madrid:20250226T180000
DTSTAMP:20260425T043626
CREATED:20241213T085258Z
LAST-MODIFIED:20241213T085258Z
UID:11702-1740592800-1740592800@scea.cat
SUMMARY:Cinefòrum: “Dos Ríos” de Laura Bermúdez y Anais Taracena
DESCRIPTION:Betty Vásquez\, viu en una comunitat a Hondures que va ser afectada pels huracans Eta i Lota\, al costat d’altres dones\, s’organitzen per a fer front als projectes extractius en el seu territori. María Caal\, defensora Maia Q’eqchi’\, es part de “La Resistència” on diverses famílies s’oposen a una hidroelèctrica que ha entubat els rius en les seves comunitats.Betty viu a Hondures\, María a Guatemala\, sense conèixer-se les uneix una claredat: la defensa dels rius en els seus territoris.\nProtagonistes: María Caal y Betty Vásquez\nDirecció: Laura Bermúdez y Anais Taracena\nDuració: 44 min \nInscripcions: Consultar a cada centre.
URL:https://scea.cat/agenda/cineforum-dos-rios-de-laura-bermudez-y-anais-taracena/
LOCATION:Centre Cívic Navas//Centre Cívic La Sagrera – La Barraca//Can Clariana Cultural
END:VEVENT
END:VCALENDAR