BEGIN:VCALENDAR
VERSION:2.0
PRODID:-//SCEA - ECPv6.14.0//NONSGML v1.0//EN
CALSCALE:GREGORIAN
METHOD:PUBLISH
X-WR-CALNAME:SCEA
X-ORIGINAL-URL:https://scea.cat
X-WR-CALDESC:Esdeveniments per SCEA
REFRESH-INTERVAL;VALUE=DURATION:PT1H
X-Robots-Tag:noindex
X-PUBLISHED-TTL:PT1H
BEGIN:VTIMEZONE
TZID:Europe/Madrid
BEGIN:DAYLIGHT
TZOFFSETFROM:+0100
TZOFFSETTO:+0200
TZNAME:CEST
DTSTART:20250330T010000
END:DAYLIGHT
BEGIN:STANDARD
TZOFFSETFROM:+0200
TZOFFSETTO:+0100
TZNAME:CET
DTSTART:20251026T010000
END:STANDARD
END:VTIMEZONE
BEGIN:VEVENT
DTSTART;TZID=Europe/Madrid:20250306T183000
DTEND;TZID=Europe/Madrid:20250306T183000
DTSTAMP:20260425T043558
CREATED:20250212T103946Z
LAST-MODIFIED:20250212T103946Z
UID:11998-1741285800-1741285800@scea.cat
SUMMARY:ConversaNat.  Hi ha vida més enllà de la Terra? una pregunta mil·lenària al Museu de Ciències Naturals de Barcelona
DESCRIPTION:El títol conté una de les qüestions clau de la humanitat que malgrat tots els esforços que s’hi han dedicat  continua sent un gran misteri. Comptarem amb Marina Martínez\, qui estudia els minerals extraterrestres i amb Ignasi Ribas que estudia exoplanetes similars al nostre. Amb ells farem un repàs a la història de la cerca d’extraterrestres i intentarem obtenir una resposta més aproximada a l’enigma de la seva existència. La conducció de la conversa anirà a càrrec d’Eva van den Berg\, escriptora especialitzada en ciència.
URL:https://scea.cat/agenda/conversanat-hi-ha-vida-mes-enlla-de-la-terra-una-pregunta-millenaria-al-museu-de-ciencies-naturals-de-barcelona/
LOCATION:Museu de Ciències Naturals de Barcelona
END:VEVENT
END:VCALENDAR