BEGIN:VCALENDAR
VERSION:2.0
PRODID:-//SCEA - ECPv6.14.0//NONSGML v1.0//EN
CALSCALE:GREGORIAN
METHOD:PUBLISH
X-ORIGINAL-URL:https://scea.cat
X-WR-CALDESC:Esdeveniments per SCEA
REFRESH-INTERVAL;VALUE=DURATION:PT1H
X-Robots-Tag:noindex
X-PUBLISHED-TTL:PT1H
BEGIN:VTIMEZONE
TZID:Europe/Madrid
BEGIN:DAYLIGHT
TZOFFSETFROM:+0100
TZOFFSETTO:+0200
TZNAME:CEST
DTSTART:20250330T010000
END:DAYLIGHT
BEGIN:STANDARD
TZOFFSETFROM:+0200
TZOFFSETTO:+0100
TZNAME:CET
DTSTART:20251026T010000
END:STANDARD
END:VTIMEZONE
BEGIN:VEVENT
DTSTART;TZID=Europe/Madrid:20250405T100000
DTEND;TZID=Europe/Madrid:20250405T100000
DTSTAMP:20260425T043628
CREATED:20250402T103138Z
LAST-MODIFIED:20250402T103138Z
UID:12232-1743847200-1743847200@scea.cat
SUMMARY:Dibuixem balenes i dofins
DESCRIPTION:Quan dibuixes una balena… dibuixes un catxalot o un rorqual? \nQuan dibuixes un dofí… et surt un tauró? \nSabies que les Costes del Garraf és un espai marí on hi habiten importants comunitats de cetacis? sabies que el dibuix i la pintura són molt útils per per ajudar-nos a observar i interpretar la natura? \nAmb aquest taller de pintura\, l’Associació Cetàcea ens donarà a conèixer el seu projecte d’identificació de cetacis i ens explicarà moltes curiositats sobre com es relacionen aquests animals marins tant fantàstics!. I gràcies a la Il·lustradora Olga Molina aprendrem la tècnica de l’aquarel·la per pintar totes les emocions que ens remou el fet de saber que al mar de casa nostra hi viuen uns éssers tant impressionants com els dofins i les balenes! \nAquesta activitat se suma al projecte Passaport Edunauta promogut per l’Ajuntament de Sitges que treballa per a la igualtat d’oportunitats educatives fora de l’àmbit escolar.
URL:https://scea.cat/agenda/dibuixem-balenes-i-dofins/
END:VEVENT
BEGIN:VEVENT
DTSTART;TZID=Europe/Madrid:20250405T103000
DTEND;TZID=Europe/Madrid:20250405T103000
DTSTAMP:20260425T043628
CREATED:20250402T092720Z
LAST-MODIFIED:20250402T112249Z
UID:12223-1743849000-1743849000@scea.cat
SUMMARY:Ecojugateca: les plantes aromàtiques
DESCRIPTION:Us presentem una novetat per a la mainada: una jugateca ambiental per apropar-se a la natura de manera experimental i divertida.  En aquesta ocasió dedicada a les plantes aromàtiques (cada mes\, un tema). \nTres propostes creatives (manualitats per emportar-se a casa)\, una petita passejada olfativa\, espai de joc lliure amb elements naturals\, racó de lectura i molt més! Amb l’Alba\, art-terapeuta.
URL:https://scea.cat/agenda/ecojugateca-les-plantes-aromatiques-3/
LOCATION:A la natura (La Cellera de Ter)
ATTACH;FMTTYPE=image/png:https://scea.cat/wp-content/uploads/2025/04/Ecojugateca_4_5.png
END:VEVENT
END:VCALENDAR