BEGIN:VCALENDAR
VERSION:2.0
PRODID:-//SCEA - ECPv6.14.0//NONSGML v1.0//EN
CALSCALE:GREGORIAN
METHOD:PUBLISH
X-WR-CALNAME:SCEA
X-ORIGINAL-URL:https://scea.cat
X-WR-CALDESC:Esdeveniments per SCEA
REFRESH-INTERVAL;VALUE=DURATION:PT1H
X-Robots-Tag:noindex
X-PUBLISHED-TTL:PT1H
BEGIN:VTIMEZONE
TZID:Europe/Madrid
BEGIN:DAYLIGHT
TZOFFSETFROM:+0100
TZOFFSETTO:+0200
TZNAME:CEST
DTSTART:20250330T010000
END:DAYLIGHT
BEGIN:STANDARD
TZOFFSETFROM:+0200
TZOFFSETTO:+0100
TZNAME:CET
DTSTART:20251026T010000
END:STANDARD
END:VTIMEZONE
BEGIN:VEVENT
DTSTART;TZID=Europe/Madrid:20250517T100000
DTEND;TZID=Europe/Madrid:20250517T100000
DTSTAMP:20260425T135720
CREATED:20250318T071309Z
LAST-MODIFIED:20250318T071309Z
UID:12133-1747476000-1747476000@scea.cat
SUMMARY:Festa hortera
DESCRIPTION:Ens trobem per celebrar els espais verds de la ciutat i la feina de totes aquelles persones que tenen relació i implicació amb els horts al districte de Sant Andreu. Un matí on compartirem coneixements\, inquietuds\, aprenentatges i eines sobre el món de l’horticultura urbana.\nNo us ho perdeu i veniu a la festa hortera\, una celebració on tothom té cabuda! \nDinamitzat i coorganitzat per la Xarxa d’Horts dels Equipaments del districte de Sant Andreu. \nInformació per inscriure’s a l’Aula Ambiental de Sant Andreu (santandreuambeintal@bcn.cat / 699 902 359)
URL:https://scea.cat/agenda/festa-hortera-2/
LOCATION:Centre Cívic i Espai de Gent Gran Baró de Viver
END:VEVENT
END:VCALENDAR