BEGIN:VCALENDAR
VERSION:2.0
PRODID:-//SCEA - ECPv6.14.0//NONSGML v1.0//EN
CALSCALE:GREGORIAN
METHOD:PUBLISH
X-ORIGINAL-URL:https://scea.cat
X-WR-CALDESC:Esdeveniments per SCEA
REFRESH-INTERVAL;VALUE=DURATION:PT1H
X-Robots-Tag:noindex
X-PUBLISHED-TTL:PT1H
BEGIN:VTIMEZONE
TZID:Europe/Madrid
BEGIN:DAYLIGHT
TZOFFSETFROM:+0100
TZOFFSETTO:+0200
TZNAME:CEST
DTSTART:20250330T010000
END:DAYLIGHT
BEGIN:STANDARD
TZOFFSETFROM:+0200
TZOFFSETTO:+0100
TZNAME:CET
DTSTART:20251026T010000
END:STANDARD
END:VTIMEZONE
BEGIN:VEVENT
DTSTART;TZID=Europe/Madrid:20250528T180000
DTEND;TZID=Europe/Madrid:20250528T193000
DTSTAMP:20260422T042326
CREATED:20250402T114248Z
LAST-MODIFIED:20250402T114248Z
UID:12259-1748455200-1748460600@scea.cat
SUMMARY:Remeis naturals per a la perimenopausa i menopausa
DESCRIPTION:Des d’un enfocament integratiu\, en aquesta xerrada explorarem els canvis que es produeixen durant la perimenopausa i la menopausa i aprendrem a gestionar-los amb algunes eines naturals que ens ajudaran a la millora del nostre benestar. \nVeurem plantes medicinals\, olis essencials\, alimentació i complements naturals específiques per aquestes etapes i acabarem amb una breu tertúlia prenent una infusió de germanor. \nA càrrec de Nerea Iraragorri\, d’Amalur El jardí medicinal. \nActivitat dirigida a dones i persones menstruants. \nEmmarcada en el Dia Internacional d’Acció per a la Salut de les Dones. \nInscripcions a través d’aquest enllaç.
URL:https://scea.cat/agenda/remeis-naturals-per-a-la-perimenopausa-i-menopausa/
LOCATION:Aula Ambiental Bosc Turull\, Passeig de Turull\, 2\, Barcelona\, Barcelona\, 08023\, Spain
CATEGORIES:Destacat
ORGANIZER;CN="Aula Ambiental Bosc Turull":MAILTO:aula@boscturull.cat
END:VEVENT
END:VCALENDAR